BEGIN:VCALENDAR
VERSION:2.0
PRODID:-//Crocoule - ECPv6.15.15//NONSGML v1.0//EN
CALSCALE:GREGORIAN
METHOD:PUBLISH
X-ORIGINAL-URL:https://crocoule.org
X-WR-CALDESC:Évènements pour Crocoule
REFRESH-INTERVAL;VALUE=DURATION:PT1H
X-Robots-Tag:noindex
X-PUBLISHED-TTL:PT1H
BEGIN:VTIMEZONE
TZID:Europe/Paris
BEGIN:DAYLIGHT
TZOFFSETFROM:+0100
TZOFFSETTO:+0200
TZNAME:CEST
DTSTART:20250330T010000
END:DAYLIGHT
BEGIN:STANDARD
TZOFFSETFROM:+0200
TZOFFSETTO:+0100
TZNAME:CET
DTSTART:20251026T010000
END:STANDARD
BEGIN:DAYLIGHT
TZOFFSETFROM:+0100
TZOFFSETTO:+0200
TZNAME:CEST
DTSTART:20260329T010000
END:DAYLIGHT
BEGIN:STANDARD
TZOFFSETFROM:+0200
TZOFFSETTO:+0100
TZNAME:CET
DTSTART:20261025T010000
END:STANDARD
BEGIN:DAYLIGHT
TZOFFSETFROM:+0100
TZOFFSETTO:+0200
TZNAME:CEST
DTSTART:20270328T010000
END:DAYLIGHT
BEGIN:STANDARD
TZOFFSETFROM:+0200
TZOFFSETTO:+0100
TZNAME:CET
DTSTART:20271031T010000
END:STANDARD
END:VTIMEZONE
BEGIN:VEVENT
DTSTART;TZID=Europe/Paris:20260404T090000
DTEND;TZID=Europe/Paris:20260420T170000
DTSTAMP:20260420T095141
CREATED:20260228T171321Z
LAST-MODIFIED:20260228T171321Z
UID:10012861-1775293200-1776704400@crocoule.org
SUMMARY:Sain-Etienne | Ateliers escalade
DESCRIPTION:Un cours collectif tout compris avec un moniteur : des sessions d’escalade ludiques et pédagogiques pour découvrir ou redécouvrir cette activité.\nIdéal pour découvrir\, s’amuser et progresser en escalade. Convient aussi bien aux débutants qu’aux petits grimpeurs déjà aguerris à la pratique.
URL:https://crocoule.org/notre-evenement/sain-etienne-ateliers-escalade-5/
LOCATION:Climb up\, 9 Esplanade Bénévent\, Accès par 19\, allée Jean Lauer\, Saint Etienne
CATEGORIES:04 ans +,06 ans +,09 ans +,Tous les événements
END:VEVENT
BEGIN:VEVENT
DTSTART;TZID=Europe/Paris:20260410T140000
DTEND;TZID=Europe/Paris:20260410T160000
DTSTAMP:20260420T095141
CREATED:20260228T181552Z
LAST-MODIFIED:20260228T181552Z
UID:10012929-1775829600-1775836800@crocoule.org
SUMMARY:Rochetaillée | Cabanes en forêts de Salvaris
DESCRIPTION:Qui n’a jamais rêvé de construire une cabane en pleine nature et de pouvoir jouer les Robinson Crusoé l’espace d’une après-midi. Si cette aventure passionnante et enrichissante vous tente alors n’hésitez pas à vous inscrire en famille.
URL:https://crocoule.org/notre-evenement/rochetaillee-cabanes-en-forets-de-salvaris/
CATEGORIES:04 ans +,Tous les événements
ATTACH;FMTTYPE=image/jpeg:https://crocoule.org/wp-content/uploads/2026/02/th-1920x1000-actu_rdvnature.jpg-R8DGg6.jpg
END:VEVENT
BEGIN:VEVENT
DTSTART;TZID=Europe/Paris:20260410T193000
DTEND;TZID=Europe/Paris:20260410T213000
DTSTAMP:20260420T095141
CREATED:20260228T171851Z
LAST-MODIFIED:20260228T171851Z
UID:10012881-1775849400-1775856600@crocoule.org
SUMMARY:Saint MARCELLIN en forez  | BLIND TEST MUSICAL en Famille
DESCRIPTION:Je m’adapte aux âges et aux préférences des participants afin de creer une playlist personnalisee
URL:https://crocoule.org/notre-evenement/saint-marcellin-en-forez-blind-test-musical-en-famille/
LOCATION:la cabane o ptites merveilles\, 11 place des combattants\, St Marcellin\, 42680\, France
CATEGORIES:04 ans +,Tous les événements
END:VEVENT
END:VCALENDAR