BEGIN:VCALENDAR
VERSION:2.0
PRODID:-//Crocoule - ECPv6.15.15//NONSGML v1.0//EN
CALSCALE:GREGORIAN
METHOD:PUBLISH
X-ORIGINAL-URL:https://crocoule.org
X-WR-CALDESC:Évènements pour Crocoule
REFRESH-INTERVAL;VALUE=DURATION:PT1H
X-Robots-Tag:noindex
X-PUBLISHED-TTL:PT1H
BEGIN:VTIMEZONE
TZID:Europe/Paris
BEGIN:DAYLIGHT
TZOFFSETFROM:+0100
TZOFFSETTO:+0200
TZNAME:CEST
DTSTART:20250330T010000
END:DAYLIGHT
BEGIN:STANDARD
TZOFFSETFROM:+0200
TZOFFSETTO:+0100
TZNAME:CET
DTSTART:20251026T010000
END:STANDARD
BEGIN:DAYLIGHT
TZOFFSETFROM:+0100
TZOFFSETTO:+0200
TZNAME:CEST
DTSTART:20260329T010000
END:DAYLIGHT
BEGIN:STANDARD
TZOFFSETFROM:+0200
TZOFFSETTO:+0100
TZNAME:CET
DTSTART:20261025T010000
END:STANDARD
BEGIN:DAYLIGHT
TZOFFSETFROM:+0100
TZOFFSETTO:+0200
TZNAME:CEST
DTSTART:20270328T010000
END:DAYLIGHT
BEGIN:STANDARD
TZOFFSETFROM:+0200
TZOFFSETTO:+0100
TZNAME:CET
DTSTART:20271031T010000
END:STANDARD
END:VTIMEZONE
BEGIN:VEVENT
DTSTART;TZID=Europe/Paris:20260404T090000
DTEND;TZID=Europe/Paris:20260420T170000
DTSTAMP:20260420T080450
CREATED:20260228T171321Z
LAST-MODIFIED:20260228T171321Z
UID:10012861-1775293200-1776704400@crocoule.org
SUMMARY:Sain-Etienne | Ateliers escalade
DESCRIPTION:Un cours collectif tout compris avec un moniteur : des sessions d’escalade ludiques et pédagogiques pour découvrir ou redécouvrir cette activité.\nIdéal pour découvrir\, s’amuser et progresser en escalade. Convient aussi bien aux débutants qu’aux petits grimpeurs déjà aguerris à la pratique.
URL:https://crocoule.org/notre-evenement/sain-etienne-ateliers-escalade-5/
LOCATION:Climb up\, 9 Esplanade Bénévent\, Accès par 19\, allée Jean Lauer\, Saint Etienne
CATEGORIES:04 ans +,06 ans +,09 ans +,Tous les événements
END:VEVENT
BEGIN:VEVENT
DTSTART;TZID=Europe/Paris:20260404T103000
DTEND;TZID=Europe/Paris:20260404T120000
DTSTAMP:20260420T080450
CREATED:20260228T171850Z
LAST-MODIFIED:20260228T171850Z
UID:10012877-1775298600-1775304000@crocoule.org
SUMMARY:Saint MARCELLIN en forez  | Decouverte Jeux de société
DESCRIPTION:Je m’adapte aux âges et aux envies pour vous proposer de jouer ensemble à différents jeux de société
URL:https://crocoule.org/notre-evenement/saint-marcellin-en-forez-decouverte-jeux-de-societe-3/
LOCATION:la cabane o ptites merveilles\, 11 place des combattants\, St Marcellin\, 42680\, France
CATEGORIES:04 ans +,Tous les événements
END:VEVENT
BEGIN:VEVENT
DTSTART;TZID=Europe/Paris:20260404T150000
DTEND;TZID=Europe/Paris:20260404T163000
DTSTAMP:20260420T080450
CREATED:20260301T105326Z
LAST-MODIFIED:20260402T101354Z
UID:10013000-1775314800-1775320200@crocoule.org
SUMMARY:Saint etienne | Atelier Créatif Enfant Animaux coquilles Saint Jacques
DESCRIPTION:Création d’animaux en partant de coquilles Saint Jacques
URL:https://crocoule.org/notre-evenement/saint-etienne-atelier-creatif-enfant-animaux-coquilles-saint-jacques/
LOCATION:Kit Création\, 4 Rue Philippon\, St Etienne\, 42000\, France
CATEGORIES:04 ans +,Activité en semaine,Activité pendant les vacances,Intérieur,Tous les événements
ATTACH;FMTTYPE=image/webp:https://crocoule.org/wp-content/uploads/2026/03/mars.jpeg-vy70Ot.webp
END:VEVENT
BEGIN:VEVENT
DTSTART;TZID=Europe/Paris:20260404T173000
DTEND;TZID=Europe/Paris:20260404T183000
DTSTAMP:20260420T080450
CREATED:20251120T082216Z
LAST-MODIFIED:20260228T174335Z
UID:10012437-1775323800-1775327400@crocoule.org
SUMMARY:Les Villettes | Les dimanches contés de Konsl'Diz
DESCRIPTION:Un rendez-vous à ne pas manquer… pour petits et grands rêveurs.
URL:https://crocoule.org/notre-evenement/les-villettes-les-dimanches-contes-de-konsldiz-11/
LOCATION:L’enjoliverie Les Villettes\, 14 ZA Lachaud\, Les Villettes\, 43600\, France
CATEGORIES:04 ans +,Tous les événements
END:VEVENT
END:VCALENDAR