BEGIN:VCALENDAR
VERSION:2.0
PRODID:-//Crocoule - ECPv6.15.15//NONSGML v1.0//EN
CALSCALE:GREGORIAN
METHOD:PUBLISH
X-ORIGINAL-URL:https://crocoule.org
X-WR-CALDESC:Évènements pour Crocoule
REFRESH-INTERVAL;VALUE=DURATION:PT1H
X-Robots-Tag:noindex
X-PUBLISHED-TTL:PT1H
BEGIN:VTIMEZONE
TZID:Europe/Paris
BEGIN:DAYLIGHT
TZOFFSETFROM:+0100
TZOFFSETTO:+0200
TZNAME:CEST
DTSTART:20250330T010000
END:DAYLIGHT
BEGIN:STANDARD
TZOFFSETFROM:+0200
TZOFFSETTO:+0100
TZNAME:CET
DTSTART:20251026T010000
END:STANDARD
BEGIN:DAYLIGHT
TZOFFSETFROM:+0100
TZOFFSETTO:+0200
TZNAME:CEST
DTSTART:20260329T010000
END:DAYLIGHT
BEGIN:STANDARD
TZOFFSETFROM:+0200
TZOFFSETTO:+0100
TZNAME:CET
DTSTART:20261025T010000
END:STANDARD
BEGIN:DAYLIGHT
TZOFFSETFROM:+0100
TZOFFSETTO:+0200
TZNAME:CEST
DTSTART:20270328T010000
END:DAYLIGHT
BEGIN:STANDARD
TZOFFSETFROM:+0200
TZOFFSETTO:+0100
TZNAME:CET
DTSTART:20271031T010000
END:STANDARD
END:VTIMEZONE
BEGIN:VEVENT
DTSTART;TZID=Europe/Paris:20260401T090000
DTEND;TZID=Europe/Paris:20260401T100000
DTSTAMP:20260420T095037
CREATED:20260228T144255Z
LAST-MODIFIED:20260228T200916Z
UID:10012788-1775034000-1775037600@crocoule.org
SUMMARY:Saint-Étienne | Atelier "Jeux d'optique"
DESCRIPTION:EN TRIBU. Dis comment fait-on les dessins animés ? Petits et grands construisent ensemble deux jeux d’optique pour mettre des images en mouvement.
URL:https://crocoule.org/notre-evenement/saint-etienne-atelier-jeux-doptique/
CATEGORIES:03 ans +,04 ans +,05 ans +,06 ans +,Activité en semaine,Activité pendant les vacances,En famille,Tous les événements
ATTACH;FMTTYPE=image/jpeg:https://crocoule.org/wp-content/uploads/2026/02/IMG_20240110_102813_edit_136016121576640-min-min-e1756283751725-MOAWD2.jpg
END:VEVENT
BEGIN:VEVENT
DTSTART;TZID=Europe/Paris:20260401T103000
DTEND;TZID=Europe/Paris:20260401T113000
DTSTAMP:20260420T095037
CREATED:20260228T144256Z
LAST-MODIFIED:20260228T200916Z
UID:10012789-1775039400-1775043000@crocoule.org
SUMMARY:Saint-Étienne | Atelier "Jeux d'optique"
DESCRIPTION:EN TRIBU. Dis comment fait-on les dessins animés ? Petits et grands construisent ensemble deux jeux d’optique pour mettre des images en mouvement.
URL:https://crocoule.org/notre-evenement/saint-etienne-atelier-jeux-doptique-2/
CATEGORIES:03 ans +,04 ans +,05 ans +,06 ans +,Activité en semaine,Activité pendant les vacances,En famille,Tous les événements
ATTACH;FMTTYPE=image/jpeg:https://crocoule.org/wp-content/uploads/2026/02/IMG_20240110_102813_edit_136016121576640-min-min-e1756283751725-MOAWD2.jpg
END:VEVENT
BEGIN:VEVENT
DTSTART;TZID=Europe/Paris:20260401T140000
DTEND;TZID=Europe/Paris:20260401T173000
DTSTAMP:20260420T095037
CREATED:20260301T112050Z
LAST-MODIFIED:20260301T112106Z
UID:10013040-1775052000-1775064600@crocoule.org
SUMMARY:Saint-Galmier | Les Goûters créatifs en duo ou trio
DESCRIPTION:– 4 ans + – 15 € – 14h00-15h30  ou 16h00-17h30\nCompose un duo ou un trio : ami/amie\, Soeur/ frère mère/père\, grand-mère/père\, tante/Oncle et installe-toi à une table et la Cré’Animatrice va vous accompagner pour un moment de création partagée et gourmand !\nsur réservation : 06 83 92 62 48 \n42 330 Saint- Galmier – Boutique de Créateurs – Animations créatives et gourmandes
URL:https://crocoule.org/notre-evenement/saint-galmier-les-gouters-creatifs-en-duo-ou-trio-9/
CATEGORIES:04 ans +,Activité en semaine,En famille,Intérieur,Tous les événements
END:VEVENT
BEGIN:VEVENT
DTSTART;TZID=Europe/Paris:20260401T150000
DTEND;TZID=Europe/Paris:20260401T170000
DTSTAMP:20260420T095037
CREATED:20260302T132031Z
LAST-MODIFIED:20260305T094754Z
UID:10013298-1775055600-1775062800@crocoule.org
SUMMARY:Le Puy-en-Velay | Tricot-crochet
DESCRIPTION:Ateliers tricot-crochet avec Bernadette et ses copines !
URL:https://crocoule.org/notre-evenement/le-puy-en-velay-tricot-crochet-5/
LOCATION:Le P’tit Café – Le Puy En Velay\, 25 pl du marché couvert\, Le Puy-en-Velay\, 43000\, France
CATEGORIES:04 ans +,Activité en semaine,Adultes,En famille,Intérieur,Tous les événements
END:VEVENT
END:VCALENDAR