BEGIN:VCALENDAR
VERSION:2.0
PRODID:-//Crocoule - ECPv6.15.15//NONSGML v1.0//EN
CALSCALE:GREGORIAN
METHOD:PUBLISH
X-WR-CALNAME:Crocoule
X-ORIGINAL-URL:https://crocoule.org
X-WR-CALDESC:Évènements pour Crocoule
REFRESH-INTERVAL;VALUE=DURATION:PT1H
X-Robots-Tag:noindex
X-PUBLISHED-TTL:PT1H
BEGIN:VTIMEZONE
TZID:Europe/Paris
BEGIN:DAYLIGHT
TZOFFSETFROM:+0100
TZOFFSETTO:+0200
TZNAME:CEST
DTSTART:20250330T010000
END:DAYLIGHT
BEGIN:STANDARD
TZOFFSETFROM:+0200
TZOFFSETTO:+0100
TZNAME:CET
DTSTART:20251026T010000
END:STANDARD
BEGIN:DAYLIGHT
TZOFFSETFROM:+0100
TZOFFSETTO:+0200
TZNAME:CEST
DTSTART:20260329T010000
END:DAYLIGHT
BEGIN:STANDARD
TZOFFSETFROM:+0200
TZOFFSETTO:+0100
TZNAME:CET
DTSTART:20261025T010000
END:STANDARD
BEGIN:DAYLIGHT
TZOFFSETFROM:+0100
TZOFFSETTO:+0200
TZNAME:CEST
DTSTART:20270328T010000
END:DAYLIGHT
BEGIN:STANDARD
TZOFFSETFROM:+0200
TZOFFSETTO:+0100
TZNAME:CET
DTSTART:20271031T010000
END:STANDARD
END:VTIMEZONE
BEGIN:VEVENT
DTSTART;TZID=Europe/Paris:20260301T140000
DTEND;TZID=Europe/Paris:20260419T180000
DTSTAMP:20260421T202838
CREATED:20260228T172835Z
LAST-MODIFIED:20260228T172835Z
UID:10012909-1772373600-1776621600@crocoule.org
SUMMARY:Saint-Étienne | La Cabane du vivant
DESCRIPTION:La Cabane du vivant propose aux enfants la découverte d’un bassin d’aquaponie et l’importance du vivant en tant que source d’inspiration des designers. Par ailleurs\, la designer Leïla Bouyssou est invitée à présenter son projet Into the wool\, qui explore la filière des laines oubliées. Cette exposition s’accompagne d’un atelier de feutrage collectif\, en accès libre dès 7 ans.\nHoraires d’ouverture de la Cabane-accès libre et gratuit\nMardi jeudi et vendredi : 16h-18h\nMercredi\, samedi et dimanche : 14h-18h\nFermeture les lundis ainsi que les 1er et 8 mai et jeudi de l’ascension
URL:https://crocoule.org/notre-evenement/saint-etienne-la-cabane-du-vivant-2/
LOCATION:La Cabane – Cité du design\, 5 rue Javellin Pagnon\, Saint-Etienne\, 42000
CATEGORIES:03 ans +,Tous les événements
END:VEVENT
BEGIN:VEVENT
DTSTART;TZID=Europe/Paris:20260301T140000
DTEND;TZID=Europe/Paris:20261231T180000
DTSTAMP:20260421T202838
CREATED:20260228T172831Z
LAST-MODIFIED:20260228T172831Z
UID:10012905-1772373600-1798740000@crocoule.org
SUMMARY:Saint-Étienne | La Cabane
DESCRIPTION:La Cabane propose aux enfants de se glisser dans la peau d’un designer : mais que se passe-t-il dans la tête d’un designer ? Que fait-il ? Comment le fait-il ? Pourquoi ? Et pour qui ?\nVenez (re)découvrir tous nos ateliers en autonomie dès 3 ans :\n– La forme et la fonction\, pour assembler des modules et créer des formes\n– La matière et le projet\, pour apprendre à façonner un projet à partir d’un cahier des charges\nHoraires\n– mardi\, jeudi et vendredi de 16h à 18h\n– mercredi\, samedi et dimanche de 14h à 18h\nPendant les vacances scolaires\n– mardi de 16h à 18h\n– du mercredi au dimanche de 14h à 18h\nRenseignements\nMail : lacabane@citedudesign.com\nTél : 04 77 49 74 70\nFermeture les lundis ainsi que le 1er janvier\, 1er et 8 mai\, jeudi de l’ascension\, 14 juillet\, 15 août\, 1er et 11 novembre et les 24 et 25 décembre
URL:https://crocoule.org/notre-evenement/saint-etienne-la-cabane-2/
LOCATION:La Cabane – Cité du design\, 5 rue Javellin Pagnon\, Saint-Etienne\, 42000
CATEGORIES:03 ans +,Tous les événements
ATTACH;FMTTYPE=image/jpeg:https://crocoule.org/wp-content/uploads/2025/12/68d3fe3539f53-xD0qiu.jpg
END:VEVENT
BEGIN:VEVENT
DTSTART;TZID=Europe/Paris:20260301T140000
DTEND;TZID=Europe/Paris:20261231T180000
DTSTAMP:20260421T202838
CREATED:20260228T172831Z
LAST-MODIFIED:20260228T172831Z
UID:10012906-1772373600-1798740000@crocoule.org
SUMMARY:Saint-Étienne | La forme et la fonction
DESCRIPTION:Un atelier en autonomie\, accessible dès 3 ans\, pour assembler des modules et créer des formes. Horaires d’ouverture de la Cabane-accès libre et gratuit\nMardi jeudi et vendredi : 16h-18h\nMercredi\, samedi et dimanche : 14h-18h\nFermeture les lundis ainsi que les 1er et 8 mai et jeudi de l’ascension
URL:https://crocoule.org/notre-evenement/saint-etienne-la-forme-et-la-fonction/
LOCATION:La Cabane – Cité du design\, 5 rue Javellin Pagnon\, Saint-Etienne\, 42000
CATEGORIES:03 ans +,Tous les événements
ATTACH;FMTTYPE=image/jpeg:https://crocoule.org/wp-content/uploads/2026/02/site_68d3fe3539f53-txWSSm.jpg
END:VEVENT
BEGIN:VEVENT
DTSTART;TZID=Europe/Paris:20260301T140000
DTEND;TZID=Europe/Paris:20261231T180000
DTSTAMP:20260421T202838
CREATED:20260228T172834Z
LAST-MODIFIED:20260228T172834Z
UID:10012907-1772373600-1798740000@crocoule.org
SUMMARY:Saint-Étienne | La matière et le projet
DESCRIPTION:Un atelier en autonomie\, accessible dès 3 ans\, pour apprendre à façonner un projet à partir d’un cahier des charges. Horaires d’ouverture de la Cabane-accès libre et gratuit\nMardi jeudi et vendredi : 16h-18h\nMercredi\, samedi et dimanche : 14h-18h\nFermeture les lundis ainsi que les 1er et 8 mai et jeudi de l’ascension
URL:https://crocoule.org/notre-evenement/saint-etienne-la-matiere-et-le-projet/
LOCATION:La Cabane – Cité du design\, 5 rue Javellin Pagnon\, Saint-Etienne\, 42000
CATEGORIES:03 ans +,Tous les événements
END:VEVENT
BEGIN:VEVENT
DTSTART;TZID=Europe/Paris:20260301T140000
DTEND;TZID=Europe/Paris:20261231T180000
DTSTAMP:20260421T202838
CREATED:20260228T172835Z
LAST-MODIFIED:20260228T172835Z
UID:10012908-1772373600-1798740000@crocoule.org
SUMMARY:Saint-Étienne | La petite usine
DESCRIPTION:Un atelier en autonomie\, accessible dès 3 ans\, pour découvrir une chaine de fabrication\, composée de machines miniatures.\nHoraires d’ouverture de la Cabane-accès libre et gratuit\nMardi jeudi et vendredi : 16h-18h\nMercredi\, samedi et dimanche : 14h-18h\nFermeture les lundis ainsi que les 1er et 8 mai et jeudi de l’ascension
URL:https://crocoule.org/notre-evenement/saint-etienne-la-petite-usine-2/
LOCATION:La Cabane – Cité du design\, 5 rue Javellin Pagnon\, Saint-Etienne\, 42000
CATEGORIES:03 ans +,Tous les événements
END:VEVENT
BEGIN:VEVENT
DTSTART;TZID=Europe/Paris:20260401T090000
DTEND;TZID=Europe/Paris:20260401T100000
DTSTAMP:20260421T202838
CREATED:20260228T144255Z
LAST-MODIFIED:20260228T200916Z
UID:10012788-1775034000-1775037600@crocoule.org
SUMMARY:Saint-Étienne | Atelier "Jeux d'optique"
DESCRIPTION:EN TRIBU. Dis comment fait-on les dessins animés ? Petits et grands construisent ensemble deux jeux d’optique pour mettre des images en mouvement.
URL:https://crocoule.org/notre-evenement/saint-etienne-atelier-jeux-doptique/
CATEGORIES:03 ans +,04 ans +,05 ans +,06 ans +,Activité en semaine,Activité pendant les vacances,En famille,Tous les événements
ATTACH;FMTTYPE=image/jpeg:https://crocoule.org/wp-content/uploads/2026/02/IMG_20240110_102813_edit_136016121576640-min-min-e1756283751725-MOAWD2.jpg
END:VEVENT
BEGIN:VEVENT
DTSTART;TZID=Europe/Paris:20260401T100000
DTEND;TZID=Europe/Paris:20260401T180000
DTSTAMP:20260421T202838
CREATED:20260302T131957Z
LAST-MODIFIED:20260305T094739Z
UID:10013279-1775037600-1775066400@crocoule.org
SUMMARY:Le Puy-en-Velay | Les mercredis on joue !
DESCRIPTION:De nouveaux jeux de la Ludothèque\, à partager seul.e ou en famille\, pour grands et petits. L’occasion de découvrir ou redécouvrir le p’tit Café\, ce lieu d’accueil chaleureux pour les familles.
URL:https://crocoule.org/notre-evenement/le-puy-en-velay-les-mercredis-on-joue-17/
LOCATION:Le P’tit Café – Le Puy En Velay\, 25 pl du marché couvert\, Le Puy-en-Velay\, 43000\, France
CATEGORIES:03 ans +,Activité en semaine,Activité pendant les vacances,Adultes,En famille,Gratuit,Intérieur,Tous les événements
END:VEVENT
BEGIN:VEVENT
DTSTART;TZID=Europe/Paris:20260401T103000
DTEND;TZID=Europe/Paris:20260401T113000
DTSTAMP:20260421T202838
CREATED:20260228T144256Z
LAST-MODIFIED:20260228T200916Z
UID:10012789-1775039400-1775043000@crocoule.org
SUMMARY:Saint-Étienne | Atelier "Jeux d'optique"
DESCRIPTION:EN TRIBU. Dis comment fait-on les dessins animés ? Petits et grands construisent ensemble deux jeux d’optique pour mettre des images en mouvement.
URL:https://crocoule.org/notre-evenement/saint-etienne-atelier-jeux-doptique-2/
CATEGORIES:03 ans +,04 ans +,05 ans +,06 ans +,Activité en semaine,Activité pendant les vacances,En famille,Tous les événements
ATTACH;FMTTYPE=image/jpeg:https://crocoule.org/wp-content/uploads/2026/02/IMG_20240110_102813_edit_136016121576640-min-min-e1756283751725-MOAWD2.jpg
END:VEVENT
BEGIN:VEVENT
DTSTART;TZID=Europe/Paris:20260401T103000
DTEND;TZID=Europe/Paris:20260401T120000
DTSTAMP:20260421T202838
CREATED:20260228T171836Z
LAST-MODIFIED:20260228T171836Z
UID:10012875-1775039400-1775044800@crocoule.org
SUMMARY:Saint MARCELLIN en forez  | Poissons d'avril
DESCRIPTION:Viens t’amuser à imaginer des poissons rigolos que tu pourras coller dans le dos de ta famille
URL:https://crocoule.org/notre-evenement/saint-marcellin-en-forez-poissons-davril/
LOCATION:la cabane o ptites merveilles\, 11 place des combattants\, St Marcellin\, 42680\, France
CATEGORIES:03 ans +,Tous les événements
END:VEVENT
BEGIN:VEVENT
DTSTART;TZID=Europe/Paris:20260401T150000
DTEND;TZID=Europe/Paris:20260401T163000
DTSTAMP:20260421T202838
CREATED:20260228T171836Z
LAST-MODIFIED:20260228T171836Z
UID:10012876-1775055600-1775061000@crocoule.org
SUMMARY:Saint MARCELLIN en forez  | Poissons d'avril
DESCRIPTION:Viens t’amuser à imaginer des poissons rigolos que tu pourras coller dans le dos de ta famille
URL:https://crocoule.org/notre-evenement/saint-marcellin-en-forez-poissons-davril-2/
LOCATION:la cabane o ptites merveilles\, 11 place des combattants\, St Marcellin\, 42680\, France
CATEGORIES:03 ans +,Tous les événements
END:VEVENT
END:VCALENDAR