BEGIN:VCALENDAR
VERSION:2.0
PRODID:-//Crocoule - ECPv6.15.15//NONSGML v1.0//EN
CALSCALE:GREGORIAN
METHOD:PUBLISH
X-WR-CALNAME:Crocoule
X-ORIGINAL-URL:https://crocoule.org
X-WR-CALDESC:Évènements pour Crocoule
REFRESH-INTERVAL;VALUE=DURATION:PT1H
X-Robots-Tag:noindex
X-PUBLISHED-TTL:PT1H
BEGIN:VTIMEZONE
TZID:Europe/Paris
BEGIN:DAYLIGHT
TZOFFSETFROM:+0100
TZOFFSETTO:+0200
TZNAME:CEST
DTSTART:20250330T010000
END:DAYLIGHT
BEGIN:STANDARD
TZOFFSETFROM:+0200
TZOFFSETTO:+0100
TZNAME:CET
DTSTART:20251026T010000
END:STANDARD
BEGIN:DAYLIGHT
TZOFFSETFROM:+0100
TZOFFSETTO:+0200
TZNAME:CEST
DTSTART:20260329T010000
END:DAYLIGHT
BEGIN:STANDARD
TZOFFSETFROM:+0200
TZOFFSETTO:+0100
TZNAME:CET
DTSTART:20261025T010000
END:STANDARD
BEGIN:DAYLIGHT
TZOFFSETFROM:+0100
TZOFFSETTO:+0200
TZNAME:CEST
DTSTART:20270328T010000
END:DAYLIGHT
BEGIN:STANDARD
TZOFFSETFROM:+0200
TZOFFSETTO:+0100
TZNAME:CET
DTSTART:20271031T010000
END:STANDARD
END:VTIMEZONE
BEGIN:VEVENT
DTSTART;TZID=Europe/Paris:20260228T140000
DTEND;TZID=Europe/Paris:20260228T150000
DTSTAMP:20260422T011122
CREATED:20251201T105506Z
LAST-MODIFIED:20251201T105506Z
UID:10012668-1772287200-1772290800@crocoule.org
SUMMARY:Saint-Etienne  | Atelier enfant "À la recherche\ndu détail"
DESCRIPTION:Les nouvelles collections d’art exposées au musée foisonnent de petits animaux\, fleurs et personnages à chercher tels de petits enquêteurs.
URL:https://crocoule.org/notre-evenement/saint-etienne-atelier-enfant-a-la-recherchedu-detail-2/
LOCATION:Musée d’art et d’industrie\, 2 Pl. Louis Comte\, saint etienne\, 42000\, France
CATEGORIES:03 ans +,Tous les événements
END:VEVENT
END:VCALENDAR