BEGIN:VCALENDAR
VERSION:2.0
PRODID:-//Crocoule - ECPv6.15.15//NONSGML v1.0//EN
CALSCALE:GREGORIAN
METHOD:PUBLISH
X-WR-CALNAME:Crocoule
X-ORIGINAL-URL:https://crocoule.org
X-WR-CALDESC:Évènements pour Crocoule
REFRESH-INTERVAL;VALUE=DURATION:PT1H
X-Robots-Tag:noindex
X-PUBLISHED-TTL:PT1H
BEGIN:VTIMEZONE
TZID:Europe/Paris
BEGIN:DAYLIGHT
TZOFFSETFROM:+0100
TZOFFSETTO:+0200
TZNAME:CEST
DTSTART:20250330T010000
END:DAYLIGHT
BEGIN:STANDARD
TZOFFSETFROM:+0200
TZOFFSETTO:+0100
TZNAME:CET
DTSTART:20251026T010000
END:STANDARD
BEGIN:DAYLIGHT
TZOFFSETFROM:+0100
TZOFFSETTO:+0200
TZNAME:CEST
DTSTART:20260329T010000
END:DAYLIGHT
BEGIN:STANDARD
TZOFFSETFROM:+0200
TZOFFSETTO:+0100
TZNAME:CET
DTSTART:20261025T010000
END:STANDARD
BEGIN:DAYLIGHT
TZOFFSETFROM:+0100
TZOFFSETTO:+0200
TZNAME:CEST
DTSTART:20270328T010000
END:DAYLIGHT
BEGIN:STANDARD
TZOFFSETFROM:+0200
TZOFFSETTO:+0100
TZNAME:CET
DTSTART:20271031T010000
END:STANDARD
END:VTIMEZONE
BEGIN:VEVENT
DTSTART;TZID=Europe/Paris:20260131T103000
DTEND;TZID=Europe/Paris:20260131T120000
DTSTAMP:20260422T082413
CREATED:20251113T151330Z
LAST-MODIFIED:20260228T164313Z
UID:10012200-1769855400-1769860800@crocoule.org
SUMMARY:Saint MARCELLIN en forez  | Grrr il fait froid
DESCRIPTION:Nous allons décorer des moufles et un bonnet avec papier crépon\, feutres\, gommettes etc..
URL:https://crocoule.org/notre-evenement/saint-marcellin-en-forez-grrr-il-fait-froid/
LOCATION:la cabane o ptites merveilles\, 11 place des combattants\, St Marcellin\, 42680\, France
CATEGORIES:03 ans +,Tous les événements
END:VEVENT
BEGIN:VEVENT
DTSTART;TZID=Europe/Paris:20260131T140000
DTEND;TZID=Europe/Paris:20260131T150000
DTSTAMP:20260422T082413
CREATED:20251201T105436Z
LAST-MODIFIED:20251201T105436Z
UID:10012657-1769868000-1769871600@crocoule.org
SUMMARY:Saint-Etienne  | Atelier enfant "À la recherche\ndu détail"
DESCRIPTION:Les nouvelles collections d’art exposées au musée foisonnent de petits animaux\, fleurs et personnages à chercher tels de petits enquêteurs.
URL:https://crocoule.org/notre-evenement/saint-etienne-atelier-enfant-a-la-recherchedu-detail/
LOCATION:Musée d’art et d’industrie\, 2 Pl. Louis Comte\, saint etienne\, 42000\, France
CATEGORIES:03 ans +,Tous les événements
END:VEVENT
BEGIN:VEVENT
DTSTART;TZID=Europe/Paris:20260131T150000
DTEND;TZID=Europe/Paris:20260131T163000
DTSTAMP:20260422T082413
CREATED:20251113T151330Z
LAST-MODIFIED:20260228T164313Z
UID:10012201-1769871600-1769877000@crocoule.org
SUMMARY:Saint MARCELLIN en forez  | Grrr il fait froid
DESCRIPTION:Nous allons décorer des moufles et un bonnet avec papier crépon\, feutres\, gommettes etc..
URL:https://crocoule.org/notre-evenement/saint-marcellin-en-forez-grrr-il-fait-froid-2/
LOCATION:la cabane o ptites merveilles\, 11 place des combattants\, St Marcellin\, 42680\, France
CATEGORIES:03 ans +,Tous les événements
END:VEVENT
END:VCALENDAR