BEGIN:VCALENDAR
VERSION:2.0
PRODID:-//Crocoule - ECPv6.15.20//NONSGML v1.0//EN
CALSCALE:GREGORIAN
METHOD:PUBLISH
X-WR-CALNAME:Crocoule
X-ORIGINAL-URL:https://crocoule.org
X-WR-CALDESC:Évènements pour Crocoule
REFRESH-INTERVAL;VALUE=DURATION:PT1H
X-Robots-Tag:noindex
X-PUBLISHED-TTL:PT1H
BEGIN:VTIMEZONE
TZID:Europe/Paris
BEGIN:DAYLIGHT
TZOFFSETFROM:+0100
TZOFFSETTO:+0200
TZNAME:CEST
DTSTART:20250330T010000
END:DAYLIGHT
BEGIN:STANDARD
TZOFFSETFROM:+0200
TZOFFSETTO:+0100
TZNAME:CET
DTSTART:20251026T010000
END:STANDARD
BEGIN:DAYLIGHT
TZOFFSETFROM:+0100
TZOFFSETTO:+0200
TZNAME:CEST
DTSTART:20260329T010000
END:DAYLIGHT
BEGIN:STANDARD
TZOFFSETFROM:+0200
TZOFFSETTO:+0100
TZNAME:CET
DTSTART:20261025T010000
END:STANDARD
BEGIN:DAYLIGHT
TZOFFSETFROM:+0100
TZOFFSETTO:+0200
TZNAME:CEST
DTSTART:20270328T010000
END:DAYLIGHT
BEGIN:STANDARD
TZOFFSETFROM:+0200
TZOFFSETTO:+0100
TZNAME:CET
DTSTART:20271031T010000
END:STANDARD
END:VTIMEZONE
BEGIN:VEVENT
DTSTART;TZID=Europe/Paris:20260210T151500
DTEND;TZID=Europe/Paris:20260210T163000
DTSTAMP:20260423T115704
CREATED:20251113T151337Z
LAST-MODIFIED:20260228T164514Z
UID:10012207-1770736500-1770741000@crocoule.org
SUMMARY:Saint MARCELLIN en forez  | Atelier des Tout- Petits ( 2-4 ans) avec Lucie " Le chemin de l'écriture"
DESCRIPTION:Lucie va nous faire découvrir différentes techniques adaptées aux plus petits\, afin de créer une oeuvre d’art.
URL:https://crocoule.org/notre-evenement/saint-marcellin-en-forez-atelier-des-tout-petits-2-4-ans-avec-lucie-le-chemin-de-lecriture/
LOCATION:la cabane o ptites merveilles\, 11 place des combattants\, St Marcellin\, 42680\, France
CATEGORIES:02 ans +,03 ans +,04 ans +,Tous les événements
END:VEVENT
BEGIN:VEVENT
DTSTART;TZID=Europe/Paris:20260211T100000
DTEND;TZID=Europe/Paris:20260211T113000
DTSTAMP:20260423T115704
CREATED:20251114T105531Z
LAST-MODIFIED:20260105T154257Z
UID:10012334-1770804000-1770809400@crocoule.org
SUMMARY:Saint cyr les vignes | Visite animée "Ferme en histoire"
DESCRIPTION:Une visite riche en découvertes\, à partager en famille pour le plaisirs des petits et des grands\,\net\, qui se terminera autour d’une délicieuse glace fabriquée à la ferme.\n8€/enfant-7€/adulte. Gratuit – de 2 ans/Avec glace : 2\,20€\ninclut la boule de glace. La durée indiquée n’inclut pas le temps de dégustation.
URL:https://crocoule.org/notre-evenement/saint-cyr-les-vignes-visite-animee-ferme-en-histoire/
LOCATION:Ferme Des Délices Foréziens\, 1230 Les Sermages\, Saint-Cyr-les-Vignes\, 42210
CATEGORIES:03 ans +,Activité pendant les vacances,En famille,Jeune Public,Tous les événements
ATTACH;FMTTYPE=image/jpeg:https://crocoule.org/wp-content/uploads/2026/01/91b7bc_b93d624e053249ec9027f228acb3e5dbmv2-qnfy0X.jpg
END:VEVENT
BEGIN:VEVENT
DTSTART;TZID=Europe/Paris:20260211T100000
DTEND;TZID=Europe/Paris:20260211T113000
DTSTAMP:20260423T115704
CREATED:20251114T110450Z
LAST-MODIFIED:20251114T142339Z
UID:10012345-1770804000-1770809400@crocoule.org
SUMMARY:Saint-Étienne | Atelier "Théâtre d'ombres"
DESCRIPTION:EN TRIBU. Venez découvrir la magie des ombres et créez votre théâtre d’ombres. Comment créer une ombre ? Comment la rendre le plus grand possible ? Nos petites expériences répondront à ces questions. Vous créerez aussi les silhouettes de personnages pour le clou du spectacle : un théâtre d’ombres collaboratif.
URL:https://crocoule.org/notre-evenement/saint-etienne-atelier-theatre-dombres-9/
CATEGORIES:03 ans +,04 ans +,05 ans +,06 ans +,Activité en semaine,Activité pendant les vacances,En famille,Jeune Public,Tous les événements
ATTACH;FMTTYPE=image/jpeg:https://crocoule.org/wp-content/uploads/2025/11/Theatre-dombre-HFj31D.jpg
END:VEVENT
BEGIN:VEVENT
DTSTART;TZID=Europe/Paris:20260212T160000
DTEND;TZID=Europe/Paris:20260212T170000
DTSTAMP:20260423T115704
CREATED:20251113T162318Z
LAST-MODIFIED:20260228T165345Z
UID:10012233-1770912000-1770915600@crocoule.org
SUMMARY:Marcoux | Atelier découverte du spectacle
DESCRIPTION:La compagnie Pompik Sardine propose aux tout-petits et à leurs familles de venir découvrir l’univers du spectacle “Là où vit l’hiver” à travers les comptines\, instruments et objets qui le composent.
URL:https://crocoule.org/notre-evenement/marcoux-atelier-decouverte-du-spectacle-3/
CATEGORIES:01 an +,02 ans +,03 ans +,04 ans +,05 ans +,Activité pendant les vacances,Avec bébé dès la naissance,En famille,Intérieur,Jeune Public,Tous les événements
ORGANIZER;CN="Chateau de Goutelas":MAILTO:centreculturel@chateaudegoutelas.fr
END:VEVENT
BEGIN:VEVENT
DTSTART;TZID=Europe/Paris:20260213T103000
DTEND;TZID=Europe/Paris:20260213T113000
DTSTAMP:20260423T115704
CREATED:20251113T162319Z
LAST-MODIFIED:20260228T165346Z
UID:10012234-1770978600-1770982200@crocoule.org
SUMMARY:Marcoux | Là où vit l'hiver
DESCRIPTION:Floky est un flocon\, tout blanc\, tout doux\, qui va faire son premier saut dans l’hiver. Mais lorsqu’il quitte son nuage douillet\, le voilà secoué\, baladé\, virevolté vers une toute autre saison … le printemps. Un conte musical pour les tout-petits\, à partager en famille.
URL:https://crocoule.org/notre-evenement/marcoux-la-ou-vit-lhiver-2/
CATEGORIES:01 an +,02 ans +,03 ans +,04 ans +,05 ans +,Activité pendant les vacances,Avec bébé dès la naissance,En famille,Intérieur,Jeune Public,Tous les événements
ORGANIZER;CN="Chateau de Goutelas":MAILTO:centreculturel@chateaudegoutelas.fr
END:VEVENT
BEGIN:VEVENT
DTSTART;TZID=Europe/Paris:20260217T000000
DTEND;TZID=Europe/Paris:20260217T000000
DTSTAMP:20260423T115704
CREATED:20251113T162320Z
LAST-MODIFIED:20260228T165346Z
UID:10012235-1771286400-1771286400@crocoule.org
SUMMARY:Marcoux | Carnaval
DESCRIPTION:Le Sou des écoles de Marcoux revient au château pour un nouvel événement ouvert à toutes les familles. Entre ateliers\, animations\, surprises et crêpes\, venez fêter le carnaval à Goutelas !
URL:https://crocoule.org/notre-evenement/marcoux-carnaval-2/
CATEGORIES:03 ans +,Activité pendant les vacances,En famille,Gratuit,Tous les événements,Tout public
ORGANIZER;CN="Chateau de Goutelas":MAILTO:centreculturel@chateaudegoutelas.fr
END:VEVENT
BEGIN:VEVENT
DTSTART;TZID=Europe/Paris:20260220T140000
DTEND;TZID=Europe/Paris:20260220T150000
DTSTAMP:20260423T115704
CREATED:20251201T105452Z
LAST-MODIFIED:20251201T105452Z
UID:10012665-1771596000-1771599600@crocoule.org
SUMMARY:Saint-Etienne  | Atelier enfant "Mosaïque enrubannée"
DESCRIPTION:Quelques coups de ciseaux\, un soupçon de colle\, plein de jolies couleurs et chaque enfant repart avec sa mosaïque en rubans.
URL:https://crocoule.org/notre-evenement/saint-etienne-atelier-enfant-mosaique-enrubannee-4/
LOCATION:Musée d’art et d’industrie\, 2 Pl. Louis Comte\, saint etienne\, 42000\, France
CATEGORIES:03 ans +,Tous les événements
END:VEVENT
BEGIN:VEVENT
DTSTART;TZID=Europe/Paris:20260220T143000
DTEND;TZID=Europe/Paris:20260220T163000
DTSTAMP:20260423T115704
CREATED:20251114T105543Z
LAST-MODIFIED:20260105T154313Z
UID:10012338-1771597800-1771605000@crocoule.org
SUMMARY:Saint cyr les vignes | Visite animée "Challenge Fermier"
DESCRIPTION:Age minimum conseillé : 3 ans.\n8€enfant-7€/adulte. Gratuit – de 2 ans/Avec glace : 2\,20€\nLa durée indiquée n’inclut pas le temps de dégustation.
URL:https://crocoule.org/notre-evenement/saint-cyr-les-vignes-visite-animee-challenge-fermier/
LOCATION:Ferme Des Délices Foréziens\, 1230 Les Sermages\, Saint-Cyr-les-Vignes\, 42210
CATEGORIES:03 ans +,Activité pendant les vacances,Adultes,En famille,Tous les événements
ATTACH;FMTTYPE=image/jpeg:https://crocoule.org/wp-content/uploads/2026/01/91b7bc_c0d7fa14cd2a4f3788cda646d0da7485mv2-N2GksS.jpg
END:VEVENT
BEGIN:VEVENT
DTSTART;TZID=Europe/Paris:20260221T100000
DTEND;TZID=Europe/Paris:20260221T113000
DTSTAMP:20260423T115704
CREATED:20251114T110504Z
LAST-MODIFIED:20251114T142343Z
UID:10012348-1771668000-1771673400@crocoule.org
SUMMARY:Saint-Étienne | Atelier "Théâtre d'ombres"
DESCRIPTION:EN TRIBU. Venez découvrir la magie des ombres et créez votre théâtre d’ombres. Comment créer une ombre ? Comment la rendre le plus grand possible ? Nos petites expériences répondront à ces questions. Vous créerez aussi les silhouettes de personnages pour le clou du spectacle : un théâtre d’ombres collaboratif.
URL:https://crocoule.org/notre-evenement/saint-etienne-atelier-theatre-dombres-10/
CATEGORIES:03 ans +,04 ans +,05 ans +,06 ans +,Activité en semaine,Activité pendant les vacances,En famille,Jeune Public,Tous les événements
ATTACH;FMTTYPE=image/jpeg:https://crocoule.org/wp-content/uploads/2025/11/Theatre-dombre-HFj31D.jpg
END:VEVENT
BEGIN:VEVENT
DTSTART;TZID=Europe/Paris:20260221T103000
DTEND;TZID=Europe/Paris:20260221T120000
DTSTAMP:20260423T115704
CREATED:20251113T151345Z
LAST-MODIFIED:20260228T164545Z
UID:10012215-1771669800-1771675200@crocoule.org
SUMMARY:Saint MARCELLIN en forez  | Atelier Blink Book
DESCRIPTION:On crée un dessin animé\, en decorant un dessin venant d’un catalogue Blink Book\, on le prend en photo et la magie opère
URL:https://crocoule.org/notre-evenement/saint-marcellin-en-forez-atelier-blink-book-3/
LOCATION:la cabane o ptites merveilles\, 11 place des combattants\, St Marcellin\, 42680\, France
CATEGORIES:03 ans +,Tous les événements
END:VEVENT
BEGIN:VEVENT
DTSTART;TZID=Europe/Paris:20260225T103000
DTEND;TZID=Europe/Paris:20260225T120000
DTSTAMP:20260423T115704
CREATED:20251113T151346Z
LAST-MODIFIED:20260228T164545Z
UID:10012217-1772015400-1772020800@crocoule.org
SUMMARY:Saint MARCELLIN en forez  | Ma mamie d'amour ( version pour les petits )
DESCRIPTION:Création d’une carte pour la fête des Grands Mères\, à l’aide de pochoirs
URL:https://crocoule.org/notre-evenement/saint-marcellin-en-forez-ma-mamie-damour-version-pour-les-petits/
LOCATION:la cabane o ptites merveilles\, 11 place des combattants\, St Marcellin\, 42680\, France
CATEGORIES:03 ans +,Tous les événements
END:VEVENT
BEGIN:VEVENT
DTSTART;TZID=Europe/Paris:20260225T150000
DTEND;TZID=Europe/Paris:20260225T163000
DTSTAMP:20260423T115704
CREATED:20251113T151346Z
LAST-MODIFIED:20260228T164545Z
UID:10012218-1772031600-1772037000@crocoule.org
SUMMARY:Saint MARCELLIN en forez  | Ma mamie d'amour ( version pour les petits )
DESCRIPTION:Création d’une carte pour la fête des Grands Mères\, à l’aide de pochoirs
URL:https://crocoule.org/notre-evenement/saint-marcellin-en-forez-ma-mamie-damour-version-pour-les-petits-2/
LOCATION:la cabane o ptites merveilles\, 11 place des combattants\, St Marcellin\, 42680\, France
CATEGORIES:03 ans +,Tous les événements
END:VEVENT
BEGIN:VEVENT
DTSTART;TZID=Europe/Paris:20260228T140000
DTEND;TZID=Europe/Paris:20260228T150000
DTSTAMP:20260423T115704
CREATED:20251201T105506Z
LAST-MODIFIED:20251201T105506Z
UID:10012668-1772287200-1772290800@crocoule.org
SUMMARY:Saint-Etienne  | Atelier enfant "À la recherche\ndu détail"
DESCRIPTION:Les nouvelles collections d’art exposées au musée foisonnent de petits animaux\, fleurs et personnages à chercher tels de petits enquêteurs.
URL:https://crocoule.org/notre-evenement/saint-etienne-atelier-enfant-a-la-recherchedu-detail-2/
LOCATION:Musée d’art et d’industrie\, 2 Pl. Louis Comte\, saint etienne\, 42000\, France
CATEGORIES:03 ans +,Tous les événements
END:VEVENT
END:VCALENDAR