BEGIN:VCALENDAR
VERSION:2.0
PRODID:-//Crocoule - ECPv6.15.15//NONSGML v1.0//EN
CALSCALE:GREGORIAN
METHOD:PUBLISH
X-WR-CALNAME:Crocoule
X-ORIGINAL-URL:https://crocoule.org
X-WR-CALDESC:Évènements pour Crocoule
REFRESH-INTERVAL;VALUE=DURATION:PT1H
X-Robots-Tag:noindex
X-PUBLISHED-TTL:PT1H
BEGIN:VTIMEZONE
TZID:Europe/Paris
BEGIN:DAYLIGHT
TZOFFSETFROM:+0100
TZOFFSETTO:+0200
TZNAME:CEST
DTSTART:20250330T010000
END:DAYLIGHT
BEGIN:STANDARD
TZOFFSETFROM:+0200
TZOFFSETTO:+0100
TZNAME:CET
DTSTART:20251026T010000
END:STANDARD
BEGIN:DAYLIGHT
TZOFFSETFROM:+0100
TZOFFSETTO:+0200
TZNAME:CEST
DTSTART:20260329T010000
END:DAYLIGHT
BEGIN:STANDARD
TZOFFSETFROM:+0200
TZOFFSETTO:+0100
TZNAME:CET
DTSTART:20261025T010000
END:STANDARD
BEGIN:DAYLIGHT
TZOFFSETFROM:+0100
TZOFFSETTO:+0200
TZNAME:CEST
DTSTART:20270328T010000
END:DAYLIGHT
BEGIN:STANDARD
TZOFFSETFROM:+0200
TZOFFSETTO:+0100
TZNAME:CET
DTSTART:20271031T010000
END:STANDARD
END:VTIMEZONE
BEGIN:VEVENT
DTSTART;TZID=Europe/Paris:20260404T140000
DTEND;TZID=Europe/Paris:20260420T170000
DTSTAMP:20260420T004118
CREATED:20260228T171320Z
LAST-MODIFIED:20260228T171320Z
UID:10012860-1775311200-1776704400@crocoule.org
SUMMARY:Andrezieux | Atelier_stage
DESCRIPTION:Les Stages se déroulent tous les après-midi des vacances de 14h à 17h\, pendant 3 heures et par groupes de 12 enfants maximum\, vos enfants vont construire nos modèles exclusifs sur la thématique « le monde des sorciers. » \nEncadrés par nos animateurs\, la première heure et demie sera dédiée à la construction de modèles motorisés sur la thématique des vacances (araignées qui se déplacent\, sorcière sur son balai qui tourne\, chaudron animé\, etc). En plus de travailler leur dextérité et de les sensibiliser à l’ingénierie avec l’utilisation de rouages et d’essieux\, nous profiterons de leurs constructions pour leur apporter quelques connaissances\, anecdotes sur les sorciers et leurs univers. \nAprès ce premier temps « imposé »\, nous nous adapterons aux enfants et au groupe du jour afin de leur proposer d’autres activités. Ils pourront par exemple construire d’autres modèles de notre crue sur un sujet qui les passionne ou alors faire du jeu libre et bâtir le décor de leur choix en lien avec les modèles précédemment construit\, mais encore mettre en scène leurs créations et réaliser une BD ou un court-métrage.\nSelon la dynamique du groupe et la volonté des enfants. Aussi\, nous les métrons au défi avec des challenges collaboratifs (construction d’un mur avec des contraintes\, challenge comme l’émission brick master etc) \nNous sommes impatients de recevoir vos enfants !\nLe tarif à la demi-journée est initialement à 35 euros\, mais il revient à 29 euros avec le code promo CROCOULE`
URL:https://crocoule.org/notre-evenement/andrezieux-atelier_stage-6/
LOCATION:BRICK4KIDZS ST ETIENNE\, 242 Rue Pierre-Georges Latécoère\, ANDREZIEUX\, 42160
CATEGORIES:05 ans +,06 ans +,07 ans +,08 ans +,09 ans +,10 ans +,11 ans +,12 ans +,Activité du week-end,Activité pendant les vacances,Intérieur,Tous les événements
ATTACH;FMTTYPE=image/jpeg:https://crocoule.org/wp-content/uploads/2025/02/DSC00718-1024x683-d6rzTS.tmp_.jpg
END:VEVENT
BEGIN:VEVENT
DTSTART;TZID=Europe/Paris:20260409T140000
DTEND;TZID=Europe/Paris:20260420T170000
DTSTAMP:20260420T004118
CREATED:20251113T151300Z
LAST-MODIFIED:20260327T155817Z
UID:10012175-1775743200-1776704400@crocoule.org
SUMMARY:Andrezieux et St Etienne | ⭐CODE PROMO ⭐stage BRICKS4KIDZ
DESCRIPTION:Les Stages se déroulent tous les après-midi des vacances de 14h à 17h\, pendant 3 heures et par groupes de 12 enfants maximum\, vos enfants vont construire nos modèles exclusifs sur la thématique « le monde des sorciers. » \nEncadrés par nos animateurs\, la première heure et demie sera dédiée à la construction de modèles motorisés sur la thématique des vacances (araignées qui se déplacent\, sorcière sur son balai qui tourne\, chaudron animé\, etc). En plus de travailler leur dextérité et de les sensibiliser à l’ingénierie avec l’utilisation de rouages et d’essieux\, nous profiterons de leurs constructions pour leur apporter quelques connaissances\, anecdotes sur les sorciers et leurs univers. \nAprès ce premier temps « imposé »\, nous nous adapterons aux enfants et au groupe du jour afin de leur proposer d’autres activités. Ils pourront par exemple construire d’autres modèles de notre crue sur un sujet qui les passionne ou alors faire du jeu libre et bâtir le décor de leur choix en lien avec les modèles précédemment construit\, mais encore mettre en scène leurs créations et réaliser une BD ou un court-métrage.\nSelon la dynamique du groupe et la volonté des enfants. Aussi\, nous les métrons au défi avec des challenges collaboratifs (construction d’un mur avec des contraintes\, challenge comme l’émission brick master etc) \nNous sommes impatients de recevoir vos enfants !\nLe tarif à la demi-journée est initialement à 29 EURO\, AVEC LE CODE PROMO « BRICK20 » CE SERA À 20€ !
URL:https://crocoule.org/notre-evenement/andrezieux-atelier_stage-5/
LOCATION:BRICK4KIDZS ST ETIENNE\, 242 Rue Pierre-Georges Latécoère\, ANDREZIEUX\, 42160
CATEGORIES:05 ans +,06 ans +,07 ans +,08 ans +,09 ans +,10 ans +,11 ans +,12 ans +,Activité du week-end,Activité pendant les vacances,Intérieur,Tous les événements
ATTACH;FMTTYPE=image/jpeg:https://crocoule.org/wp-content/uploads/2025/11/andrezieux-stage-vacances-saint-etienne-5-1772717889.jpeg
END:VEVENT
BEGIN:VEVENT
DTSTART;TZID=Europe/Paris:20260425T100000
DTEND;TZID=Europe/Paris:20260425T120000
DTSTAMP:20260420T004119
CREATED:20260228T144444Z
LAST-MODIFIED:20260228T200953Z
UID:10012805-1777111200-1777118400@crocoule.org
SUMMARY:Saint-Étienne | Atelier "Alerte éruption !"
DESCRIPTION:Plonge dans l’univers des volcans ! Expériences\, manipulations et éruptions spectaculaires pour observer\, tester et comprendre comment naissent ces phénomènes et les métiers qui les étudient.
URL:https://crocoule.org/notre-evenement/saint-etienne-atelier-alerte-eruption-4/
CATEGORIES:09 ans +,10 ans +,11 ans +,12 ans +,Activité du week-end,Jeune Public,Tous les événements
END:VEVENT
BEGIN:VEVENT
DTSTART;TZID=Europe/Paris:20260425T140000
DTEND;TZID=Europe/Paris:20260425T154500
DTSTAMP:20260420T004119
CREATED:20260228T144719Z
LAST-MODIFIED:20260228T222755Z
UID:10012811-1777125600-1777131900@crocoule.org
SUMMARY:Saint-Étienne | Atelier "Coup de bluff"
DESCRIPTION:Viens relever des défis étonnants et réaliser des tours surprenants ! En manipulant\, en observant et en testant\, tu découvriras comment fonctionnent ces effets et apprendras à les refaire toi-même. Un atelier pour jouer\, réfléchir et s’étonner.
URL:https://crocoule.org/notre-evenement/saint-etienne-atelier-coup-de-bluff/
CATEGORIES:08 ans +,09 ans +,10 ans +,11 ans +,12 ans +,Activité du week-end,Jeune Public,Tous les événements
ATTACH;FMTTYPE=image/jpeg:https://crocoule.org/wp-content/uploads/2026/02/coup-de-bluff-site-Mnu3C9.jpg
END:VEVENT
BEGIN:VEVENT
DTSTART;TZID=Europe/Paris:20260425T140000
DTEND;TZID=Europe/Paris:20260425T183000
DTSTAMP:20260420T004119
CREATED:20260301T112205Z
LAST-MODIFIED:20260301T112205Z
UID:10013062-1777125600-1777141800@crocoule.org
SUMMARY:Saint-Galmier | Les Expériences créatives du samedi avec Cindy
DESCRIPTION:Venez vous initier à la vannerie et tresser votre petit panier rond en osier avec la technique du fond sur croisée\nAdos Adulte débutant\nTarif: 45 euros\nAvec Cindy Brins de Loire  \nréservation 06 43 52 50 77
URL:https://crocoule.org/notre-evenement/saint-galmier-les-experiences-creatives-du-samedi-avec-cindy/
CATEGORIES:10 ans +,Tous les événements
END:VEVENT
BEGIN:VEVENT
DTSTART;TZID=Europe/Paris:20260426T110000
DTEND;TZID=Europe/Paris:20260426T120000
DTSTAMP:20260420T004119
CREATED:20260301T120002Z
LAST-MODIFIED:20260301T120002Z
UID:10013135-1777201200-1777204800@crocoule.org
SUMMARY:Le Puy en Velay | // VISITE THÉÂTRALISÉE // Famille dès 10 ans LA VISITE VACHARDE
DESCRIPTION:Avec Lionel Alès de la Cie latituds\nNon\, mais… où vous croyez-vous ?\nUn guide haut en couleur et au\ntempérament peu avenant\, voire\ndésagréable\, vous conduit dans une\nvisite décalée et sans complaisance aux\nhommes\, à l’époque et à l’Histoire. Entrée du musée + 3 €  (gratuit – de 18 ans)
URL:https://crocoule.org/notre-evenement/le-puy-en-velay-visite-theatralisee-famille-des-10-ans-la-visite-vacharde-3/
CATEGORIES:10 ans +,Tous les événements
END:VEVENT
BEGIN:VEVENT
DTSTART;TZID=Europe/Paris:20260426T160000
DTEND;TZID=Europe/Paris:20260426T170000
DTSTAMP:20260420T004119
CREATED:20260301T120017Z
LAST-MODIFIED:20260301T120017Z
UID:10013136-1777219200-1777222800@crocoule.org
SUMMARY:Le Puy en Velay | // VISITE THÉÂTRALISÉE // Famille dès 10 ans LA VISITE VACHARDE
DESCRIPTION:Avec Lionel Alès de la Cie latituds\nNon\, mais… où vous croyez-vous ?\nUn guide haut en couleur et au\ntempérament peu avenant\, voire\ndésagréable\, vous conduit dans une\nvisite décalée et sans complaisance aux\nhommes\, à l’époque et à l’Histoire. Entrée du musée + 3 €  (gratuit – de 18 ans)
URL:https://crocoule.org/notre-evenement/le-puy-en-velay-visite-theatralisee-famille-des-10-ans-la-visite-vacharde-4/
CATEGORIES:10 ans +,Tous les événements
END:VEVENT
BEGIN:VEVENT
DTSTART;TZID=Europe/Paris:20260429T100000
DTEND;TZID=Europe/Paris:20260429T120000
DTSTAMP:20260420T004119
CREATED:20260228T144519Z
LAST-MODIFIED:20260228T201005Z
UID:10012806-1777456800-1777464000@crocoule.org
SUMMARY:Saint-Étienne | Atelier "Alerte éruption !"
DESCRIPTION:Plonge dans l’univers des volcans ! Expériences\, manipulations et éruptions spectaculaires pour observer\, tester et comprendre comment naissent ces phénomènes et les métiers qui les étudient.
URL:https://crocoule.org/notre-evenement/saint-etienne-atelier-alerte-eruption-5/
CATEGORIES:09 ans +,10 ans +,11 ans +,12 ans +,Activité en semaine,Jeune Public,Tous les événements
ATTACH;FMTTYPE=image/jpeg:https://crocoule.org/wp-content/uploads/2026/02/Volcan-site-01-ya4nam.jpg
END:VEVENT
BEGIN:VEVENT
DTSTART;TZID=Europe/Paris:20260429T140000
DTEND;TZID=Europe/Paris:20260429T160000
DTSTAMP:20260420T004119
CREATED:20260228T144524Z
LAST-MODIFIED:20260228T201007Z
UID:10012809-1777471200-1777478400@crocoule.org
SUMMARY:Saint-Étienne | Atelier "Du bout des mains jusqu'au ciel"
DESCRIPTION:EN TRIBU. Construisez et faites voler votre propre cerf-volant ! Découpez\, assemblez\, testez et améliorez votre modèle pour comprendre comment il s’élève dans les airs. Un atelier créatif et scientifique pour expérimenter le vent et le vol en famille. En partenariat avec La Comète
URL:https://crocoule.org/notre-evenement/saint-etienne-atelier-du-bout-des-mains-jusquau-ciel-2/
CATEGORIES:07 ans +,08 ans +,09 ans +,10 ans +,11 ans +,12 ans +,Activité en semaine,En famille,Jeune Public,Tous les événements
ATTACH;FMTTYPE=image/jpeg:https://crocoule.org/wp-content/uploads/2026/02/Cerf-volant-site-01-1-AKiBgB.jpg
END:VEVENT
END:VCALENDAR