BEGIN:VCALENDAR
VERSION:2.0
PRODID:-//Crocoule - ECPv6.15.15//NONSGML v1.0//EN
CALSCALE:GREGORIAN
METHOD:PUBLISH
X-ORIGINAL-URL:https://crocoule.org
X-WR-CALDESC:Évènements pour Crocoule
REFRESH-INTERVAL;VALUE=DURATION:PT1H
X-Robots-Tag:noindex
X-PUBLISHED-TTL:PT1H
BEGIN:VTIMEZONE
TZID:Europe/Paris
BEGIN:DAYLIGHT
TZOFFSETFROM:+0100
TZOFFSETTO:+0200
TZNAME:CEST
DTSTART:20250330T010000
END:DAYLIGHT
BEGIN:STANDARD
TZOFFSETFROM:+0200
TZOFFSETTO:+0100
TZNAME:CET
DTSTART:20251026T010000
END:STANDARD
BEGIN:DAYLIGHT
TZOFFSETFROM:+0100
TZOFFSETTO:+0200
TZNAME:CEST
DTSTART:20260329T010000
END:DAYLIGHT
BEGIN:STANDARD
TZOFFSETFROM:+0200
TZOFFSETTO:+0100
TZNAME:CET
DTSTART:20261025T010000
END:STANDARD
BEGIN:DAYLIGHT
TZOFFSETFROM:+0100
TZOFFSETTO:+0200
TZNAME:CEST
DTSTART:20270328T010000
END:DAYLIGHT
BEGIN:STANDARD
TZOFFSETFROM:+0200
TZOFFSETTO:+0100
TZNAME:CET
DTSTART:20271031T010000
END:STANDARD
END:VTIMEZONE
BEGIN:VEVENT
DTSTART;TZID=Europe/Paris:20260426T110000
DTEND;TZID=Europe/Paris:20260426T120000
DTSTAMP:20260420T075129
CREATED:20260301T120002Z
LAST-MODIFIED:20260301T120002Z
UID:10013135-1777201200-1777204800@crocoule.org
SUMMARY:Le Puy en Velay | // VISITE THÉÂTRALISÉE // Famille dès 10 ans LA VISITE VACHARDE
DESCRIPTION:Avec Lionel Alès de la Cie latituds\nNon\, mais… où vous croyez-vous ?\nUn guide haut en couleur et au\ntempérament peu avenant\, voire\ndésagréable\, vous conduit dans une\nvisite décalée et sans complaisance aux\nhommes\, à l’époque et à l’Histoire. Entrée du musée + 3 €  (gratuit – de 18 ans)
URL:https://crocoule.org/notre-evenement/le-puy-en-velay-visite-theatralisee-famille-des-10-ans-la-visite-vacharde-3/
CATEGORIES:10 ans +,Tous les événements
END:VEVENT
BEGIN:VEVENT
DTSTART;TZID=Europe/Paris:20260426T160000
DTEND;TZID=Europe/Paris:20260426T170000
DTSTAMP:20260420T075129
CREATED:20260301T120017Z
LAST-MODIFIED:20260301T120017Z
UID:10013136-1777219200-1777222800@crocoule.org
SUMMARY:Le Puy en Velay | // VISITE THÉÂTRALISÉE // Famille dès 10 ans LA VISITE VACHARDE
DESCRIPTION:Avec Lionel Alès de la Cie latituds\nNon\, mais… où vous croyez-vous ?\nUn guide haut en couleur et au\ntempérament peu avenant\, voire\ndésagréable\, vous conduit dans une\nvisite décalée et sans complaisance aux\nhommes\, à l’époque et à l’Histoire. Entrée du musée + 3 €  (gratuit – de 18 ans)
URL:https://crocoule.org/notre-evenement/le-puy-en-velay-visite-theatralisee-famille-des-10-ans-la-visite-vacharde-4/
CATEGORIES:10 ans +,Tous les événements
END:VEVENT
END:VCALENDAR