BEGIN:VCALENDAR
VERSION:2.0
PRODID:-//Crocoule - ECPv6.15.15//NONSGML v1.0//EN
CALSCALE:GREGORIAN
METHOD:PUBLISH
X-WR-CALNAME:Crocoule
X-ORIGINAL-URL:https://crocoule.org
X-WR-CALDESC:Évènements pour Crocoule
REFRESH-INTERVAL;VALUE=DURATION:PT1H
X-Robots-Tag:noindex
X-PUBLISHED-TTL:PT1H
BEGIN:VTIMEZONE
TZID:Europe/Paris
BEGIN:DAYLIGHT
TZOFFSETFROM:+0100
TZOFFSETTO:+0200
TZNAME:CEST
DTSTART:20250330T010000
END:DAYLIGHT
BEGIN:STANDARD
TZOFFSETFROM:+0200
TZOFFSETTO:+0100
TZNAME:CET
DTSTART:20251026T010000
END:STANDARD
BEGIN:DAYLIGHT
TZOFFSETFROM:+0100
TZOFFSETTO:+0200
TZNAME:CEST
DTSTART:20260329T010000
END:DAYLIGHT
BEGIN:STANDARD
TZOFFSETFROM:+0200
TZOFFSETTO:+0100
TZNAME:CET
DTSTART:20261025T010000
END:STANDARD
BEGIN:DAYLIGHT
TZOFFSETFROM:+0100
TZOFFSETTO:+0200
TZNAME:CEST
DTSTART:20270328T010000
END:DAYLIGHT
BEGIN:STANDARD
TZOFFSETFROM:+0200
TZOFFSETTO:+0100
TZNAME:CET
DTSTART:20271031T010000
END:STANDARD
END:VTIMEZONE
BEGIN:VEVENT
DTSTART;TZID=Europe/Paris:20260404T140000
DTEND;TZID=Europe/Paris:20260420T170000
DTSTAMP:20260420T023245
CREATED:20260228T171320Z
LAST-MODIFIED:20260228T171320Z
UID:10012860-1775311200-1776704400@crocoule.org
SUMMARY:Andrezieux | Atelier_stage
DESCRIPTION:Les Stages se déroulent tous les après-midi des vacances de 14h à 17h\, pendant 3 heures et par groupes de 12 enfants maximum\, vos enfants vont construire nos modèles exclusifs sur la thématique « le monde des sorciers. » \nEncadrés par nos animateurs\, la première heure et demie sera dédiée à la construction de modèles motorisés sur la thématique des vacances (araignées qui se déplacent\, sorcière sur son balai qui tourne\, chaudron animé\, etc). En plus de travailler leur dextérité et de les sensibiliser à l’ingénierie avec l’utilisation de rouages et d’essieux\, nous profiterons de leurs constructions pour leur apporter quelques connaissances\, anecdotes sur les sorciers et leurs univers. \nAprès ce premier temps « imposé »\, nous nous adapterons aux enfants et au groupe du jour afin de leur proposer d’autres activités. Ils pourront par exemple construire d’autres modèles de notre crue sur un sujet qui les passionne ou alors faire du jeu libre et bâtir le décor de leur choix en lien avec les modèles précédemment construit\, mais encore mettre en scène leurs créations et réaliser une BD ou un court-métrage.\nSelon la dynamique du groupe et la volonté des enfants. Aussi\, nous les métrons au défi avec des challenges collaboratifs (construction d’un mur avec des contraintes\, challenge comme l’émission brick master etc) \nNous sommes impatients de recevoir vos enfants !\nLe tarif à la demi-journée est initialement à 35 euros\, mais il revient à 29 euros avec le code promo CROCOULE`
URL:https://crocoule.org/notre-evenement/andrezieux-atelier_stage-6/
LOCATION:BRICK4KIDZS ST ETIENNE\, 242 Rue Pierre-Georges Latécoère\, ANDREZIEUX\, 42160
CATEGORIES:05 ans +,06 ans +,07 ans +,08 ans +,09 ans +,10 ans +,11 ans +,12 ans +,Activité du week-end,Activité pendant les vacances,Intérieur,Tous les événements
ATTACH;FMTTYPE=image/jpeg:https://crocoule.org/wp-content/uploads/2025/02/DSC00718-1024x683-d6rzTS.tmp_.jpg
END:VEVENT
BEGIN:VEVENT
DTSTART;TZID=Europe/Paris:20260408T100000
DTEND;TZID=Europe/Paris:20260408T120000
DTSTAMP:20260420T023245
CREATED:20260228T144441Z
LAST-MODIFIED:20260228T200952Z
UID:10012803-1775642400-1775649600@crocoule.org
SUMMARY:Saint-Étienne | Atelier "Alerte éruption !"
DESCRIPTION:Plonge dans l’univers des volcans ! Expériences\, manipulations et éruptions spectaculaires pour observer\, tester et comprendre comment naissent ces phénomènes et les métiers qui les étudient.
URL:https://crocoule.org/notre-evenement/saint-etienne-atelier-alerte-eruption-2/
CATEGORIES:09 ans +,10 ans +,11 ans +,12 ans +,Activité en semaine,Activité pendant les vacances,Jeune Public,Tous les événements
ATTACH;FMTTYPE=image/jpeg:https://crocoule.org/wp-content/uploads/2026/02/Volcan-site-01-ya4nam.jpg
END:VEVENT
BEGIN:VEVENT
DTSTART;TZID=Europe/Paris:20260408T140000
DTEND;TZID=Europe/Paris:20260408T160000
DTSTAMP:20260420T023245
CREATED:20250904T134206Z
LAST-MODIFIED:20250904T134218Z
UID:10012109-1775656800-1775664000@crocoule.org
SUMMARY:Saint-etienne | Atelier dessin/illustration enfants
DESCRIPTION:2h pour apprendre à raconter une histoire en dessin. Composition\, cadrage\, mise en scène. Travaille de mise en couleur avec des encres colorées pour venir sublimer\, s’amuser\, expérimenter la couleur\, les fusions\, les tâches. Un atelier pour lâcher prise dans la créativité ! Matériel professionnel mis à disposition et bien sur vous repartez avec vos créations. Inscription à l’année conseillée mais atelier à l’unité possible (sous réserve des places disponibles).
URL:https://crocoule.org/notre-evenement/saint-etienne-atelier-dessin-illustration-enfants-7/
LOCATION:Chez les voisines\, 30 Rue Pnte Cadet\,\, SAINT ÉTIENNE\, Rhône-Alpes\, 42000\, France
CATEGORIES:10 ans +,11 ans +,12 ans +,Gratuit,Intérieur,Tous les événements
ORGANIZER;CN="Sel illustratrice":MAILTO:grainesdesel@gmail.com
END:VEVENT
BEGIN:VEVENT
DTSTART;TZID=Europe/Paris:20260408T150000
DTEND;TZID=Europe/Paris:20260408T150000
DTSTAMP:20260420T023245
CREATED:20260301T121128Z
LAST-MODIFIED:20260301T121128Z
UID:10013154-1775660400-1775660400@crocoule.org
SUMMARY:Montbrison | Atelier créatif
DESCRIPTION:Venez vous essayer à cet art japonais et donnez vie à la faune marine en pliant du papier. tarif adulte 5€ tarif enfant 3\,5€ reservation obligatoire
URL:https://crocoule.org/notre-evenement/montbrison-atelier-creatif-4/
LOCATION:Musee Allard\, 13 Bd de la Préfecture\, montbrison\, 42600\, France
CATEGORIES:05 ans +,06 ans +,07 ans +,08 ans +,09 ans +,10 ans +,11 ans +,12 ans +,Activité en semaine,Adultes,En famille,Expo,Intérieur,Tous les événements
END:VEVENT
END:VCALENDAR