BEGIN:VCALENDAR
VERSION:2.0
PRODID:-//Crocoule - ECPv6.15.15//NONSGML v1.0//EN
CALSCALE:GREGORIAN
METHOD:PUBLISH
X-WR-CALNAME:Crocoule
X-ORIGINAL-URL:https://crocoule.org
X-WR-CALDESC:Évènements pour Crocoule
REFRESH-INTERVAL;VALUE=DURATION:PT1H
X-Robots-Tag:noindex
X-PUBLISHED-TTL:PT1H
BEGIN:VTIMEZONE
TZID:Europe/Paris
BEGIN:DAYLIGHT
TZOFFSETFROM:+0100
TZOFFSETTO:+0200
TZNAME:CEST
DTSTART:20250330T010000
END:DAYLIGHT
BEGIN:STANDARD
TZOFFSETFROM:+0200
TZOFFSETTO:+0100
TZNAME:CET
DTSTART:20251026T010000
END:STANDARD
BEGIN:DAYLIGHT
TZOFFSETFROM:+0100
TZOFFSETTO:+0200
TZNAME:CEST
DTSTART:20260329T010000
END:DAYLIGHT
BEGIN:STANDARD
TZOFFSETFROM:+0200
TZOFFSETTO:+0100
TZNAME:CET
DTSTART:20261025T010000
END:STANDARD
BEGIN:DAYLIGHT
TZOFFSETFROM:+0100
TZOFFSETTO:+0200
TZNAME:CEST
DTSTART:20270328T010000
END:DAYLIGHT
BEGIN:STANDARD
TZOFFSETFROM:+0200
TZOFFSETTO:+0100
TZNAME:CET
DTSTART:20271031T010000
END:STANDARD
END:VTIMEZONE
BEGIN:VEVENT
DTSTART;TZID=Europe/Paris:20260411T093000
DTEND;TZID=Europe/Paris:20260417T180000
DTSTAMP:20260421T215227
CREATED:20260407T141421Z
LAST-MODIFIED:20260407T141421Z
UID:10013339-1775899800-1776448800@crocoule.org
SUMMARY:Andrézieux Mini séance 📸 photo📸
DESCRIPTION:Du 11/4 au 17/4 de 9h30 à 18h > 0 à 10 ans > 30€ \n15 min de séance photo dans un décor coloré et adapté aux \nenfants de 0 à 10 an. Forfait séance à 30€ puis 15€/ photo en \nformat numérique ou papier. Uniquement sur réservation \npar téléphone au 07 87 25 57 49
URL:https://crocoule.org/notre-evenement/andrezieux-mini-seance-%f0%9f%93%b8-photo%f0%9f%93%b8/
LOCATION:Mademoiselle Hirondelle\, 13 Rue d'Urfé\, Andrézieux-Bouthéon\, 42160
CATEGORIES:01 an +,02 ans +,03 ans +,04 ans +,05 ans +,06 ans +,07 ans +,08 ans +,09 ans +,10 ans +,Activité pendant les vacances,Intérieur,Tous les événements
ATTACH;FMTTYPE=image/jpeg:https://crocoule.org/wp-content/uploads/2026/04/627a127d-07e3-47a5-9285-d6a42d44acf9.jpg
END:VEVENT
BEGIN:VEVENT
DTSTART;TZID=Europe/Paris:20260417T100000
DTEND;TZID=Europe/Paris:20260417T110000
DTSTAMP:20260421T215227
CREATED:20260302T131809Z
LAST-MODIFIED:20260305T094235Z
UID:10013238-1776420000-1776423600@crocoule.org
SUMMARY:Le Puy-en-Velay | Voyage au coeur des sens
DESCRIPTION:Les enfants ont un pouvoir : le pouvoir des sens ! Un atelier pour découvrir son corps en nourrissant et développant ses sens. Le p’tit Café propose aux parents et aux enfants d’expérimenter et de vivre leurs sens : le toucher\, l’ouïe\, la vue\, l’odorat\, le goût\, la proprioception\, la thermoception\, etc. Sans inscription\, prix libre.
URL:https://crocoule.org/notre-evenement/le-puy-en-velay-voyage-au-coeur-des-sens-11/
LOCATION:Le P’tit Café – Le Puy En Velay\, 25 pl du marché couvert\, Le Puy-en-Velay\, 43000\, France
CATEGORIES:01 an +,Activité en semaine,Activité pendant les vacances,En famille,Intérieur,Tous les événements
END:VEVENT
END:VCALENDAR