BEGIN:VCALENDAR
VERSION:2.0
PRODID:-//Crocoule - ECPv6.15.15//NONSGML v1.0//EN
CALSCALE:GREGORIAN
METHOD:PUBLISH
X-ORIGINAL-URL:https://crocoule.org
X-WR-CALDESC:Évènements pour Crocoule
REFRESH-INTERVAL;VALUE=DURATION:PT1H
X-Robots-Tag:noindex
X-PUBLISHED-TTL:PT1H
BEGIN:VTIMEZONE
TZID:Europe/Paris
BEGIN:DAYLIGHT
TZOFFSETFROM:+0100
TZOFFSETTO:+0200
TZNAME:CEST
DTSTART:20250330T010000
END:DAYLIGHT
BEGIN:STANDARD
TZOFFSETFROM:+0200
TZOFFSETTO:+0100
TZNAME:CET
DTSTART:20251026T010000
END:STANDARD
BEGIN:DAYLIGHT
TZOFFSETFROM:+0100
TZOFFSETTO:+0200
TZNAME:CEST
DTSTART:20260329T010000
END:DAYLIGHT
BEGIN:STANDARD
TZOFFSETFROM:+0200
TZOFFSETTO:+0100
TZNAME:CET
DTSTART:20261025T010000
END:STANDARD
BEGIN:DAYLIGHT
TZOFFSETFROM:+0100
TZOFFSETTO:+0200
TZNAME:CEST
DTSTART:20270328T010000
END:DAYLIGHT
BEGIN:STANDARD
TZOFFSETFROM:+0200
TZOFFSETTO:+0100
TZNAME:CET
DTSTART:20271031T010000
END:STANDARD
END:VTIMEZONE
BEGIN:VEVENT
DTSTART;TZID=Europe/Paris:20260103T140000
DTEND;TZID=Europe/Paris:20260419T180000
DTSTAMP:20260421T140405
CREATED:20260228T172853Z
LAST-MODIFIED:20260228T172853Z
UID:10012914-1767448800-1776621600@crocoule.org
SUMMARY:Saint-Étienne | Hexacolore
DESCRIPTION:HEXACOLORE est une installation praticable\, nomade et modulable\, réalisée par l’artiste Julie Safirstein. \nConçue comme une petite cabane dans La Cabane\, elle est réalisée à partir de six grands panneaux de bois peints et encastrés les uns dans les autres\, de miroirs et d’éléments mobiles en plexiglass. Une palette de couleurs\nCe dispositif joue sur les reflets\, les halos de lumière\, les mélanges et les disparitions de couleur.  \nTel un terrain d’exploration et de surprise\, il immerge les enfants et leurs accompagnants dans une palette de couleurs à parcourir. \nLes tout-petits sont invités à observer leur environnement et à le traverser en rampant\, en marchant\, en escaladant ou en jouant à cache-cache. \nIls peuvent également habiter et investir ce lieu en s’emparant de cercles en plexiglass colorés translucides mis à leur disposition. La manipulation de ces dispositifs leur permet d’expérimenter les relations entre les couleurs et les effets de leurs associations.  \nL’expérience de la couleur questionne la perception visuelle du public. Cette perception est personnelle\, elle varie en fonction des déplacements et des mouvements du spectateur\, des jeux d’éclairage naturels et artificiels. Horaires d’ouverture de la Cabane-accès libre et gratuit\nMardi jeudi et vendredi : 16h-18h\nMercredi\, samedi et dimanche : 14h-18h\nFermeture les lundis ainsi que les 1er et 8 mai et jeudi de l’ascension
URL:https://crocoule.org/notre-evenement/saint-etienne-hexacolore/
CATEGORIES:Avec bébé dès la naissance,Tous les événements
END:VEVENT
END:VCALENDAR