BEGIN:VCALENDAR
VERSION:2.0
PRODID:-//Crocoule - ECPv6.15.15//NONSGML v1.0//EN
CALSCALE:GREGORIAN
METHOD:PUBLISH
X-ORIGINAL-URL:https://crocoule.org
X-WR-CALDESC:Évènements pour Crocoule
REFRESH-INTERVAL;VALUE=DURATION:PT1H
X-Robots-Tag:noindex
X-PUBLISHED-TTL:PT1H
BEGIN:VTIMEZONE
TZID:Europe/Paris
BEGIN:DAYLIGHT
TZOFFSETFROM:+0100
TZOFFSETTO:+0200
TZNAME:CEST
DTSTART:20250330T010000
END:DAYLIGHT
BEGIN:STANDARD
TZOFFSETFROM:+0200
TZOFFSETTO:+0100
TZNAME:CET
DTSTART:20251026T010000
END:STANDARD
BEGIN:DAYLIGHT
TZOFFSETFROM:+0100
TZOFFSETTO:+0200
TZNAME:CEST
DTSTART:20260329T010000
END:DAYLIGHT
BEGIN:STANDARD
TZOFFSETFROM:+0200
TZOFFSETTO:+0100
TZNAME:CET
DTSTART:20261025T010000
END:STANDARD
BEGIN:DAYLIGHT
TZOFFSETFROM:+0100
TZOFFSETTO:+0200
TZNAME:CEST
DTSTART:20270328T010000
END:DAYLIGHT
BEGIN:STANDARD
TZOFFSETFROM:+0200
TZOFFSETTO:+0100
TZNAME:CET
DTSTART:20271031T010000
END:STANDARD
END:VTIMEZONE
BEGIN:VEVENT
DTSTART;TZID=Europe/Paris:20260404T100000
DTEND;TZID=Europe/Paris:20261101T180000
DTSTAMP:20260421T192711
CREATED:20260228T170319Z
LAST-MODIFIED:20260228T170319Z
UID:10012826-1775296800-1793556000@crocoule.org
SUMMARY:LE CHEYLARD | GRAINES : l'expo !
DESCRIPTION:Durée de visite : 1h30 environ \nCette exposition\, vous plongera des le monde secret et fascinant des plantes et des graines. Une exposition interactive pour la famille. De nombreux événemenst et ateliers programmées autour de cette thématique. \nAdulte (du 15/04/2025 au 02/11/2025)        6€\nEnfant (du 15/04/2025 au 02/11/2025)        4€\nForfait famille (du 15/04/2025 au 02/11/2025)\n2 adultes\, 2 enfants + 2€ par enfant supplémentaire\n18€
URL:https://crocoule.org/notre-evenement/le-cheylard-graines-lexpo/
CATEGORIES:06 ans +,Activité du week-end,Activité en semaine,Activité pendant les vacances,Adultes,En famille,Expo,Tous les événements
ATTACH;FMTTYPE=image/jpeg:https://crocoule.org/wp-content/uploads/2026/02/AFFICHE-GRAINES-FORMAT-A4-ADM-V8-l5BSdZ.jpg
END:VEVENT
BEGIN:VEVENT
DTSTART;TZID=Europe/Paris:20260409T143000
DTEND;TZID=Europe/Paris:20260409T163000
DTSTAMP:20260421T192711
CREATED:20260228T191513Z
LAST-MODIFIED:20260228T191513Z
UID:10012947-1775745000-1775752200@crocoule.org
SUMMARY:Usson en Forez | Track game
DESCRIPTION:Une malle mystérieuse\, fermée à double tours\, a été découverte à l’écomusée. Nous\ncomptons sur vous pour découvrir son contenu. Chaque binôme (enfant accompagné\nd’un adulte)\, muni d’un plan du musée\, et d’un jeu devra résoudre les énigmes\ndissimulées dans les différentes salles d’exposition du musée.\nUne surprise vous attend à l’arrivée !!!
URL:https://crocoule.org/notre-evenement/usson-en-forez-track-game-6/
CATEGORIES:06 ans +,Activité pendant les vacances,Adultes,En famille,Exterieur,Intérieur,Jeune Public,Tous les événements
ATTACH;FMTTYPE=image/jpeg:https://crocoule.org/wp-content/uploads/2025/05/visite_famille-300x200-2CQ3pB.jpg
END:VEVENT
BEGIN:VEVENT
DTSTART;TZID=Europe/Paris:20260409T150000
DTEND;TZID=Europe/Paris:20260409T170000
DTSTAMP:20260421T192711
CREATED:20260228T222833Z
LAST-MODIFIED:20260228T222833Z
UID:10012950-1775746800-1775754000@crocoule.org
SUMMARY:Saint cyr les vignes | Visite guidée de la "Ferme aux glaces"
DESCRIPTION:7\,50€/adulte-6\,50€/enfant inclut la boule de glace\nGratuit – de 3 ans/Avec glace : 2\,20€\nLa durée indiquée n’inclut pas le temps de dégustation.
URL:https://crocoule.org/notre-evenement/saint-cyr-les-vignes-visite-guidee-de-la-ferme-aux-glaces-3/
LOCATION:Ferme Des Délices Foréziens\, 1230 Les Sermages\, Saint-Cyr-les-Vignes\, 42210
CATEGORIES:07 ans +,Activité pendant les vacances,Adultes,En famille,Tous les événements,Tout public
ATTACH;FMTTYPE=image/jpeg:https://crocoule.org/wp-content/uploads/2026/01/91b7bc_8b7bcce4c68d47bc916953ab15ffd73emv2-ZVzmq6.jpg
END:VEVENT
BEGIN:VEVENT
DTSTART;TZID=Europe/Paris:20260409T153000
DTEND;TZID=Europe/Paris:20260409T163000
DTSTAMP:20260421T192711
CREATED:20260301T121128Z
LAST-MODIFIED:20260301T121128Z
UID:10013155-1775748600-1775752200@crocoule.org
SUMMARY:Montbrison | Visite commentée
DESCRIPTION:Le bord de mer est loin de la capitale du Comté de Forez :comment les montbrisonnais ont eu accès à la plage   Tarif: 3€50/enfant  5€/adulte
URL:https://crocoule.org/notre-evenement/montbrison-visite-commentee-4/
CATEGORIES:12 ans +,Activité en semaine,Activité pendant les vacances,Adultes,Expo,Intérieur,Tous les événements
END:VEVENT
END:VCALENDAR