BEGIN:VCALENDAR
VERSION:2.0
PRODID:-//Crocoule - ECPv6.15.20//NONSGML v1.0//EN
CALSCALE:GREGORIAN
METHOD:PUBLISH
X-ORIGINAL-URL:https://crocoule.org
X-WR-CALDESC:Évènements pour Crocoule
REFRESH-INTERVAL;VALUE=DURATION:PT1H
X-Robots-Tag:noindex
X-PUBLISHED-TTL:PT1H
BEGIN:VTIMEZONE
TZID:Europe/Paris
BEGIN:DAYLIGHT
TZOFFSETFROM:+0100
TZOFFSETTO:+0200
TZNAME:CEST
DTSTART:20250330T010000
END:DAYLIGHT
BEGIN:STANDARD
TZOFFSETFROM:+0200
TZOFFSETTO:+0100
TZNAME:CET
DTSTART:20251026T010000
END:STANDARD
BEGIN:DAYLIGHT
TZOFFSETFROM:+0100
TZOFFSETTO:+0200
TZNAME:CEST
DTSTART:20260329T010000
END:DAYLIGHT
BEGIN:STANDARD
TZOFFSETFROM:+0200
TZOFFSETTO:+0100
TZNAME:CET
DTSTART:20261025T010000
END:STANDARD
BEGIN:DAYLIGHT
TZOFFSETFROM:+0100
TZOFFSETTO:+0200
TZNAME:CEST
DTSTART:20270328T010000
END:DAYLIGHT
BEGIN:STANDARD
TZOFFSETFROM:+0200
TZOFFSETTO:+0100
TZNAME:CET
DTSTART:20271031T010000
END:STANDARD
END:VTIMEZONE
BEGIN:VEVENT
DTSTART;TZID=Europe/Paris:20260404T100000
DTEND;TZID=Europe/Paris:20261101T180000
DTSTAMP:20260425T200441
CREATED:20260228T170319Z
LAST-MODIFIED:20260228T170319Z
UID:10012826-1775296800-1793556000@crocoule.org
SUMMARY:LE CHEYLARD | GRAINES : l'expo !
DESCRIPTION:Durée de visite : 1h30 environ \nCette exposition\, vous plongera des le monde secret et fascinant des plantes et des graines. Une exposition interactive pour la famille. De nombreux événemenst et ateliers programmées autour de cette thématique. \nAdulte (du 15/04/2025 au 02/11/2025)        6€\nEnfant (du 15/04/2025 au 02/11/2025)        4€\nForfait famille (du 15/04/2025 au 02/11/2025)\n2 adultes\, 2 enfants + 2€ par enfant supplémentaire\n18€
URL:https://crocoule.org/notre-evenement/le-cheylard-graines-lexpo/
CATEGORIES:06 ans +,Activité du week-end,Activité en semaine,Activité pendant les vacances,Adultes,En famille,Expo,Tous les événements
ATTACH;FMTTYPE=image/jpeg:https://crocoule.org/wp-content/uploads/2026/02/AFFICHE-GRAINES-FORMAT-A4-ADM-V8-l5BSdZ.jpg
END:VEVENT
BEGIN:VEVENT
DTSTART;TZID=Europe/Paris:20260803T143000
DTEND;TZID=Europe/Paris:20260803T163000
DTSTAMP:20260425T200441
CREATED:20260228T223021Z
LAST-MODIFIED:20260228T223021Z
UID:10012967-1785767400-1785774600@crocoule.org
SUMMARY:Saint cyr les vignes | Visite guidée de la "Ferme aux glaces"
DESCRIPTION:7\,50€/adulte-6\,50€/enfant inclut la boule de glace\nGratuit – de 3 ans/Avec glace : 2\,20€\nLa durée indiquée n’inclut pas le temps de dégustation.
URL:https://crocoule.org/notre-evenement/saint-cyr-les-vignes-visite-guidee-de-la-ferme-aux-glaces-19/
LOCATION:Ferme Des Délices Foréziens\, 1230 Les Sermages\, Saint-Cyr-les-Vignes\, 42210
CATEGORIES:07 ans +,Activité pendant les vacances,Adultes,En famille,Tous les événements
ATTACH;FMTTYPE=image/jpeg:https://crocoule.org/wp-content/uploads/2026/01/91b7bc_8b7bcce4c68d47bc916953ab15ffd73emv2-ZVzmq6.jpg
END:VEVENT
BEGIN:VEVENT
DTSTART;TZID=Europe/Paris:20260805T143000
DTEND;TZID=Europe/Paris:20260805T163000
DTSTAMP:20260425T200441
CREATED:20260228T223023Z
LAST-MODIFIED:20260228T223023Z
UID:10012968-1785940200-1785947400@crocoule.org
SUMMARY:Saint cyr les vignes | Visite guidée de la "Ferme aux glaces"
DESCRIPTION:7\,50€/adulte-6\,50€/enfant inclut la boule de glace\nGratuit – de 3 ans/Avec glace : 2\,20€\nLa durée indiquée n’inclut pas le temps de dégustation.
URL:https://crocoule.org/notre-evenement/saint-cyr-les-vignes-visite-guidee-de-la-ferme-aux-glaces-20/
LOCATION:Ferme Des Délices Foréziens\, 1230 Les Sermages\, Saint-Cyr-les-Vignes\, 42210
CATEGORIES:07 ans +,Activité pendant les vacances,Adultes,En famille,Tous les événements
ATTACH;FMTTYPE=image/jpeg:https://crocoule.org/wp-content/uploads/2026/01/91b7bc_8b7bcce4c68d47bc916953ab15ffd73emv2-ZVzmq6.jpg
END:VEVENT
BEGIN:VEVENT
DTSTART;TZID=Europe/Paris:20260805T150000
DTEND;TZID=Europe/Paris:20260805T163000
DTSTAMP:20260425T200441
CREATED:20260301T121219Z
LAST-MODIFIED:20260301T121219Z
UID:10013168-1785942000-1785947400@crocoule.org
SUMMARY:Montbrison | Atelier créatif
DESCRIPTION:Dessine et explore les fonds marins. tarif: 3€50/enafant 5€/adulte réservation obligatoire
URL:https://crocoule.org/notre-evenement/montbrison-atelier-creatif-9/
CATEGORIES:05 ans +,06 ans +,07 ans +,08 ans +,09 ans +,10 ans +,11 ans +,12 ans +,Activité en semaine,Activité pendant les vacances,Adultes,En famille,Expo,Intérieur,Tous les événements
END:VEVENT
BEGIN:VEVENT
DTSTART;TZID=Europe/Paris:20260807T143000
DTEND;TZID=Europe/Paris:20260807T163000
DTSTAMP:20260425T200441
CREATED:20260228T223036Z
LAST-MODIFIED:20260228T223036Z
UID:10012969-1786113000-1786120200@crocoule.org
SUMMARY:Saint cyr les vignes | Visite guidée de la "Ferme aux glaces"
DESCRIPTION:7\,50€/adulte-6\,50€/enfant inclut la boule de glace\nGratuit – de 3 ans/Avec glace : 2\,20€\nLa durée indiquée n’inclut pas le temps de dégustation.
URL:https://crocoule.org/notre-evenement/saint-cyr-les-vignes-visite-guidee-de-la-ferme-aux-glaces-21/
LOCATION:Ferme Des Délices Foréziens\, 1230 Les Sermages\, Saint-Cyr-les-Vignes\, 42210
CATEGORIES:07 ans +,Activité pendant les vacances,Adultes,En famille,Tous les événements
ATTACH;FMTTYPE=image/jpeg:https://crocoule.org/wp-content/uploads/2026/01/91b7bc_8b7bcce4c68d47bc916953ab15ffd73emv2-ZVzmq6.jpg
END:VEVENT
BEGIN:VEVENT
DTSTART;TZID=Europe/Paris:20260810T143000
DTEND;TZID=Europe/Paris:20260810T163000
DTSTAMP:20260425T200441
CREATED:20260105T154525Z
LAST-MODIFIED:20260228T223037Z
UID:10012733-1786372200-1786379400@crocoule.org
SUMMARY:Saint cyr les vignes | Visite guidée "Dans les coulisses de vos desserts glacés"
DESCRIPTION:7\,50€/adulte-6\,50€/enfant inclut la boule de glace\nGratuit – de 3 ans/Avec glace : 2\,20€\nLa durée indiquée n’inclut pas le temps de dégustation.
URL:https://crocoule.org/notre-evenement/saint-cyr-les-vignes-visite-guidee-dans-les-coulisses-de-vos-desserts-glaces/
LOCATION:Ferme Des Délices Foréziens\, 1230 Les Sermages\, Saint-Cyr-les-Vignes\, 42210
CATEGORIES:07 ans +,Activité pendant les vacances,Adultes,En famille,Tous les événements
ATTACH;FMTTYPE=image/jpeg:https://crocoule.org/wp-content/uploads/2026/01/91b7bc_0030c264a0a944129768449f80decc63mv2-BouAsT.jpg
END:VEVENT
BEGIN:VEVENT
DTSTART;TZID=Europe/Paris:20260812T150000
DTEND;TZID=Europe/Paris:20260812T163000
DTSTAMP:20260425T200441
CREATED:20260301T121220Z
LAST-MODIFIED:20260301T121220Z
UID:10013170-1786546800-1786552200@crocoule.org
SUMMARY:Montbrison | Atelier créatif
DESCRIPTION:Viens créer ton jeu autour du thème des jouets GéGé.tarif: 3€50/enafant 5€/adulte réservation obligatoire
URL:https://crocoule.org/notre-evenement/montbrison-atelier-creatif-10/
CATEGORIES:05 ans +,06 ans +,07 ans +,08 ans +,09 ans +,10 ans +,11 ans +,12 ans +,Activité en semaine,Activité pendant les vacances,Adultes,Expo,Intérieur,Tous les événements
END:VEVENT
BEGIN:VEVENT
DTSTART;TZID=Europe/Paris:20260813T153000
DTEND;TZID=Europe/Paris:20260813T163000
DTSTAMP:20260425T200441
CREATED:20260301T121220Z
LAST-MODIFIED:20260301T121220Z
UID:10013171-1786635000-1786638600@crocoule.org
SUMMARY:Montbrison | Visite commentée
DESCRIPTION:Une visite ludique (à partir de 4 ans) à partager… entre exploration et jeu autour de l’exposition Jean-Baptiste d’Allard.Tarif : 3\,50€/enfant ; 5 €/ adulte\, visite du musée incluse
URL:https://crocoule.org/notre-evenement/montbrison-visite-commentee-10/
CATEGORIES:04 ans +,05 ans +,06 ans +,07 ans +,08 ans +,09 ans +,10 ans +,11 ans +,12 ans +,Activité en semaine,Activité pendant les vacances,Adultes,En famille,Expo,Intérieur,Tous les événements
END:VEVENT
BEGIN:VEVENT
DTSTART;TZID=Europe/Paris:20260814T143000
DTEND;TZID=Europe/Paris:20260814T163000
DTSTAMP:20260425T200441
CREATED:20260105T154538Z
LAST-MODIFIED:20260228T223051Z
UID:10012737-1786717800-1786725000@crocoule.org
SUMMARY:Saint cyr les vignes | Visite guidée "Dans les coulisses de vos desserts glacés"
DESCRIPTION:7\,50€/adulte-6\,50€/enfant inclut la boule de glace\nGratuit – de 3 ans/Avec glace : 2\,20€\nLa durée indiquée n’inclut pas le temps de dégustation.
URL:https://crocoule.org/notre-evenement/saint-cyr-les-vignes-visite-guidee-dans-les-coulisses-de-vos-desserts-glaces-2/
LOCATION:Ferme Des Délices Foréziens\, 1230 Les Sermages\, Saint-Cyr-les-Vignes\, 42210
CATEGORIES:07 ans +,Activité pendant les vacances,Adultes,En famille,Tous les événements
ATTACH;FMTTYPE=image/jpeg:https://crocoule.org/wp-content/uploads/2026/01/91b7bc_0030c264a0a944129768449f80decc63mv2-BouAsT.jpg
END:VEVENT
BEGIN:VEVENT
DTSTART;TZID=Europe/Paris:20260817T143000
DTEND;TZID=Europe/Paris:20260817T163000
DTSTAMP:20260425T200441
CREATED:20260228T223052Z
LAST-MODIFIED:20260228T223052Z
UID:10012970-1786977000-1786984200@crocoule.org
SUMMARY:Saint cyr les vignes | Visite guidée de la "Ferme aux glaces"
DESCRIPTION:7\,50€/adulte-6\,50€/enfant inclut la boule de glace\nGratuit – de 3 ans/Avec glace : 2\,20€\nLa durée indiquée n’inclut pas le temps de dégustation.
URL:https://crocoule.org/notre-evenement/saint-cyr-les-vignes-visite-guidee-de-la-ferme-aux-glaces-22/
LOCATION:Ferme Des Délices Foréziens\, 1230 Les Sermages\, Saint-Cyr-les-Vignes\, 42210
CATEGORIES:07 ans +,Activité pendant les vacances,Adultes,En famille,Tous les événements
ATTACH;FMTTYPE=image/jpeg:https://crocoule.org/wp-content/uploads/2026/01/91b7bc_8b7bcce4c68d47bc916953ab15ffd73emv2-ZVzmq6.jpg
END:VEVENT
BEGIN:VEVENT
DTSTART;TZID=Europe/Paris:20260819T143000
DTEND;TZID=Europe/Paris:20260819T163000
DTSTAMP:20260425T200441
CREATED:20260228T223106Z
LAST-MODIFIED:20260228T223106Z
UID:10012971-1787149800-1787157000@crocoule.org
SUMMARY:Saint cyr les vignes | Visite guidée de la "Ferme aux glaces"
DESCRIPTION:7\,50€/adulte-6\,50€/enfant inclut la boule de glace\nGratuit – de 3 ans/Avec glace : 2\,20€\nLa durée indiquée n’inclut pas le temps de dégustation.
URL:https://crocoule.org/notre-evenement/saint-cyr-les-vignes-visite-guidee-de-la-ferme-aux-glaces-23/
LOCATION:Ferme Des Délices Foréziens\, 1230 Les Sermages\, Saint-Cyr-les-Vignes\, 42210
CATEGORIES:07 ans +,Activité pendant les vacances,Adultes,En famille,Tous les événements
ATTACH;FMTTYPE=image/jpeg:https://crocoule.org/wp-content/uploads/2026/01/91b7bc_8b7bcce4c68d47bc916953ab15ffd73emv2-ZVzmq6.jpg
END:VEVENT
BEGIN:VEVENT
DTSTART;TZID=Europe/Paris:20260819T150000
DTEND;TZID=Europe/Paris:20260819T163000
DTSTAMP:20260425T200441
CREATED:20260301T121234Z
LAST-MODIFIED:20260301T121234Z
UID:10013172-1787151600-1787157000@crocoule.org
SUMMARY:Montbrison | Atelier créatif
DESCRIPTION:Pour les jeunes naturaliste\, recyclez\, créez et repartez avec votre boite à secret. tarif: 3€50/enafant 5€/adulte réservation obligatoire
URL:https://crocoule.org/notre-evenement/montbrison-atelier-creatif-11/
CATEGORIES:05 ans +,06 ans +,07 ans +,08 ans +,09 ans +,10 ans +,11 ans +,12 ans +,Activité en semaine,Activité pendant les vacances,Adultes,Expo,Intérieur,Tous les événements
END:VEVENT
BEGIN:VEVENT
DTSTART;TZID=Europe/Paris:20260820T153000
DTEND;TZID=Europe/Paris:20260820T163000
DTSTAMP:20260425T200441
CREATED:20260301T121234Z
LAST-MODIFIED:20260301T121234Z
UID:10013173-1787239800-1787243400@crocoule.org
SUMMARY:Montbrison | Visite commentée
DESCRIPTION:Embarquez pour une visite théâtralisée ! Une médiatrice prend le costume et vous conte l’exposition sous les traits d’un personnage du monde de la mer.Tarif : 3\,50€/enfant ; 5 €/ adulte\,
URL:https://crocoule.org/notre-evenement/montbrison-visite-commentee-11/
CATEGORIES:05 ans +,06 ans +,07 ans +,08 ans +,09 ans +,10 ans +,11 ans +,12 ans +,Activité en semaine,Activité pendant les vacances,Adultes,Expo,Intérieur,Tous les événements
END:VEVENT
BEGIN:VEVENT
DTSTART;TZID=Europe/Paris:20260821T143000
DTEND;TZID=Europe/Paris:20260821T163000
DTSTAMP:20260425T200441
CREATED:20260228T223108Z
LAST-MODIFIED:20260228T223108Z
UID:10012972-1787322600-1787329800@crocoule.org
SUMMARY:Saint cyr les vignes | Visite guidée de la "Ferme aux glaces"
DESCRIPTION:7\,50€/adulte-6\,50€/enfant inclut la boule de glace\nGratuit – de 3 ans/Avec glace : 2\,20€\nLa durée indiquée n’inclut pas le temps de dégustation.
URL:https://crocoule.org/notre-evenement/saint-cyr-les-vignes-visite-guidee-de-la-ferme-aux-glaces-24/
LOCATION:Ferme Des Délices Foréziens\, 1230 Les Sermages\, Saint-Cyr-les-Vignes\, 42210
CATEGORIES:07 ans +,Activité pendant les vacances,Adultes,En famille,Tous les événements
ATTACH;FMTTYPE=image/jpeg:https://crocoule.org/wp-content/uploads/2026/01/91b7bc_8b7bcce4c68d47bc916953ab15ffd73emv2-ZVzmq6.jpg
END:VEVENT
BEGIN:VEVENT
DTSTART;TZID=Europe/Paris:20260824T143000
DTEND;TZID=Europe/Paris:20260824T163000
DTSTAMP:20260425T200441
CREATED:20260105T154606Z
LAST-MODIFIED:20260105T154615Z
UID:10012746-1787581800-1787589000@crocoule.org
SUMMARY:Saint cyr les vignes | Visite guidée de la Ferme des délices
DESCRIPTION:7\,50€/adulte-6\,50€/enfant inclut la boule de glace\nGratuit – de 3 ans/Avec glace : 2\,20€\nLa durée indiquée n’inclut pas le temps de dégustation.
URL:https://crocoule.org/notre-evenement/saint-cyr-les-vignes-visite-guidee-de-la-ferme-des-delices-30/
LOCATION:Ferme Des Délices Foréziens\, 1230 Les Sermages\, Saint-Cyr-les-Vignes\, 42210
CATEGORIES:07 ans +,Activité pendant les vacances,Adultes,En famille,Tous les événements
ATTACH;FMTTYPE=image/jpeg:https://crocoule.org/wp-content/uploads/2026/01/91b7bc_8b7bcce4c68d47bc916953ab15ffd73emv2-ZVzmq6.jpg
END:VEVENT
BEGIN:VEVENT
DTSTART;TZID=Europe/Paris:20260824T143000
DTEND;TZID=Europe/Paris:20260824T163000
DTSTAMP:20260425T200441
CREATED:20260228T223121Z
LAST-MODIFIED:20260228T223121Z
UID:10012973-1787581800-1787589000@crocoule.org
SUMMARY:Saint cyr les vignes | Visite guidée de la "Ferme aux glaces"
DESCRIPTION:7\,50€/adulte-6\,50€/enfant inclut la boule de glace\nGratuit – de 3 ans/Avec glace : 2\,20€\nLa durée indiquée n’inclut pas le temps de dégustation.
URL:https://crocoule.org/notre-evenement/saint-cyr-les-vignes-visite-guidee-de-la-ferme-aux-glaces-25/
LOCATION:Ferme Des Délices Foréziens\, 1230 Les Sermages\, Saint-Cyr-les-Vignes\, 42210
CATEGORIES:07 ans +,Activité pendant les vacances,Adultes,En famille,Tous les événements
ATTACH;FMTTYPE=image/jpeg:https://crocoule.org/wp-content/uploads/2026/01/91b7bc_8b7bcce4c68d47bc916953ab15ffd73emv2-ZVzmq6.jpg
END:VEVENT
BEGIN:VEVENT
DTSTART;TZID=Europe/Paris:20260826T143000
DTEND;TZID=Europe/Paris:20260826T163000
DTSTAMP:20260425T200441
CREATED:20260105T154609Z
LAST-MODIFIED:20260105T154618Z
UID:10012748-1787754600-1787761800@crocoule.org
SUMMARY:Saint cyr les vignes | Visite guidée de la Ferme des délices
DESCRIPTION:7\,50€/adulte-6\,50€/enfant inclut la boule de glace\nGratuit – de 3 ans/Avec glace : 2\,20€\nLa durée indiquée n’inclut pas le temps de dégustation.
URL:https://crocoule.org/notre-evenement/saint-cyr-les-vignes-visite-guidee-de-la-ferme-des-delices-31/
LOCATION:Ferme Des Délices Foréziens\, 1230 Les Sermages\, Saint-Cyr-les-Vignes\, 42210
CATEGORIES:03 ans +,07 ans +,Activité pendant les vacances,Adultes,En famille,Tous les événements
ATTACH;FMTTYPE=image/jpeg:https://crocoule.org/wp-content/uploads/2026/01/91b7bc_8b7bcce4c68d47bc916953ab15ffd73emv2-ZVzmq6.jpg
END:VEVENT
BEGIN:VEVENT
DTSTART;TZID=Europe/Paris:20260826T143000
DTEND;TZID=Europe/Paris:20260826T163000
DTSTAMP:20260425T200441
CREATED:20260228T223122Z
LAST-MODIFIED:20260228T223122Z
UID:10012974-1787754600-1787761800@crocoule.org
SUMMARY:Saint cyr les vignes | Visite guidée de la "Ferme aux glaces"
DESCRIPTION:7\,50€/adulte-6\,50€/enfant inclut la boule de glace\nGratuit – de 3 ans/Avec glace : 2\,20€\nLa durée indiquée n’inclut pas le temps de dégustation.
URL:https://crocoule.org/notre-evenement/saint-cyr-les-vignes-visite-guidee-de-la-ferme-aux-glaces-26/
LOCATION:Ferme Des Délices Foréziens\, 1230 Les Sermages\, Saint-Cyr-les-Vignes\, 42210
CATEGORIES:03 ans +,07 ans +,Activité pendant les vacances,Adultes,En famille,Tous les événements
ATTACH;FMTTYPE=image/jpeg:https://crocoule.org/wp-content/uploads/2026/01/91b7bc_8b7bcce4c68d47bc916953ab15ffd73emv2-ZVzmq6.jpg
END:VEVENT
BEGIN:VEVENT
DTSTART;TZID=Europe/Paris:20260826T150000
DTEND;TZID=Europe/Paris:20260826T163000
DTSTAMP:20260425T200441
CREATED:20260301T121235Z
LAST-MODIFIED:20260301T121235Z
UID:10013174-1787756400-1787761800@crocoule.org
SUMMARY:Montbrison | Atelier créatif
DESCRIPTION:Venez réaliser de jolis accessoires en perles. Tari:3€50/enfant  5€/adulte réservation obligatoire
URL:https://crocoule.org/notre-evenement/montbrison-atelier-creatif-12/
CATEGORIES:05 ans +,06 ans +,07 ans +,08 ans +,09 ans +,10 ans +,11 ans +,12 ans +,Activité en semaine,Activité pendant les vacances,Adultes,Expo,Intérieur,Tous les événements
END:VEVENT
BEGIN:VEVENT
DTSTART;TZID=Europe/Paris:20260827T153000
DTEND;TZID=Europe/Paris:20260827T163000
DTSTAMP:20260425T200441
CREATED:20260301T121235Z
LAST-MODIFIED:20260301T121235Z
UID:10013175-1787844600-1787848200@crocoule.org
SUMMARY:Montbrison | Visite commentée
DESCRIPTION:Le Kraken existe-il ? Faut-il craindre le triangle des Bermudes ?Tarif : 3\,50€/enfant ; 5 €/ adulte\, visite du musée incluse
URL:https://crocoule.org/notre-evenement/montbrison-visite-commentee-12/
CATEGORIES:12 ans +,Activité en semaine,Activité pendant les vacances,Adultes,Expo,Intérieur,Tous les événements
END:VEVENT
BEGIN:VEVENT
DTSTART;TZID=Europe/Paris:20260828T143000
DTEND;TZID=Europe/Paris:20260828T163000
DTSTAMP:20260425T200441
CREATED:20260105T154627Z
LAST-MODIFIED:20260105T154627Z
UID:10012750-1787927400-1787934600@crocoule.org
SUMMARY:Saint cyr les vignes | Visite guidée de la Ferme des délices
DESCRIPTION:7\,50€/adulte-6\,50€/enfant inclut la boule de glace\nGratuit – de 3 ans/Avec glace : 2\,20€\nLa durée indiquée n’inclut pas le temps de dégustation.
URL:https://crocoule.org/notre-evenement/saint-cyr-les-vignes-visite-guidee-de-la-ferme-des-delices-32/
LOCATION:Ferme Des Délices Foréziens\, 1230 Les Sermages\, Saint-Cyr-les-Vignes\, 42210
CATEGORIES:07 ans +,Activité pendant les vacances,Adultes,En famille,Tous les événements
ATTACH;FMTTYPE=image/jpeg:https://crocoule.org/wp-content/uploads/2026/01/91b7bc_8b7bcce4c68d47bc916953ab15ffd73emv2-ZVzmq6.jpg
END:VEVENT
BEGIN:VEVENT
DTSTART;TZID=Europe/Paris:20260828T143000
DTEND;TZID=Europe/Paris:20260828T163000
DTSTAMP:20260425T200441
CREATED:20260228T223123Z
LAST-MODIFIED:20260228T223123Z
UID:10012975-1787927400-1787934600@crocoule.org
SUMMARY:Saint cyr les vignes | Visite guidée de la "Ferme aux glaces"
DESCRIPTION:7\,50€/adulte-6\,50€/enfant inclut la boule de glace\nGratuit – de 3 ans/Avec glace : 2\,20€\nLa durée indiquée n’inclut pas le temps de dégustation.
URL:https://crocoule.org/notre-evenement/saint-cyr-les-vignes-visite-guidee-de-la-ferme-aux-glaces-27/
LOCATION:Ferme Des Délices Foréziens\, 1230 Les Sermages\, Saint-Cyr-les-Vignes\, 42210
CATEGORIES:07 ans +,Activité pendant les vacances,Adultes,En famille,Tous les événements
ATTACH;FMTTYPE=image/jpeg:https://crocoule.org/wp-content/uploads/2026/01/91b7bc_8b7bcce4c68d47bc916953ab15ffd73emv2-ZVzmq6.jpg
END:VEVENT
END:VCALENDAR