BEGIN:VCALENDAR
VERSION:2.0
PRODID:-//Crocoule - ECPv6.15.15//NONSGML v1.0//EN
CALSCALE:GREGORIAN
METHOD:PUBLISH
X-WR-CALNAME:Crocoule
X-ORIGINAL-URL:https://crocoule.org
X-WR-CALDESC:Évènements pour Crocoule
REFRESH-INTERVAL;VALUE=DURATION:PT1H
X-Robots-Tag:noindex
X-PUBLISHED-TTL:PT1H
BEGIN:VTIMEZONE
TZID:Europe/Paris
BEGIN:DAYLIGHT
TZOFFSETFROM:+0100
TZOFFSETTO:+0200
TZNAME:CEST
DTSTART:20250330T010000
END:DAYLIGHT
BEGIN:STANDARD
TZOFFSETFROM:+0200
TZOFFSETTO:+0100
TZNAME:CET
DTSTART:20251026T010000
END:STANDARD
BEGIN:DAYLIGHT
TZOFFSETFROM:+0100
TZOFFSETTO:+0200
TZNAME:CEST
DTSTART:20260329T010000
END:DAYLIGHT
BEGIN:STANDARD
TZOFFSETFROM:+0200
TZOFFSETTO:+0100
TZNAME:CET
DTSTART:20261025T010000
END:STANDARD
BEGIN:DAYLIGHT
TZOFFSETFROM:+0100
TZOFFSETTO:+0200
TZNAME:CEST
DTSTART:20270328T010000
END:DAYLIGHT
BEGIN:STANDARD
TZOFFSETFROM:+0200
TZOFFSETTO:+0100
TZNAME:CET
DTSTART:20271031T010000
END:STANDARD
END:VTIMEZONE
BEGIN:VEVENT
DTSTART;TZID=Europe/Paris:20260301T140000
DTEND;TZID=Europe/Paris:20260301T170000
DTSTAMP:20260421T023602
CREATED:20251114T100443Z
LAST-MODIFIED:20251114T100456Z
UID:10012245-1772373600-1772384400@crocoule.org
SUMMARY:Les Estables | Randonnée - Pas à Pas... l'hiver
DESCRIPTION:Du sous-bois des forêts figées par le vent et le givre aux grandes étendues redessinées par la neige\, c’est une sortie d’initiation pour petits et grands.\nAvec le prêt du matériel adapté pour marcher sur la neige les accompagnateurs en montagne de Guide Nature Randonnée vous parlerons de l’adaptation des hommes à l’hiver\, des stratégies des animaux pour survivre et des histoires de Burle à faire froid dans le dos…
URL:https://crocoule.org/notre-evenement/les-estables-randonnee-pas-a-pas-lhiver-7/
LOCATION:Les Estables
CATEGORIES:06 ans +,Activité du week-end,Activité pendant les vacances,En famille,Exterieur,Tous les événements,Tout public
ATTACH;FMTTYPE=image/png:https://crocoule.org/wp-content/uploads/2025/11/a5b67e615addc0b6b28743356fcbb09a-tz3Opi.png
END:VEVENT
END:VCALENDAR