BEGIN:VCALENDAR
VERSION:2.0
PRODID:-//Crocoule - ECPv6.15.20//NONSGML v1.0//EN
CALSCALE:GREGORIAN
METHOD:PUBLISH
X-WR-CALNAME:Crocoule
X-ORIGINAL-URL:https://crocoule.org
X-WR-CALDESC:Évènements pour Crocoule
REFRESH-INTERVAL;VALUE=DURATION:PT1H
X-Robots-Tag:noindex
X-PUBLISHED-TTL:PT1H
BEGIN:VTIMEZONE
TZID:Europe/Paris
BEGIN:DAYLIGHT
TZOFFSETFROM:+0100
TZOFFSETTO:+0200
TZNAME:CEST
DTSTART:19760328T000000
END:DAYLIGHT
BEGIN:STANDARD
TZOFFSETFROM:+0200
TZOFFSETTO:+0100
TZNAME:CET
DTSTART:19760925T230000
END:STANDARD
BEGIN:DAYLIGHT
TZOFFSETFROM:+0100
TZOFFSETTO:+0200
TZNAME:CEST
DTSTART:19770403T010000
END:DAYLIGHT
BEGIN:STANDARD
TZOFFSETFROM:+0200
TZOFFSETTO:+0100
TZNAME:CET
DTSTART:19770925T010000
END:STANDARD
BEGIN:DAYLIGHT
TZOFFSETFROM:+0100
TZOFFSETTO:+0200
TZNAME:CEST
DTSTART:19780402T010000
END:DAYLIGHT
BEGIN:STANDARD
TZOFFSETFROM:+0200
TZOFFSETTO:+0100
TZNAME:CET
DTSTART:19781001T010000
END:STANDARD
BEGIN:DAYLIGHT
TZOFFSETFROM:+0100
TZOFFSETTO:+0200
TZNAME:CEST
DTSTART:19790401T010000
END:DAYLIGHT
BEGIN:STANDARD
TZOFFSETFROM:+0200
TZOFFSETTO:+0100
TZNAME:CET
DTSTART:19790930T010000
END:STANDARD
BEGIN:DAYLIGHT
TZOFFSETFROM:+0100
TZOFFSETTO:+0200
TZNAME:CEST
DTSTART:19800406T010000
END:DAYLIGHT
BEGIN:STANDARD
TZOFFSETFROM:+0200
TZOFFSETTO:+0100
TZNAME:CET
DTSTART:19800928T010000
END:STANDARD
BEGIN:DAYLIGHT
TZOFFSETFROM:+0100
TZOFFSETTO:+0200
TZNAME:CEST
DTSTART:19810329T010000
END:DAYLIGHT
BEGIN:STANDARD
TZOFFSETFROM:+0200
TZOFFSETTO:+0100
TZNAME:CET
DTSTART:19810927T010000
END:STANDARD
BEGIN:DAYLIGHT
TZOFFSETFROM:+0100
TZOFFSETTO:+0200
TZNAME:CEST
DTSTART:19820328T010000
END:DAYLIGHT
BEGIN:STANDARD
TZOFFSETFROM:+0200
TZOFFSETTO:+0100
TZNAME:CET
DTSTART:19820926T010000
END:STANDARD
BEGIN:DAYLIGHT
TZOFFSETFROM:+0100
TZOFFSETTO:+0200
TZNAME:CEST
DTSTART:19830327T010000
END:DAYLIGHT
BEGIN:STANDARD
TZOFFSETFROM:+0200
TZOFFSETTO:+0100
TZNAME:CET
DTSTART:19830925T010000
END:STANDARD
BEGIN:DAYLIGHT
TZOFFSETFROM:+0100
TZOFFSETTO:+0200
TZNAME:CEST
DTSTART:19840325T010000
END:DAYLIGHT
BEGIN:STANDARD
TZOFFSETFROM:+0200
TZOFFSETTO:+0100
TZNAME:CET
DTSTART:19840930T010000
END:STANDARD
BEGIN:DAYLIGHT
TZOFFSETFROM:+0100
TZOFFSETTO:+0200
TZNAME:CEST
DTSTART:19850331T010000
END:DAYLIGHT
BEGIN:STANDARD
TZOFFSETFROM:+0200
TZOFFSETTO:+0100
TZNAME:CET
DTSTART:19850929T010000
END:STANDARD
BEGIN:DAYLIGHT
TZOFFSETFROM:+0100
TZOFFSETTO:+0200
TZNAME:CEST
DTSTART:19860330T010000
END:DAYLIGHT
BEGIN:STANDARD
TZOFFSETFROM:+0200
TZOFFSETTO:+0100
TZNAME:CET
DTSTART:19860928T010000
END:STANDARD
BEGIN:DAYLIGHT
TZOFFSETFROM:+0100
TZOFFSETTO:+0200
TZNAME:CEST
DTSTART:19870329T010000
END:DAYLIGHT
BEGIN:STANDARD
TZOFFSETFROM:+0200
TZOFFSETTO:+0100
TZNAME:CET
DTSTART:19870927T010000
END:STANDARD
BEGIN:DAYLIGHT
TZOFFSETFROM:+0100
TZOFFSETTO:+0200
TZNAME:CEST
DTSTART:19880327T010000
END:DAYLIGHT
BEGIN:STANDARD
TZOFFSETFROM:+0200
TZOFFSETTO:+0100
TZNAME:CET
DTSTART:19880925T010000
END:STANDARD
BEGIN:DAYLIGHT
TZOFFSETFROM:+0100
TZOFFSETTO:+0200
TZNAME:CEST
DTSTART:19890326T010000
END:DAYLIGHT
BEGIN:STANDARD
TZOFFSETFROM:+0200
TZOFFSETTO:+0100
TZNAME:CET
DTSTART:19890924T010000
END:STANDARD
BEGIN:DAYLIGHT
TZOFFSETFROM:+0100
TZOFFSETTO:+0200
TZNAME:CEST
DTSTART:19900325T010000
END:DAYLIGHT
BEGIN:STANDARD
TZOFFSETFROM:+0200
TZOFFSETTO:+0100
TZNAME:CET
DTSTART:19900930T010000
END:STANDARD
BEGIN:DAYLIGHT
TZOFFSETFROM:+0100
TZOFFSETTO:+0200
TZNAME:CEST
DTSTART:19910331T010000
END:DAYLIGHT
BEGIN:STANDARD
TZOFFSETFROM:+0200
TZOFFSETTO:+0100
TZNAME:CET
DTSTART:19910929T010000
END:STANDARD
BEGIN:DAYLIGHT
TZOFFSETFROM:+0100
TZOFFSETTO:+0200
TZNAME:CEST
DTSTART:19920329T010000
END:DAYLIGHT
BEGIN:STANDARD
TZOFFSETFROM:+0200
TZOFFSETTO:+0100
TZNAME:CET
DTSTART:19920927T010000
END:STANDARD
BEGIN:DAYLIGHT
TZOFFSETFROM:+0100
TZOFFSETTO:+0200
TZNAME:CEST
DTSTART:19930328T010000
END:DAYLIGHT
BEGIN:STANDARD
TZOFFSETFROM:+0200
TZOFFSETTO:+0100
TZNAME:CET
DTSTART:19930926T010000
END:STANDARD
BEGIN:DAYLIGHT
TZOFFSETFROM:+0100
TZOFFSETTO:+0200
TZNAME:CEST
DTSTART:19940327T010000
END:DAYLIGHT
BEGIN:STANDARD
TZOFFSETFROM:+0200
TZOFFSETTO:+0100
TZNAME:CET
DTSTART:19940925T010000
END:STANDARD
BEGIN:DAYLIGHT
TZOFFSETFROM:+0100
TZOFFSETTO:+0200
TZNAME:CEST
DTSTART:19950326T010000
END:DAYLIGHT
BEGIN:STANDARD
TZOFFSETFROM:+0200
TZOFFSETTO:+0100
TZNAME:CET
DTSTART:19950924T010000
END:STANDARD
BEGIN:DAYLIGHT
TZOFFSETFROM:+0100
TZOFFSETTO:+0200
TZNAME:CEST
DTSTART:19960331T010000
END:DAYLIGHT
BEGIN:STANDARD
TZOFFSETFROM:+0200
TZOFFSETTO:+0100
TZNAME:CET
DTSTART:19961027T010000
END:STANDARD
BEGIN:DAYLIGHT
TZOFFSETFROM:+0100
TZOFFSETTO:+0200
TZNAME:CEST
DTSTART:19970330T010000
END:DAYLIGHT
BEGIN:STANDARD
TZOFFSETFROM:+0200
TZOFFSETTO:+0100
TZNAME:CET
DTSTART:19971026T010000
END:STANDARD
BEGIN:DAYLIGHT
TZOFFSETFROM:+0100
TZOFFSETTO:+0200
TZNAME:CEST
DTSTART:19980329T010000
END:DAYLIGHT
BEGIN:STANDARD
TZOFFSETFROM:+0200
TZOFFSETTO:+0100
TZNAME:CET
DTSTART:19981025T010000
END:STANDARD
BEGIN:DAYLIGHT
TZOFFSETFROM:+0100
TZOFFSETTO:+0200
TZNAME:CEST
DTSTART:19990328T010000
END:DAYLIGHT
BEGIN:STANDARD
TZOFFSETFROM:+0200
TZOFFSETTO:+0100
TZNAME:CET
DTSTART:19991031T010000
END:STANDARD
BEGIN:DAYLIGHT
TZOFFSETFROM:+0100
TZOFFSETTO:+0200
TZNAME:CEST
DTSTART:20000326T010000
END:DAYLIGHT
BEGIN:STANDARD
TZOFFSETFROM:+0200
TZOFFSETTO:+0100
TZNAME:CET
DTSTART:20001029T010000
END:STANDARD
BEGIN:DAYLIGHT
TZOFFSETFROM:+0100
TZOFFSETTO:+0200
TZNAME:CEST
DTSTART:20010325T010000
END:DAYLIGHT
BEGIN:STANDARD
TZOFFSETFROM:+0200
TZOFFSETTO:+0100
TZNAME:CET
DTSTART:20011028T010000
END:STANDARD
BEGIN:DAYLIGHT
TZOFFSETFROM:+0100
TZOFFSETTO:+0200
TZNAME:CEST
DTSTART:20020331T010000
END:DAYLIGHT
BEGIN:STANDARD
TZOFFSETFROM:+0200
TZOFFSETTO:+0100
TZNAME:CET
DTSTART:20021027T010000
END:STANDARD
BEGIN:DAYLIGHT
TZOFFSETFROM:+0100
TZOFFSETTO:+0200
TZNAME:CEST
DTSTART:20030330T010000
END:DAYLIGHT
BEGIN:STANDARD
TZOFFSETFROM:+0200
TZOFFSETTO:+0100
TZNAME:CET
DTSTART:20031026T010000
END:STANDARD
BEGIN:DAYLIGHT
TZOFFSETFROM:+0100
TZOFFSETTO:+0200
TZNAME:CEST
DTSTART:20040328T010000
END:DAYLIGHT
BEGIN:STANDARD
TZOFFSETFROM:+0200
TZOFFSETTO:+0100
TZNAME:CET
DTSTART:20041031T010000
END:STANDARD
BEGIN:DAYLIGHT
TZOFFSETFROM:+0100
TZOFFSETTO:+0200
TZNAME:CEST
DTSTART:20050327T010000
END:DAYLIGHT
BEGIN:STANDARD
TZOFFSETFROM:+0200
TZOFFSETTO:+0100
TZNAME:CET
DTSTART:20051030T010000
END:STANDARD
BEGIN:DAYLIGHT
TZOFFSETFROM:+0100
TZOFFSETTO:+0200
TZNAME:CEST
DTSTART:20060326T010000
END:DAYLIGHT
BEGIN:STANDARD
TZOFFSETFROM:+0200
TZOFFSETTO:+0100
TZNAME:CET
DTSTART:20061029T010000
END:STANDARD
BEGIN:DAYLIGHT
TZOFFSETFROM:+0100
TZOFFSETTO:+0200
TZNAME:CEST
DTSTART:20070325T010000
END:DAYLIGHT
BEGIN:STANDARD
TZOFFSETFROM:+0200
TZOFFSETTO:+0100
TZNAME:CET
DTSTART:20071028T010000
END:STANDARD
BEGIN:DAYLIGHT
TZOFFSETFROM:+0100
TZOFFSETTO:+0200
TZNAME:CEST
DTSTART:20080330T010000
END:DAYLIGHT
BEGIN:STANDARD
TZOFFSETFROM:+0200
TZOFFSETTO:+0100
TZNAME:CET
DTSTART:20081026T010000
END:STANDARD
BEGIN:DAYLIGHT
TZOFFSETFROM:+0100
TZOFFSETTO:+0200
TZNAME:CEST
DTSTART:20090329T010000
END:DAYLIGHT
BEGIN:STANDARD
TZOFFSETFROM:+0200
TZOFFSETTO:+0100
TZNAME:CET
DTSTART:20091025T010000
END:STANDARD
BEGIN:DAYLIGHT
TZOFFSETFROM:+0100
TZOFFSETTO:+0200
TZNAME:CEST
DTSTART:20100328T010000
END:DAYLIGHT
BEGIN:STANDARD
TZOFFSETFROM:+0200
TZOFFSETTO:+0100
TZNAME:CET
DTSTART:20101031T010000
END:STANDARD
BEGIN:DAYLIGHT
TZOFFSETFROM:+0100
TZOFFSETTO:+0200
TZNAME:CEST
DTSTART:20110327T010000
END:DAYLIGHT
BEGIN:STANDARD
TZOFFSETFROM:+0200
TZOFFSETTO:+0100
TZNAME:CET
DTSTART:20111030T010000
END:STANDARD
BEGIN:DAYLIGHT
TZOFFSETFROM:+0100
TZOFFSETTO:+0200
TZNAME:CEST
DTSTART:20120325T010000
END:DAYLIGHT
BEGIN:STANDARD
TZOFFSETFROM:+0200
TZOFFSETTO:+0100
TZNAME:CET
DTSTART:20121028T010000
END:STANDARD
BEGIN:DAYLIGHT
TZOFFSETFROM:+0100
TZOFFSETTO:+0200
TZNAME:CEST
DTSTART:20130331T010000
END:DAYLIGHT
BEGIN:STANDARD
TZOFFSETFROM:+0200
TZOFFSETTO:+0100
TZNAME:CET
DTSTART:20131027T010000
END:STANDARD
BEGIN:DAYLIGHT
TZOFFSETFROM:+0100
TZOFFSETTO:+0200
TZNAME:CEST
DTSTART:20140330T010000
END:DAYLIGHT
BEGIN:STANDARD
TZOFFSETFROM:+0200
TZOFFSETTO:+0100
TZNAME:CET
DTSTART:20141026T010000
END:STANDARD
BEGIN:DAYLIGHT
TZOFFSETFROM:+0100
TZOFFSETTO:+0200
TZNAME:CEST
DTSTART:20150329T010000
END:DAYLIGHT
BEGIN:STANDARD
TZOFFSETFROM:+0200
TZOFFSETTO:+0100
TZNAME:CET
DTSTART:20151025T010000
END:STANDARD
BEGIN:DAYLIGHT
TZOFFSETFROM:+0100
TZOFFSETTO:+0200
TZNAME:CEST
DTSTART:20160327T010000
END:DAYLIGHT
BEGIN:STANDARD
TZOFFSETFROM:+0200
TZOFFSETTO:+0100
TZNAME:CET
DTSTART:20161030T010000
END:STANDARD
BEGIN:DAYLIGHT
TZOFFSETFROM:+0100
TZOFFSETTO:+0200
TZNAME:CEST
DTSTART:20170326T010000
END:DAYLIGHT
BEGIN:STANDARD
TZOFFSETFROM:+0200
TZOFFSETTO:+0100
TZNAME:CET
DTSTART:20171029T010000
END:STANDARD
BEGIN:DAYLIGHT
TZOFFSETFROM:+0100
TZOFFSETTO:+0200
TZNAME:CEST
DTSTART:20180325T010000
END:DAYLIGHT
BEGIN:STANDARD
TZOFFSETFROM:+0200
TZOFFSETTO:+0100
TZNAME:CET
DTSTART:20181028T010000
END:STANDARD
BEGIN:DAYLIGHT
TZOFFSETFROM:+0100
TZOFFSETTO:+0200
TZNAME:CEST
DTSTART:20190331T010000
END:DAYLIGHT
BEGIN:STANDARD
TZOFFSETFROM:+0200
TZOFFSETTO:+0100
TZNAME:CET
DTSTART:20191027T010000
END:STANDARD
BEGIN:DAYLIGHT
TZOFFSETFROM:+0100
TZOFFSETTO:+0200
TZNAME:CEST
DTSTART:20200329T010000
END:DAYLIGHT
BEGIN:STANDARD
TZOFFSETFROM:+0200
TZOFFSETTO:+0100
TZNAME:CET
DTSTART:20201025T010000
END:STANDARD
BEGIN:DAYLIGHT
TZOFFSETFROM:+0100
TZOFFSETTO:+0200
TZNAME:CEST
DTSTART:20210328T010000
END:DAYLIGHT
BEGIN:STANDARD
TZOFFSETFROM:+0200
TZOFFSETTO:+0100
TZNAME:CET
DTSTART:20211031T010000
END:STANDARD
BEGIN:DAYLIGHT
TZOFFSETFROM:+0100
TZOFFSETTO:+0200
TZNAME:CEST
DTSTART:20220327T010000
END:DAYLIGHT
BEGIN:STANDARD
TZOFFSETFROM:+0200
TZOFFSETTO:+0100
TZNAME:CET
DTSTART:20221030T010000
END:STANDARD
BEGIN:DAYLIGHT
TZOFFSETFROM:+0100
TZOFFSETTO:+0200
TZNAME:CEST
DTSTART:20230326T010000
END:DAYLIGHT
BEGIN:STANDARD
TZOFFSETFROM:+0200
TZOFFSETTO:+0100
TZNAME:CET
DTSTART:20231029T010000
END:STANDARD
BEGIN:DAYLIGHT
TZOFFSETFROM:+0100
TZOFFSETTO:+0200
TZNAME:CEST
DTSTART:20240331T010000
END:DAYLIGHT
BEGIN:STANDARD
TZOFFSETFROM:+0200
TZOFFSETTO:+0100
TZNAME:CET
DTSTART:20241027T010000
END:STANDARD
BEGIN:DAYLIGHT
TZOFFSETFROM:+0100
TZOFFSETTO:+0200
TZNAME:CEST
DTSTART:20250330T010000
END:DAYLIGHT
BEGIN:STANDARD
TZOFFSETFROM:+0200
TZOFFSETTO:+0100
TZNAME:CET
DTSTART:20251026T010000
END:STANDARD
BEGIN:DAYLIGHT
TZOFFSETFROM:+0100
TZOFFSETTO:+0200
TZNAME:CEST
DTSTART:20260329T010000
END:DAYLIGHT
BEGIN:STANDARD
TZOFFSETFROM:+0200
TZOFFSETTO:+0100
TZNAME:CET
DTSTART:20261025T010000
END:STANDARD
BEGIN:DAYLIGHT
TZOFFSETFROM:+0100
TZOFFSETTO:+0200
TZNAME:CEST
DTSTART:20270328T010000
END:DAYLIGHT
BEGIN:STANDARD
TZOFFSETFROM:+0200
TZOFFSETTO:+0100
TZNAME:CET
DTSTART:20271031T010000
END:STANDARD
END:VTIMEZONE
BEGIN:VEVENT
DTSTART;TZID=Europe/Paris:20260424T063454
DTEND;TZID=Europe/Paris:20260219T170000
DTSTAMP:20260424T063454
CREATED:20251127T140922Z
LAST-MODIFIED:20260228T145706Z
UID:10012496-0-1771520400@crocoule.org
SUMMARY:Saint-Priest-en-Jarez | Laboratoire créatif
DESCRIPTION:Les enfants de 7 à 10 ans explorent la lumière et la couleur en créant des volumes transparents. Un atelier pour expérimenter avec la matière et jouer avec l’immatériel !
URL:https://crocoule.org/notre-evenement/saint-priest-en-jarez-laboratoire-creatif-4/
LOCATION:MAMC\, Saint Priest en Jarez
CATEGORIES:Activité pendant les vacances,Tous les événements
ATTACH;FMTTYPE=image/jpeg:https://crocoule.org/wp-content/uploads/2025/11/ATELIER_ENFANT_Motif_photo-h31rCO.jpg
END:VEVENT
BEGIN:VEVENT
DTSTART;TZID=Europe/Paris:20260424T063454
DTEND;TZID=Europe/Paris:20260225T163000
DTSTAMP:20260424T063454
CREATED:20260105T154307Z
LAST-MODIFIED:20260105T154314Z
UID:10012685-0-1772037000@crocoule.org
SUMMARY:Saint cyr les vignes | Visite animée "Challenge Fermier"
DESCRIPTION:Age minimum conseillé : 3 ans.\n8€enfant-7€/adulte. Gratuit – de 2 ans/Avec glace : 2\,20€\nLa durée indiquée n’inclut pas le temps de dégustation.
URL:https://crocoule.org/notre-evenement/saint-cyr-les-vignes-visite-animee-challenge-fermier-3/
LOCATION:Ferme Des Délices Foréziens\, 1230 Les Sermages\, Saint-Cyr-les-Vignes\, 42210
CATEGORIES:4 ans +,Activité pendant les vacances,Adultes,En famille,Tous les événements
ATTACH;FMTTYPE=image/jpeg:https://crocoule.org/wp-content/uploads/2026/01/91b7bc_c0d7fa14cd2a4f3788cda646d0da7485mv2-N2GksS.jpg
END:VEVENT
BEGIN:VEVENT
DTSTART;TZID=Europe/Paris:20250102T090000
DTEND;TZID=Europe/Paris:20260102T170000
DTSTAMP:20260424T063454
CREATED:20251127T140916Z
LAST-MODIFIED:20260228T145650Z
UID:10012492-1735808400-1767373200@crocoule.org
SUMMARY:Saint-Priest-en-Jarez | Sculpture de lumière
DESCRIPTION:Les adolescents de 11 à 14 ans composent des assemblages d’objets translucides et explorent les jeux de lumière en les mettant en scène. Un atelier pour expérimenter les effets de la lumière à travers les matériaux.
URL:https://crocoule.org/notre-evenement/saint-priest-en-jarez-sculpture-de-lumiere-2/
LOCATION:MAMC\, Saint Priest en Jarez
CATEGORIES:Activité pendant les vacances,Tous les événements
ATTACH;FMTTYPE=image/jpeg:https://crocoule.org/wp-content/uploads/2025/11/ATELIER_ado-BLyn0K.jpg
END:VEVENT
BEGIN:VEVENT
DTSTART;TZID=Europe/Paris:20250211T090000
DTEND;TZID=Europe/Paris:20260211T120000
DTSTAMP:20260424T063454
CREATED:20251127T140917Z
LAST-MODIFIED:20260228T145650Z
UID:10012493-1739264400-1770811200@crocoule.org
SUMMARY:Saint-Priest-en-Jarez | Transparence
DESCRIPTION:Les enfants de 4 à 6 ans créent un assemblage d’objets et matériaux transparents\, puis le dessinent en jouant avec les effets de lumière et de transparence. Un atelier pour éveiller le regard.
URL:https://crocoule.org/notre-evenement/saint-priest-en-jarez-transparence-3/
LOCATION:MAMC\, Saint Priest en Jarez
CATEGORIES:Activité pendant les vacances,Tous les événements
ATTACH;FMTTYPE=image/jpeg:https://crocoule.org/wp-content/uploads/2025/11/DESSIN_ESPACE-HMyh4M.jpg
END:VEVENT
BEGIN:VEVENT
DTSTART;TZID=Europe/Paris:20250212T090000
DTEND;TZID=Europe/Paris:20260212T170000
DTSTAMP:20260424T063455
CREATED:20251127T140921Z
LAST-MODIFIED:20260228T145706Z
UID:10012495-1739350800-1770915600@crocoule.org
SUMMARY:Saint-Priest-en-Jarez | Laboratoire créatif
DESCRIPTION:Les enfants de 7 à 10 ans explorent la lumière et la couleur en créant des volumes transparents. Un atelier pour expérimenter avec la matière et jouer avec l’immatériel !
URL:https://crocoule.org/notre-evenement/saint-priest-en-jarez-laboratoire-creatif-3/
LOCATION:MAMC\, Saint Priest en Jarez
CATEGORIES:Activité pendant les vacances,Tous les événements
ATTACH;FMTTYPE=image/jpeg:https://crocoule.org/wp-content/uploads/2025/11/ATELIER_ENFANT_Motif_photo-h31rCO.jpg
END:VEVENT
BEGIN:VEVENT
DTSTART;TZID=Europe/Paris:20250213T090000
DTEND;TZID=Europe/Paris:20260213T170000
DTSTAMP:20260424T063455
CREATED:20251127T140924Z
LAST-MODIFIED:20260228T145707Z
UID:10012497-1739437200-1771002000@crocoule.org
SUMMARY:Saint-Priest-en-Jarez | Sculpture de lumière
DESCRIPTION:Les adolescents de 11 à 14 ans composent des assemblages d’objets translucides et explorent les jeux de lumière en les mettant en scène. Un atelier pour expérimenter les effets de la lumière à travers les matériaux.
URL:https://crocoule.org/notre-evenement/saint-priest-en-jarez-sculpture-de-lumiere-3/
LOCATION:MAMC\, Saint Priest en Jarez
CATEGORIES:Activité pendant les vacances,Tous les événements
ATTACH;FMTTYPE=image/jpeg:https://crocoule.org/wp-content/uploads/2025/11/ATELIER_ado-BLyn0K.jpg
END:VEVENT
BEGIN:VEVENT
DTSTART;TZID=Europe/Paris:20250218T090000
DTEND;TZID=Europe/Paris:20260218T120000
DTSTAMP:20260424T063455
CREATED:20251127T140920Z
LAST-MODIFIED:20260228T145704Z
UID:10012494-1739869200-1771416000@crocoule.org
SUMMARY:Saint-Priest-en-Jarez | Transparence
DESCRIPTION:Les enfants de 4 à 6 ans créent un assemblage d’objets et matériaux transparents\, puis le dessinent en jouant avec les effets de lumière et de transparence. Un atelier pour éveiller le regard.
URL:https://crocoule.org/notre-evenement/saint-priest-en-jarez-transparence-4/
LOCATION:MAMC\, Saint Priest en Jarez
CATEGORIES:Activité pendant les vacances,Tous les événements
ATTACH;FMTTYPE=image/jpeg:https://crocoule.org/wp-content/uploads/2025/11/DESSIN_ESPACE-HMyh4M.jpg
END:VEVENT
BEGIN:VEVENT
DTSTART;TZID=Europe/Paris:20250220T090000
DTEND;TZID=Europe/Paris:20260220T170000
DTSTAMP:20260424T063455
CREATED:20251127T140925Z
LAST-MODIFIED:20260228T145708Z
UID:10012498-1740042000-1771606800@crocoule.org
SUMMARY:Saint-Priest-en-Jarez | Sculpture de lumière
DESCRIPTION:Les adolescents de 11 à 14 ans composent des assemblages d’objets translucides et explorent les jeux de lumière en les mettant en scène. Un atelier pour expérimenter les effets de la lumière à travers les matériaux.
URL:https://crocoule.org/notre-evenement/saint-priest-en-jarez-sculpture-de-lumiere-4/
LOCATION:MAMC\, Saint Priest en Jarez
CATEGORIES:Activité pendant les vacances,Tous les événements
ATTACH;FMTTYPE=image/jpeg:https://crocoule.org/wp-content/uploads/2025/11/ATELIER_ado-BLyn0K.jpg
END:VEVENT
BEGIN:VEVENT
DTSTART;TZID=Europe/Paris:20250224T080000
DTEND;TZID=Europe/Paris:20250228T170000
DTSTAMP:20260424T063455
CREATED:20250115T091928Z
LAST-MODIFIED:20250115T091928Z
UID:10010320-1740384000-1740762000@crocoule.org
SUMMARY:STAGE MULTI SPORTS
DESCRIPTION:STAGE MULTISPORTS ST ETIENNE LOIRE FAMILLE CLIMB UP \nVivez une semaine intense\nd’activités sportives sur\nle site de loisirs sportifs\nindoor de Saint-Étienne… \n\n\n\n\n5 jours de stage\,\n5 sports différents\,\n5 complexes\,\n1 seule et même adresse : \n\n\n\n\nSPORT FACTORY \n\n\n\n\nDécouvrez et initiez-vous à des activités sportives FUNS\, LUDIQUES et ACCESSIBLES à toutes et tous ! \n\n\n\n\nDU LUNDI 24 au VENDREDI 28 février\nStage fille – garçon\n8/14 ans
URL:https://crocoule.org/notre-evenement/stage-multi-sports/
LOCATION:Climb up\, 9 Esplanade Bénévent\, Accès par 19\, allée Jean Lauer\, Saint Etienne
CATEGORIES:08 ans +,09 ans +,10 ans +,11 ans +,12 ans +,Activité pendant les vacances,Intérieur,Tous les événements
ATTACH;FMTTYPE=image/webp:https://crocoule.org/wp-content/uploads/2025/01/AFFICHE_STAGES-MULTISPORTS_060125-1-768x924-1.webp
END:VEVENT
BEGIN:VEVENT
DTSTART;TZID=Europe/Paris:20250224T140000
DTEND;TZID=Europe/Paris:20250309T170000
DTSTAMP:20260424T063455
CREATED:20250217T111528Z
LAST-MODIFIED:20250221T111750Z
UID:10010337-1740405600-1741539600@crocoule.org
SUMMARY:⭐ Andrezieux | Atelier_stage LEGO ⭐ code promo crocoule ⭐
DESCRIPTION:Les Stages se déroulent tous les après-midi des vacances de 14h à 17h\, pendant 3 heures et par groupes de 12 enfants maximum\, vos enfants vont construire nos modèles exclusifs sur la thématique « le monde des sorciers. » \nEncadrés par nos animateurs\, la première heure et demie sera dédiée à la construction de modèles motorisés sur la thématique des vacances (araignées qui se déplacent\, sorcière sur son balai qui tourne\, chaudron animé\, etc). En plus de travailler leur dextérité et de les sensibiliser à l’ingénierie avec l’utilisation de rouages et d’essieux\, nous profiterons de leurs constructions pour leur apporter quelques connaissances\, anecdotes sur les sorciers et leurs univers. \nAprès ce premier temps « imposé »\, nous nous adapterons aux enfants et au groupe du jour afin de leur proposer d’autres activités. Ils pourront par exemple construire d’autres modèles de notre crue sur un sujet qui les passionne ou alors faire du jeu libre et bâtir le décor de leur choix en lien avec les modèles précédemment construit\, mais encore mettre en scène leurs créations et réaliser une BD ou un court-métrage.\nSelon la dynamique du groupe et la volonté des enfants. Aussi\, nous les métrons au défi avec des challenges collaboratifs (construction d’un mur avec des contraintes\, challenge comme l’émission brick master etc) \nNous sommes impatients de recevoir vos enfants !\nLe tarif à la demi-journée est initialement à 35 euros\, mais il revient à 29 euros avec le code promo CROCOULE`
URL:https://crocoule.org/notre-evenement/andrezieux-atelier_stage/
LOCATION:BRICK4KIDZS ST ETIENNE\, 242 Rue Pierre-Georges Latécoère\, ANDREZIEUX\, 42160
CATEGORIES:05 ans +,06 ans +,07 ans +,08 ans +,09 ans +,10 ans +,11 ans +,12 ans +,Activité du week-end,Activité pendant les vacances,Intérieur,Tous les événements
ATTACH;FMTTYPE=image/jpeg:https://crocoule.org/wp-content/uploads/2025/02/DSC00718-1024x683-d6rzTS.tmp_.jpg
END:VEVENT
BEGIN:VEVENT
DTSTART;TZID=Europe/Paris:20250227T093000
DTEND;TZID=Europe/Paris:20250227T120000
DTSTAMP:20260424T063455
CREATED:20241125T094508Z
LAST-MODIFIED:20241125T094508Z
UID:10009927-1740648600-1740657600@crocoule.org
SUMMARY:Les Estables | Traces & Indices
DESCRIPTION:Une sortie à la découverte des adaptations au condition hivernal de la faune et la flore. Pistez tel un enquêteur les traces et indices laissé par les animaux. Cette sortie est idéal pour plonger dans l’univers de la faune sauvage.
URL:https://crocoule.org/notre-evenement/les-estables-traces-indices-6/
LOCATION:Office de tourisme les Estables\, Place du Mézenc\, Les Estables\, 43150\, France
CATEGORIES:07 ans +,Activité en semaine,Activité pendant les vacances,Adultes,En famille,Exterieur,Tous les événements
ATTACH;FMTTYPE=image/png:https://crocoule.org/wp-content/uploads/2024/11/b1d1d92c208e178cbf8c8dbd81394adb-quUnby.tmp_.png
END:VEVENT
BEGIN:VEVENT
DTSTART;TZID=Europe/Paris:20250227T100000
DTEND;TZID=Europe/Paris:20250227T120000
DTSTAMP:20260424T063455
CREATED:20241125T075942Z
LAST-MODIFIED:20241125T084041Z
UID:10009857-1740650400-1740657600@crocoule.org
SUMMARY:Saint-Etienne | Atelier Ça bouge
DESCRIPTION:Ça bouge ! Oui on bouge\, mais comment ça marche ? Découvrez les secrets du mouvement chez l’être humain et chez les animaux et construisez la maquette d’un membre fonctionnel.7-12 ans\, enfants seuls
URL:https://crocoule.org/notre-evenement/saint-etienne-atelier-ca-bouge-5/
CATEGORIES:07 ans +,08 ans +,09 ans +,10 ans +,11 ans +,12 ans +,Activité du week-end,Activité en semaine,Activité pendant les vacances,Intérieur,Jeune Public,Tous les événements
END:VEVENT
BEGIN:VEVENT
DTSTART;TZID=Europe/Paris:20250227T143000
DTEND;TZID=Europe/Paris:20250227T163000
DTSTAMP:20260424T063455
CREATED:20241109T102702Z
LAST-MODIFIED:20241125T092752Z
UID:10009806-1740666600-1740673800@crocoule.org
SUMMARY:Saint cyr les vignes | Les petits gourmets\nfabriquent leur \nchocolat liégeois
DESCRIPTION:Découvrez les ingrédients\nqui composent le chocolat\nliegeois avant de passer\nen cuisine…\n11\,50€/pers avec goûter\ninclut la boule de glace
URL:https://crocoule.org/notre-evenement/saint-cyr-les-vignes-les-petits-gourmetsfabriquent-leur-chocolat-liegeois-2/
LOCATION:Ferme Des Délices Foréziens\, 1230 Les Sermages\, Saint-Cyr-les-Vignes\, 42210
CATEGORIES:05 ans +,Activité pendant les vacances,En famille,Tous les événements
ATTACH;FMTTYPE=image/jpeg:https://crocoule.org/wp-content/uploads/2024/11/chocolats.jpg
END:VEVENT
BEGIN:VEVENT
DTSTART;TZID=Europe/Paris:20250227T143000
DTEND;TZID=Europe/Paris:20250227T163000
DTSTAMP:20260424T063455
CREATED:20241125T074205Z
LAST-MODIFIED:20250313T163305Z
UID:10009830-1740666600-1740673800@crocoule.org
SUMMARY:Usson en Forez | Atelier de la vache au beurre
DESCRIPTION:Atelier pour les enfants et les parents.\nPréparation et dégustation de son beurre avec boisson chaude offerte.
URL:https://crocoule.org/notre-evenement/usson-en-forez-atelier-de-la-vache-au-beurre/
CATEGORIES:06 ans +,Activité pendant les vacances,En famille,Intérieur,Tous les événements
END:VEVENT
BEGIN:VEVENT
DTSTART;TZID=Europe/Paris:20250227T143000
DTEND;TZID=Europe/Paris:20250227T170000
DTSTAMP:20260424T063455
CREATED:20241125T094523Z
LAST-MODIFIED:20241125T094523Z
UID:10009933-1740666600-1740675600@crocoule.org
SUMMARY:Les Estables | Challenge du feu
DESCRIPTION:Ajoutons une étincelle à une course d’orientation pour la transformer en un challenge coopératif.\nAvec votre équipe\, à chaque balise\, résolvez des énigmes pour être les premiers à griller vos chamalows sur un feu que vous aurez allumer grâce à des techniques de trappeur ! Une occasion ludique de s’initier ou se perfectionner à l’orientation.
URL:https://crocoule.org/notre-evenement/les-estables-challenge-du-feu-4/
LOCATION:Office de tourisme les Estables\, Place du Mézenc\, Les Estables\, 43150\, France
CATEGORIES:07 ans +,Activité en semaine,Activité pendant les vacances,Adultes,En famille,Exterieur,Tous les événements
ATTACH;FMTTYPE=image/png:https://crocoule.org/wp-content/uploads/2024/11/5b1baf833bdbf8dbd79cb1d201896a9f-e4bnyo.tmp_.png
END:VEVENT
BEGIN:VEVENT
DTSTART;TZID=Europe/Paris:20250227T143000
DTEND;TZID=Europe/Paris:20250227T170000
DTSTAMP:20260424T063455
CREATED:20250218T152625Z
LAST-MODIFIED:20250313T151614Z
UID:10010598-1740666600-1740675600@crocoule.org
SUMMARY:SAINT-CLEMENT | Secrets de cerfs-volants
DESCRIPTION:Comment atteindre les nuages quand on ne sait pas voler ?\nViens découvrir les cerfs-volants\, appelés aussi « oiseaux de papier »\, inventés par les Chinois il y a plus de 2000 ans. Réalise ton propre cerf-volant et fais-le s’envoler !
URL:https://crocoule.org/notre-evenement/saint-clement-secrets-de-cerfs-volants/
LOCATION:École du vent\, Le Village\, Saint-Clément\, 07310
CATEGORIES:05 ans +,Activité pendant les vacances,Tous les événements
ATTACH;FMTTYPE=image/jpeg:https://crocoule.org/wp-content/uploads/2025/02/28578677-diaporama-DRcIBX.tmp_.jpg
END:VEVENT
END:VCALENDAR