BEGIN:VCALENDAR
VERSION:2.0
PRODID:-//Crocoule - ECPv6.15.20//NONSGML v1.0//EN
CALSCALE:GREGORIAN
METHOD:PUBLISH
X-ORIGINAL-URL:https://crocoule.org
X-WR-CALDESC:Évènements pour Crocoule
REFRESH-INTERVAL;VALUE=DURATION:PT1H
X-Robots-Tag:noindex
X-PUBLISHED-TTL:PT1H
BEGIN:VTIMEZONE
TZID:Europe/Paris
BEGIN:DAYLIGHT
TZOFFSETFROM:+0100
TZOFFSETTO:+0200
TZNAME:CEST
DTSTART:20250330T010000
END:DAYLIGHT
BEGIN:STANDARD
TZOFFSETFROM:+0200
TZOFFSETTO:+0100
TZNAME:CET
DTSTART:20251026T010000
END:STANDARD
BEGIN:DAYLIGHT
TZOFFSETFROM:+0100
TZOFFSETTO:+0200
TZNAME:CEST
DTSTART:20260329T010000
END:DAYLIGHT
BEGIN:STANDARD
TZOFFSETFROM:+0200
TZOFFSETTO:+0100
TZNAME:CET
DTSTART:20261025T010000
END:STANDARD
BEGIN:DAYLIGHT
TZOFFSETFROM:+0100
TZOFFSETTO:+0200
TZNAME:CEST
DTSTART:20270328T010000
END:DAYLIGHT
BEGIN:STANDARD
TZOFFSETFROM:+0200
TZOFFSETTO:+0100
TZNAME:CET
DTSTART:20271031T010000
END:STANDARD
END:VTIMEZONE
BEGIN:VEVENT
DTSTART;TZID=Europe/Paris:20260404T100000
DTEND;TZID=Europe/Paris:20261101T180000
DTSTAMP:20260425T200657
CREATED:20260228T170319Z
LAST-MODIFIED:20260228T170319Z
UID:10012826-1775296800-1793556000@crocoule.org
SUMMARY:LE CHEYLARD | GRAINES : l'expo !
DESCRIPTION:Durée de visite : 1h30 environ \nCette exposition\, vous plongera des le monde secret et fascinant des plantes et des graines. Une exposition interactive pour la famille. De nombreux événemenst et ateliers programmées autour de cette thématique. \nAdulte (du 15/04/2025 au 02/11/2025)        6€\nEnfant (du 15/04/2025 au 02/11/2025)        4€\nForfait famille (du 15/04/2025 au 02/11/2025)\n2 adultes\, 2 enfants + 2€ par enfant supplémentaire\n18€
URL:https://crocoule.org/notre-evenement/le-cheylard-graines-lexpo/
CATEGORIES:06 ans +,Activité du week-end,Activité en semaine,Activité pendant les vacances,Adultes,En famille,Expo,Tous les événements
ATTACH;FMTTYPE=image/jpeg:https://crocoule.org/wp-content/uploads/2026/02/AFFICHE-GRAINES-FORMAT-A4-ADM-V8-l5BSdZ.jpg
END:VEVENT
BEGIN:VEVENT
DTSTART;TZID=Europe/Paris:20260506T100000
DTEND;TZID=Europe/Paris:20260506T113000
DTSTAMP:20260425T200657
CREATED:20260302T131949Z
LAST-MODIFIED:20260305T094659Z
UID:10013273-1778061600-1778067000@crocoule.org
SUMMARY:Le Puy-en-Velay | Atelier Patouille
DESCRIPTION:Un atelier parents/enfants en accès libre autour d’une activité manuelle ou sensorielle
URL:https://crocoule.org/notre-evenement/le-puy-en-velay-atelier-patouille-44/
LOCATION:Le P’tit Café – Le Puy En Velay\, 25 pl du marché couvert\, Le Puy-en-Velay\, 43000\, France
CATEGORIES:01 an +,Activité en semaine,En famille,Intérieur,Tous les événements
END:VEVENT
BEGIN:VEVENT
DTSTART;TZID=Europe/Paris:20260506T100000
DTEND;TZID=Europe/Paris:20260506T114500
DTSTAMP:20260425T200657
CREATED:20260228T144720Z
LAST-MODIFIED:20260228T222756Z
UID:10012812-1778061600-1778067900@crocoule.org
SUMMARY:Saint-Étienne | Atelier "Coup de bluff"
DESCRIPTION:Viens relever des défis étonnants et réaliser des tours surprenants ! En manipulant\, en observant et en testant\, tu découvriras comment fonctionnent ces effets et apprendras à les refaire toi-même. Un atelier pour jouer\, réfléchir et s’étonner.
URL:https://crocoule.org/notre-evenement/saint-etienne-atelier-coup-de-bluff-2/
CATEGORIES:08 ans +,09 ans +,10 ans +,11 ans +,12 ans +,Activité en semaine,Jeune Public,Tous les événements
ATTACH;FMTTYPE=image/jpeg:https://crocoule.org/wp-content/uploads/2026/02/coup-de-bluff-site-Mnu3C9.jpg
END:VEVENT
BEGIN:VEVENT
DTSTART;TZID=Europe/Paris:20260506T100000
DTEND;TZID=Europe/Paris:20260506T180000
DTSTAMP:20260425T200657
CREATED:20260302T132007Z
LAST-MODIFIED:20260305T094745Z
UID:10013284-1778061600-1778090400@crocoule.org
SUMMARY:Le Puy-en-Velay | Les mercredis on joue !
DESCRIPTION:De nouveaux jeux de la Ludothèque\, à partager seul.e ou en famille\, pour grands et petits. L’occasion de découvrir ou redécouvrir le p’tit Café\, ce lieu d’accueil chaleureux pour les familles.
URL:https://crocoule.org/notre-evenement/le-puy-en-velay-les-mercredis-on-joue-22/
LOCATION:Le P’tit Café – Le Puy En Velay\, 25 pl du marché couvert\, Le Puy-en-Velay\, 43000\, France
CATEGORIES:03 ans +,Activité en semaine,Activité pendant les vacances,Adultes,En famille,Gratuit,Intérieur,Tous les événements
END:VEVENT
BEGIN:VEVENT
DTSTART;TZID=Europe/Paris:20260506T140000
DTEND;TZID=Europe/Paris:20260506T160000
DTSTAMP:20260425T200657
CREATED:20260228T144525Z
LAST-MODIFIED:20260228T201008Z
UID:10012810-1778076000-1778083200@crocoule.org
SUMMARY:Saint-Étienne | Atelier "Du bout des mains jusqu'au ciel"
DESCRIPTION:EN TRIBU. Construisez et faites voler votre propre cerf-volant ! Découpez\, assemblez\, testez et améliorez votre modèle pour comprendre comment il s’élève dans les airs. Un atelier créatif et scientifique pour expérimenter le vent et le vol en famille. En partenariat avec La Comète
URL:https://crocoule.org/notre-evenement/saint-etienne-atelier-du-bout-des-mains-jusquau-ciel-3/
CATEGORIES:07 ans +,08 ans +,09 ans +,10 ans +,11 ans +,12 ans +,Activité en semaine,En famille,Jeune Public,Tous les événements
ATTACH;FMTTYPE=image/jpeg:https://crocoule.org/wp-content/uploads/2026/02/Cerf-volant-site-01-1-AKiBgB.jpg
END:VEVENT
BEGIN:VEVENT
DTSTART;TZID=Europe/Paris:20260506T140000
DTEND;TZID=Europe/Paris:20260506T173000
DTSTAMP:20260425T200657
CREATED:20260301T112219Z
LAST-MODIFIED:20260301T112219Z
UID:10013065-1778076000-1778088600@crocoule.org
SUMMARY:Saint-Galmier | Les Goûters créatifs en duo ou trio
DESCRIPTION:– 4 ans + – 15 € – 14h00-15h30  ou 16h00-17h30\nCompose un duo ou un trio : ami/amie\, Soeur/ frère mère/père\, grand-mère/père\, tante/Oncle et installe-toi à une table et la Cré’Animatrice va vous accompagner pour un moment de création partagée et gourmand !\nsur réservation : 06 83 92 62 48 \n42 330 Saint- Galmier – Boutique de Créateurs – Animations créatives et gourmandes
URL:https://crocoule.org/notre-evenement/saint-galmier-les-gouters-creatifs-en-duo-ou-trio-12/
CATEGORIES:04 ans +,Activité en semaine,En famille,Intérieur,Tous les événements
END:VEVENT
BEGIN:VEVENT
DTSTART;TZID=Europe/Paris:20260506T150000
DTEND;TZID=Europe/Paris:20260506T170000
DTSTAMP:20260425T200657
CREATED:20260302T132034Z
LAST-MODIFIED:20260305T094757Z
UID:10013303-1778079600-1778086800@crocoule.org
SUMMARY:Le Puy-en-Velay | Tricot-crochet
DESCRIPTION:Ateliers tricot-crochet avec Bernadette et ses copines !
URL:https://crocoule.org/notre-evenement/le-puy-en-velay-tricot-crochet-10/
LOCATION:Le P’tit Café – Le Puy En Velay\, 25 pl du marché couvert\, Le Puy-en-Velay\, 43000\, France
CATEGORIES:04 ans +,Activité en semaine,Adultes,En famille,Intérieur,Tous les événements
END:VEVENT
END:VCALENDAR