BEGIN:VCALENDAR
VERSION:2.0
PRODID:-//Crocoule - ECPv6.15.15//NONSGML v1.0//EN
CALSCALE:GREGORIAN
METHOD:PUBLISH
X-ORIGINAL-URL:https://crocoule.org
X-WR-CALDESC:Évènements pour Crocoule
REFRESH-INTERVAL;VALUE=DURATION:PT1H
X-Robots-Tag:noindex
X-PUBLISHED-TTL:PT1H
BEGIN:VTIMEZONE
TZID:Europe/Paris
BEGIN:DAYLIGHT
TZOFFSETFROM:+0100
TZOFFSETTO:+0200
TZNAME:CEST
DTSTART:20250330T010000
END:DAYLIGHT
BEGIN:STANDARD
TZOFFSETFROM:+0200
TZOFFSETTO:+0100
TZNAME:CET
DTSTART:20251026T010000
END:STANDARD
BEGIN:DAYLIGHT
TZOFFSETFROM:+0100
TZOFFSETTO:+0200
TZNAME:CEST
DTSTART:20260329T010000
END:DAYLIGHT
BEGIN:STANDARD
TZOFFSETFROM:+0200
TZOFFSETTO:+0100
TZNAME:CET
DTSTART:20261025T010000
END:STANDARD
BEGIN:DAYLIGHT
TZOFFSETFROM:+0100
TZOFFSETTO:+0200
TZNAME:CEST
DTSTART:20270328T010000
END:DAYLIGHT
BEGIN:STANDARD
TZOFFSETFROM:+0200
TZOFFSETTO:+0100
TZNAME:CET
DTSTART:20271031T010000
END:STANDARD
END:VTIMEZONE
BEGIN:VEVENT
DTSTART;TZID=Europe/Paris:20260404T100000
DTEND;TZID=Europe/Paris:20261101T180000
DTSTAMP:20260421T110305
CREATED:20260228T170319Z
LAST-MODIFIED:20260228T170319Z
UID:10012826-1775296800-1793556000@crocoule.org
SUMMARY:LE CHEYLARD | GRAINES : l'expo !
DESCRIPTION:Durée de visite : 1h30 environ \nCette exposition\, vous plongera des le monde secret et fascinant des plantes et des graines. Une exposition interactive pour la famille. De nombreux événemenst et ateliers programmées autour de cette thématique. \nAdulte (du 15/04/2025 au 02/11/2025)        6€\nEnfant (du 15/04/2025 au 02/11/2025)        4€\nForfait famille (du 15/04/2025 au 02/11/2025)\n2 adultes\, 2 enfants + 2€ par enfant supplémentaire\n18€
URL:https://crocoule.org/notre-evenement/le-cheylard-graines-lexpo/
CATEGORIES:06 ans +,Activité du week-end,Activité en semaine,Activité pendant les vacances,Adultes,En famille,Expo,Tous les événements
ATTACH;FMTTYPE=image/jpeg:https://crocoule.org/wp-content/uploads/2026/02/AFFICHE-GRAINES-FORMAT-A4-ADM-V8-l5BSdZ.jpg
END:VEVENT
BEGIN:VEVENT
DTSTART;TZID=Europe/Paris:20260414T140000
DTEND;TZID=Europe/Paris:20260414T180000
DTSTAMP:20260421T110305
CREATED:20260228T143350Z
LAST-MODIFIED:20260228T143350Z
UID:10012785-1776175200-1776189600@crocoule.org
SUMMARY:APINAC | Jeu de piste au moulin de Vignal
DESCRIPTION:Au Moulin de Vignal\, plongez dans le jeu de piste « Le Meunier et la roue bloquée ».\nLa roue du moulin s’est arrêtée… À vous de résoudre les énigmes\, explorer les lieux et retrouver ce qui empêche le moulin de fonctionner. Une aventure immersive à vivre en famille ou entre amis\, au cœur d’un site authentique toujours en activité. Dès 7 ans\, en groupe/tribu de mini 4 personnes. Sur réservation.
URL:https://crocoule.org/notre-evenement/apinac-jeu-de-piste-au-moulin-de-vignal-2/
CATEGORIES:07 ans +,Activité en semaine,Activité pendant les vacances,En famille,Tous les événements,Tout public
END:VEVENT
BEGIN:VEVENT
DTSTART;TZID=Europe/Paris:20260414T143000
DTEND;TZID=Europe/Paris:20260414T160000
DTSTAMP:20260421T110305
CREATED:20260301T095945Z
LAST-MODIFIED:20260301T095945Z
UID:10012984-1776177000-1776182400@crocoule.org
SUMMARY:Saint-Étienne | LA COLLINE DE MONTAUD / ENTRE CIEL ET TERRE
DESCRIPTION:Saint-Étienne est une ville verte où la nature est partout. Partez en famille pour un voyage botanique au cœur de la ville : de place en place\, de jardin en montée\, ramassez\, sentez et repartez avec votre Herbier de Sainté.
URL:https://crocoule.org/notre-evenement/saint-etienne-la-colline-de-montaud-entre-ciel-et-terre/
CATEGORIES:08 ans +,Activité en semaine,Activité pendant les vacances,Exterieur,Intérieur,Jeune Public,Tous les événements
END:VEVENT
END:VCALENDAR