BEGIN:VCALENDAR
VERSION:2.0
PRODID:-//Crocoule - ECPv6.15.15//NONSGML v1.0//EN
CALSCALE:GREGORIAN
METHOD:PUBLISH
X-WR-CALNAME:Crocoule
X-ORIGINAL-URL:https://crocoule.org
X-WR-CALDESC:Évènements pour Crocoule
REFRESH-INTERVAL;VALUE=DURATION:PT1H
X-Robots-Tag:noindex
X-PUBLISHED-TTL:PT1H
BEGIN:VTIMEZONE
TZID:Europe/Paris
BEGIN:DAYLIGHT
TZOFFSETFROM:+0100
TZOFFSETTO:+0200
TZNAME:CEST
DTSTART:20250330T010000
END:DAYLIGHT
BEGIN:STANDARD
TZOFFSETFROM:+0200
TZOFFSETTO:+0100
TZNAME:CET
DTSTART:20251026T010000
END:STANDARD
BEGIN:DAYLIGHT
TZOFFSETFROM:+0100
TZOFFSETTO:+0200
TZNAME:CEST
DTSTART:20260329T010000
END:DAYLIGHT
BEGIN:STANDARD
TZOFFSETFROM:+0200
TZOFFSETTO:+0100
TZNAME:CET
DTSTART:20261025T010000
END:STANDARD
BEGIN:DAYLIGHT
TZOFFSETFROM:+0100
TZOFFSETTO:+0200
TZNAME:CEST
DTSTART:20270328T010000
END:DAYLIGHT
BEGIN:STANDARD
TZOFFSETFROM:+0200
TZOFFSETTO:+0100
TZNAME:CET
DTSTART:20271031T010000
END:STANDARD
END:VTIMEZONE
BEGIN:VEVENT
DTSTART;TZID=Europe/Paris:20260404T100000
DTEND;TZID=Europe/Paris:20260404T120000
DTSTAMP:20260421T105637
CREATED:20260228T144440Z
LAST-MODIFIED:20260228T200951Z
UID:10012802-1775296800-1775304000@crocoule.org
SUMMARY:Saint-Étienne | Atelier "Alerte éruption !"
DESCRIPTION:Plonge dans l’univers des volcans ! Expériences\, manipulations et éruptions spectaculaires pour observer\, tester et comprendre comment naissent ces phénomènes et les métiers qui les étudient.
URL:https://crocoule.org/notre-evenement/saint-etienne-atelier-alerte-eruption/
CATEGORIES:09 ans +,10 ans +,11 ans +,12 ans +,Activité du week-end,Jeune Public,Tous les événements
ATTACH;FMTTYPE=image/jpeg:https://crocoule.org/wp-content/uploads/2026/02/Volcan-site-01-ya4nam.jpg
END:VEVENT
BEGIN:VEVENT
DTSTART;TZID=Europe/Paris:20260404T100000
DTEND;TZID=Europe/Paris:20260404T180000
DTSTAMP:20260421T105637
CREATED:20260301T112119Z
LAST-MODIFIED:20260301T112119Z
UID:10013045-1775296800-1775325600@crocoule.org
SUMMARY:Saint-Galmier | Les Expériences créatives du samedi : Atelier Caritatif : " 150 km contre le Cancer\, Je cours\, ils se battent" Dessin Peinture - Fresque collaborative
DESCRIPTION:Viens soutenir Damien dans le cadre de son défi sportif – » 150 km contre le Cancer\, Je cours\, ils se battent »  Tour du Forez du samedi 04/04 au dimanche 05/04\nen réalisant une fresque commune sur les bienfaits du sport contre la maladie.\nRéalisation en mode STREET ART une fresque sur papier carton qui sera offerte à Damien lors de son retour.\nSans réservation de 10h à 18h  – à partir de 4 ans\nParticipation libre à la cagnotte de la Ligue contre le cancer.\nRenseignement : 06 15 72 08 99 ou localdu4@gmail.com\n42 330 Saint- Galmier – Boutique de Créateurs – Animations créatives et gourmandes
URL:https://crocoule.org/notre-evenement/saint-galmier-les-experiences-creatives-du-samedi-atelier-caritatif-150-km-contre-le-cancer-je-cours-ils-se-battent-dessin-peinture-fresque-collaborative/
CATEGORIES:Activité du week-end,Intérieur,Tous les événements,Tout public
END:VEVENT
BEGIN:VEVENT
DTSTART;TZID=Europe/Paris:20260404T100000
DTEND;TZID=Europe/Paris:20261101T180000
DTSTAMP:20260421T105637
CREATED:20260228T170319Z
LAST-MODIFIED:20260228T170319Z
UID:10012826-1775296800-1793556000@crocoule.org
SUMMARY:LE CHEYLARD | GRAINES : l'expo !
DESCRIPTION:Durée de visite : 1h30 environ \nCette exposition\, vous plongera des le monde secret et fascinant des plantes et des graines. Une exposition interactive pour la famille. De nombreux événemenst et ateliers programmées autour de cette thématique. \nAdulte (du 15/04/2025 au 02/11/2025)        6€\nEnfant (du 15/04/2025 au 02/11/2025)        4€\nForfait famille (du 15/04/2025 au 02/11/2025)\n2 adultes\, 2 enfants + 2€ par enfant supplémentaire\n18€
URL:https://crocoule.org/notre-evenement/le-cheylard-graines-lexpo/
CATEGORIES:06 ans +,Activité du week-end,Activité en semaine,Activité pendant les vacances,Adultes,En famille,Expo,Tous les événements
ATTACH;FMTTYPE=image/jpeg:https://crocoule.org/wp-content/uploads/2026/02/AFFICHE-GRAINES-FORMAT-A4-ADM-V8-l5BSdZ.jpg
END:VEVENT
BEGIN:VEVENT
DTSTART;TZID=Europe/Paris:20260404T140000
DTEND;TZID=Europe/Paris:20260404T160000
DTSTAMP:20260421T105637
CREATED:20260228T144522Z
LAST-MODIFIED:20260228T201007Z
UID:10012808-1775311200-1775318400@crocoule.org
SUMMARY:Saint-Étienne | Atelier "Du bout des mains jusqu'au ciel"
DESCRIPTION:EN TRIBU. Construisez et faites voler votre propre cerf-volant ! Découpez\, assemblez\, testez et améliorez votre modèle pour comprendre comment il s’élève dans les airs. Un atelier créatif et scientifique pour expérimenter le vent et le vol en famille. En partenariat avec La Comète
URL:https://crocoule.org/notre-evenement/saint-etienne-atelier-du-bout-des-mains-jusquau-ciel/
CATEGORIES:07 ans +,08 ans +,09 ans +,10 ans +,11 ans +,12 ans +,Activité du week-end,En famille,Jeune Public,Tous les événements
ATTACH;FMTTYPE=image/jpeg:https://crocoule.org/wp-content/uploads/2026/02/Cerf-volant-site-01-1-AKiBgB.jpg
END:VEVENT
BEGIN:VEVENT
DTSTART;TZID=Europe/Paris:20260404T140000
DTEND;TZID=Europe/Paris:20260420T170000
DTSTAMP:20260421T105637
CREATED:20260228T171320Z
LAST-MODIFIED:20260228T171320Z
UID:10012860-1775311200-1776704400@crocoule.org
SUMMARY:Andrezieux | Atelier_stage
DESCRIPTION:Les Stages se déroulent tous les après-midi des vacances de 14h à 17h\, pendant 3 heures et par groupes de 12 enfants maximum\, vos enfants vont construire nos modèles exclusifs sur la thématique « le monde des sorciers. » \nEncadrés par nos animateurs\, la première heure et demie sera dédiée à la construction de modèles motorisés sur la thématique des vacances (araignées qui se déplacent\, sorcière sur son balai qui tourne\, chaudron animé\, etc). En plus de travailler leur dextérité et de les sensibiliser à l’ingénierie avec l’utilisation de rouages et d’essieux\, nous profiterons de leurs constructions pour leur apporter quelques connaissances\, anecdotes sur les sorciers et leurs univers. \nAprès ce premier temps « imposé »\, nous nous adapterons aux enfants et au groupe du jour afin de leur proposer d’autres activités. Ils pourront par exemple construire d’autres modèles de notre crue sur un sujet qui les passionne ou alors faire du jeu libre et bâtir le décor de leur choix en lien avec les modèles précédemment construit\, mais encore mettre en scène leurs créations et réaliser une BD ou un court-métrage.\nSelon la dynamique du groupe et la volonté des enfants. Aussi\, nous les métrons au défi avec des challenges collaboratifs (construction d’un mur avec des contraintes\, challenge comme l’émission brick master etc) \nNous sommes impatients de recevoir vos enfants !\nLe tarif à la demi-journée est initialement à 35 euros\, mais il revient à 29 euros avec le code promo CROCOULE`
URL:https://crocoule.org/notre-evenement/andrezieux-atelier_stage-6/
LOCATION:BRICK4KIDZS ST ETIENNE\, 242 Rue Pierre-Georges Latécoère\, ANDREZIEUX\, 42160
CATEGORIES:05 ans +,06 ans +,07 ans +,08 ans +,09 ans +,10 ans +,11 ans +,12 ans +,Activité du week-end,Activité pendant les vacances,Intérieur,Tous les événements
ATTACH;FMTTYPE=image/jpeg:https://crocoule.org/wp-content/uploads/2025/02/DSC00718-1024x683-d6rzTS.tmp_.jpg
END:VEVENT
BEGIN:VEVENT
DTSTART;TZID=Europe/Paris:20260404T143000
DTEND;TZID=Europe/Paris:20260404T173000
DTSTAMP:20260421T105637
CREATED:20260228T174845Z
LAST-MODIFIED:20260228T174845Z
UID:10012924-1775313000-1775323800@crocoule.org
SUMMARY:Sauvain  | A la découverte des amphibiens et de cet écosystème au bord de la mare
DESCRIPTION:Une activité ludique et éducative pour toute la famille. En lien avec  l’opération nationale « fréquence grenouille »\, découvrez le monde humide des amphibiens.
URL:https://crocoule.org/notre-evenement/sauvain-a-la-decouverte-des-amphibiens-et-de-cet-ecosysteme-au-bord-de-la-mare/
CATEGORIES:05 ans +,Activité du week-end,En famille,Exterieur,Gratuit,Jeune Public,Tous les événements
END:VEVENT
BEGIN:VEVENT
DTSTART;TZID=Europe/Paris:20260404T170000
DTEND;TZID=Europe/Paris:20260404T180000
DTSTAMP:20260421T105637
CREATED:20260302T132008Z
LAST-MODIFIED:20260305T094745Z
UID:10013286-1775322000-1775325600@crocoule.org
SUMMARY:Le Puy-en-Velay | Yoga parents/enfants (3/6 ans)
DESCRIPTION:Venez passer un moment privilégié entre parent* et enfant (*ou grand-parent\, tante\, oncle\, parrain\, marraine…). Sous forme de voyage ludique\, ce temps vous invite à vous mettre à l’écoute de la relation et d’explorer votre lien à l’enfant\, aux autres\, en alternant jeux\, postures de yoga en duo. Par Carine Lerissel.
URL:https://crocoule.org/notre-evenement/le-puy-en-velay-yoga-parents-enfants-3-6-ans-3/
LOCATION:Le P’tit Café – Le Puy En Velay\, 25 pl du marché couvert\, Le Puy-en-Velay\, 43000\, France
CATEGORIES:03 ans +,Activité du week-end,Activité pendant les vacances,Intérieur,Tous les événements
END:VEVENT
END:VCALENDAR