BEGIN:VCALENDAR
VERSION:2.0
PRODID:-//Crocoule - ECPv6.15.15//NONSGML v1.0//EN
CALSCALE:GREGORIAN
METHOD:PUBLISH
X-WR-CALNAME:Crocoule
X-ORIGINAL-URL:https://crocoule.org
X-WR-CALDESC:Évènements pour Crocoule
REFRESH-INTERVAL;VALUE=DURATION:PT1H
X-Robots-Tag:noindex
X-PUBLISHED-TTL:PT1H
BEGIN:VTIMEZONE
TZID:Europe/Paris
BEGIN:DAYLIGHT
TZOFFSETFROM:+0100
TZOFFSETTO:+0200
TZNAME:CEST
DTSTART:20240331T010000
END:DAYLIGHT
BEGIN:STANDARD
TZOFFSETFROM:+0200
TZOFFSETTO:+0100
TZNAME:CET
DTSTART:20241027T010000
END:STANDARD
BEGIN:DAYLIGHT
TZOFFSETFROM:+0100
TZOFFSETTO:+0200
TZNAME:CEST
DTSTART:20250330T010000
END:DAYLIGHT
BEGIN:STANDARD
TZOFFSETFROM:+0200
TZOFFSETTO:+0100
TZNAME:CET
DTSTART:20251026T010000
END:STANDARD
BEGIN:DAYLIGHT
TZOFFSETFROM:+0100
TZOFFSETTO:+0200
TZNAME:CEST
DTSTART:20260329T010000
END:DAYLIGHT
BEGIN:STANDARD
TZOFFSETFROM:+0200
TZOFFSETTO:+0100
TZNAME:CET
DTSTART:20261025T010000
END:STANDARD
BEGIN:DAYLIGHT
TZOFFSETFROM:+0100
TZOFFSETTO:+0200
TZNAME:CEST
DTSTART:20270328T010000
END:DAYLIGHT
BEGIN:STANDARD
TZOFFSETFROM:+0200
TZOFFSETTO:+0100
TZNAME:CET
DTSTART:20271031T010000
END:STANDARD
END:VTIMEZONE
BEGIN:VEVENT
DTSTART;TZID=Europe/Paris:20251108T160000
DTEND;TZID=Europe/Paris:20260315T171500
DTSTAMP:20260421T233451
CREATED:20260228T145648Z
LAST-MODIFIED:20260228T145648Z
UID:10012825-1762617600-1773594900@crocoule.org
SUMMARY:Saint-Priest-en-Jarez | Jeu d'enquête au musée - Sixième sens
DESCRIPTION:Et si l’art lui-même était une énigme ? En équipe\, menez l’enquête dans les expositions du musée : résolvez les énigmes\, suivez les indices… et questionnez ce qui fait oeuvre.
URL:https://crocoule.org/notre-evenement/saint-priest-en-jarez-jeu-denquete-au-musee-sixieme-sens-3/
LOCATION:MAMC\, Saint Priest en Jarez
CATEGORIES:11 ans +,Activité du week-end,Tous les événements
ATTACH;FMTTYPE=image/jpeg:https://crocoule.org/wp-content/uploads/2025/11/Jeu_Sixieme_Sens_Hubert-Genouilhac-gwl0ch.jpg
END:VEVENT
BEGIN:VEVENT
DTSTART;TZID=Europe/Paris:20260307T100000
DTEND;TZID=Europe/Paris:20260307T180000
DTSTAMP:20260421T233451
CREATED:20260301T112016Z
LAST-MODIFIED:20260301T112016Z
UID:10013025-1772877600-1772906400@crocoule.org
SUMMARY:Saint-Galmier | Les Expériences créatives du samedi : Spécial STREET ART : initiation Graffiti / POP ART avec Eziok \nTrouve ton tag /Tag ton t'shirt/ un Tote-bag/ un vinyle
DESCRIPTION:Initiation au Graffiti /  POP ART – 6 places\nà partir de 7ans\nRéalisation de sa signature (TAG) sur une toile (20 par 30 cm) env 1h30 – 15 €\nInitiation peinture à la bombe – Pochoir – peinture acrylique – Posca\nà partir de 7ans (T shirt ) – à partir de 10 ans (Tote-Bag/ Vinyle)\nPersonnalisation d’un tshirt (25 € env 1h30/2h)\, d’un tote-bag (20 € env 1h30) d’un vinyle (15€ env 1h30)\nInitiation peinture à la bombe – Pochoir – peinture acrylique – Posca \nSur réservation : 06 15 72 08 99 ou localdu4@gmail.com\n42 330 Saint- Galmier – Boutique de Créateurs – Animations créatives et gourmandes
URL:https://crocoule.org/notre-evenement/saint-galmier-les-experiences-creatives-du-samedi-special-street-art-initiation-graffiti-pop-art-avec-eziok-trouve-ton-tag-tag-ton-tshirt-un-tote-bag-un-vinyle/
CATEGORIES:07 ans +,Activité du week-end,Intérieur,Tous les événements
END:VEVENT
BEGIN:VEVENT
DTSTART;TZID=Europe/Paris:20260307T143000
DTEND;TZID=Europe/Paris:20260307T143000
DTSTAMP:20260421T233451
CREATED:20260301T113045Z
LAST-MODIFIED:20260301T113045Z
UID:10013087-1772893800-1772893800@crocoule.org
SUMMARY:Saint-Priest-en-Jarez | Dans tous les sens
DESCRIPTION:Une visite où les enfants de 5 à 11 ans découvrent les trois expositions à travers des activités variées : jeu de construction\, activation de performance\, lecture de conte\, et plus encore. Bonne idée : profitez-en pour participer à la visite découverte du musée pour adultes (tous les samedis et dimanches à 14h30) !
URL:https://crocoule.org/notre-evenement/saint-priest-en-jarez-dans-tous-les-sens-3/
LOCATION:MAMC\, Saint Priest en Jarez
CATEGORIES:05 ans +,Activité du week-end,Tous les événements
ATTACH;FMTTYPE=image/jpeg:https://crocoule.org/wp-content/uploads/2025/11/VISITE_Dans_tous_les_sens-2e2O7S.jpg
END:VEVENT
BEGIN:VEVENT
DTSTART;TZID=Europe/Paris:20260307T150000
DTEND;TZID=Europe/Paris:20260307T160000
DTSTAMP:20260421T233451
CREATED:20260301T105319Z
LAST-MODIFIED:20260301T105319Z
UID:10012993-1772895600-1772899200@crocoule.org
SUMMARY:Saint-Etienne | Atelier Créatif Enfant Décor sur tuille en terre cuite
DESCRIPTION:Décoration sur une grande tuile en terre cuite
URL:https://crocoule.org/notre-evenement/saint-etienne-atelier-creatif-enfant-decor-sur-tuille-en-terre-cuite/
LOCATION:Kit Création\, 4 Rue Philippon\, St Etienne\, 42000\, France
CATEGORIES:04 ans +,Activité du week-end,Intérieur,Tous les événements
ATTACH;FMTTYPE=image/webp:https://crocoule.org/wp-content/uploads/2026/03/mars.jpeg-fKhhgu.webp
END:VEVENT
BEGIN:VEVENT
DTSTART;TZID=Europe/Paris:20260307T150000
DTEND;TZID=Europe/Paris:20260307T180000
DTSTAMP:20260421T233451
CREATED:20260302T132025Z
LAST-MODIFIED:20260305T094751Z
UID:10013293-1772895600-1772906400@crocoule.org
SUMMARY:Le Puy-en-Velay |  Création d’une couronne en textile recyclé
DESCRIPTION:Venez vous initier à la couture\, tout en fabriquant votre bouquet de fleurs en textile recyclé ! Amenez seulement votre bonne humeur\, on s’occupe du reste ! A partir de 8 ans\, accompagnés d’un adulte. 10 ans en autonomie. 20 € par participants.es/gratuit pour les accompagnateurs.ices. Sur inscription.
URL:https://crocoule.org/notre-evenement/le-puy-en-velay-creation-dune-couronne-en-textile-recycle/
LOCATION:Le P’tit Café – Le Puy En Velay\, 25 pl du marché couvert\, Le Puy-en-Velay\, 43000\, France
CATEGORIES:08 ans +,Activité du week-end,Adultes,En famille,Intérieur,Tous les événements
END:VEVENT
BEGIN:VEVENT
DTSTART;TZID=Europe/Paris:20260307T160000
DTEND;TZID=Europe/Paris:20260307T171500
DTSTAMP:20260421T233451
CREATED:20260301T113046Z
LAST-MODIFIED:20260301T113046Z
UID:10013088-1772899200-1772903700@crocoule.org
SUMMARY:Saint-Priest-en-Jarez | Jeu d'enquête au musée - Sixième sens
DESCRIPTION:Et si l’art lui-même était une énigme ? En équipe\, menez l’enquête dans les expositions du musée : résolvez les énigmes\, suivez les indices… et questionnez ce qui fait oeuvre.
URL:https://crocoule.org/notre-evenement/saint-priest-en-jarez-jeu-denquete-au-musee-sixieme-sens-4/
LOCATION:MAMC\, Saint Priest en Jarez
CATEGORIES:11 ans +,Activité du week-end,Tous les événements
ATTACH;FMTTYPE=image/jpeg:https://crocoule.org/wp-content/uploads/2025/11/Jeu_Sixieme_Sens_Hubert-Genouilhac-gwl0ch.jpg
END:VEVENT
END:VCALENDAR