BEGIN:VCALENDAR
VERSION:2.0
PRODID:-//Crocoule - ECPv6.15.15//NONSGML v1.0//EN
CALSCALE:GREGORIAN
METHOD:PUBLISH
X-ORIGINAL-URL:https://crocoule.org
X-WR-CALDESC:Évènements pour Crocoule
REFRESH-INTERVAL;VALUE=DURATION:PT1H
X-Robots-Tag:noindex
X-PUBLISHED-TTL:PT1H
BEGIN:VTIMEZONE
TZID:Europe/Paris
BEGIN:DAYLIGHT
TZOFFSETFROM:+0100
TZOFFSETTO:+0200
TZNAME:CEST
DTSTART:20240331T010000
END:DAYLIGHT
BEGIN:STANDARD
TZOFFSETFROM:+0200
TZOFFSETTO:+0100
TZNAME:CET
DTSTART:20241027T010000
END:STANDARD
BEGIN:DAYLIGHT
TZOFFSETFROM:+0100
TZOFFSETTO:+0200
TZNAME:CEST
DTSTART:20250330T010000
END:DAYLIGHT
BEGIN:STANDARD
TZOFFSETFROM:+0200
TZOFFSETTO:+0100
TZNAME:CET
DTSTART:20251026T010000
END:STANDARD
BEGIN:DAYLIGHT
TZOFFSETFROM:+0100
TZOFFSETTO:+0200
TZNAME:CEST
DTSTART:20260329T010000
END:DAYLIGHT
BEGIN:STANDARD
TZOFFSETFROM:+0200
TZOFFSETTO:+0100
TZNAME:CET
DTSTART:20261025T010000
END:STANDARD
BEGIN:DAYLIGHT
TZOFFSETFROM:+0100
TZOFFSETTO:+0200
TZNAME:CEST
DTSTART:20270328T010000
END:DAYLIGHT
BEGIN:STANDARD
TZOFFSETFROM:+0200
TZOFFSETTO:+0100
TZNAME:CET
DTSTART:20271031T010000
END:STANDARD
END:VTIMEZONE
BEGIN:VEVENT
DTSTART;TZID=Europe/Paris:20251108T160000
DTEND;TZID=Europe/Paris:20260315T171500
DTSTAMP:20260421T233614
CREATED:20260228T145648Z
LAST-MODIFIED:20260228T145648Z
UID:10012825-1762617600-1773594900@crocoule.org
SUMMARY:Saint-Priest-en-Jarez | Jeu d'enquête au musée - Sixième sens
DESCRIPTION:Et si l’art lui-même était une énigme ? En équipe\, menez l’enquête dans les expositions du musée : résolvez les énigmes\, suivez les indices… et questionnez ce qui fait oeuvre.
URL:https://crocoule.org/notre-evenement/saint-priest-en-jarez-jeu-denquete-au-musee-sixieme-sens-3/
LOCATION:MAMC\, Saint Priest en Jarez
CATEGORIES:11 ans +,Activité du week-end,Tous les événements
ATTACH;FMTTYPE=image/jpeg:https://crocoule.org/wp-content/uploads/2025/11/Jeu_Sixieme_Sens_Hubert-Genouilhac-gwl0ch.jpg
END:VEVENT
BEGIN:VEVENT
DTSTART;TZID=Europe/Paris:20251112T140000
DTEND;TZID=Europe/Paris:20260221T160000
DTSTAMP:20260421T233614
CREATED:20251114T110454Z
LAST-MODIFIED:20251114T142335Z
UID:10012347-1762956000-1771689600@crocoule.org
SUMMARY:Saint-Étienne | GRAINES
DESCRIPTION:Embarquez pour une odyssée interactive et colorée où les secrets des plantes vous seront dévoilés. Lors de notre show de médiation\, expérimentez\, manipulez et découvrez quel est le meilleur pollinisateur.  Puis\, parcourez librement plus de 30 manipulations ludiques. On touche\, on joue\, on observe… et on apprend sans s’en rendre compte. Le saviez-vous ? Une graine de lotus peut rester viable… plus de 1000 ans avant de germer. Sacrée longévité !
URL:https://crocoule.org/notre-evenement/saint-etienne-graines-2/
LOCATION:Soucoupe\, 158 CR Fauriel\, Saint Etienne\, 42100
CATEGORIES:08 ans +,Activité du week-end,Activité en semaine,Adultes,Tous les événements,Tout public
ATTACH;FMTTYPE=image/jpeg:https://crocoule.org/wp-content/uploads/2025/11/la-rotonde-exposition-graines-5-hRfguW.jpg
END:VEVENT
BEGIN:VEVENT
DTSTART;TZID=Europe/Paris:20251213T100000
DTEND;TZID=Europe/Paris:20251213T120000
DTSTAMP:20260421T233614
CREATED:20251114T110642Z
LAST-MODIFIED:20251114T143231Z
UID:10012379-1765620000-1765627200@crocoule.org
SUMMARY:Saint-Étienne | Atelier "Fais bonne impression"
DESCRIPTION:Remonte le temps avec les frères Montgolfier et deviens\, toi aussi\, un pro de l’air chaud ! Au programme : expériences gonflées\, constructions aériennes et défis en équipe. Te voilà devenu\, avec ta bande\, un équipage de choc\, alors pour finir en beauté\, accroche ta photo de groupe dans notre tableau souvenir !
URL:https://crocoule.org/notre-evenement/saint-etienne-atelier-fais-bonne-impression-4/
CATEGORIES:07 ans +,08 ans +,Activité du week-end,Jeune Public,Tous les événements
ATTACH;FMTTYPE=image/jpeg:https://crocoule.org/wp-content/uploads/2025/11/mongolfiere-lejd66.jpg
END:VEVENT
BEGIN:VEVENT
DTSTART;TZID=Europe/Paris:20251213T100000
DTEND;TZID=Europe/Paris:20251213T190000
DTSTAMP:20260421T233614
CREATED:20251126T151211Z
LAST-MODIFIED:20251126T151211Z
UID:10012453-1765620000-1765652400@crocoule.org
SUMMARY:Saint-Galmier | Les Expériences créatives du Samedi : Arts Plastiques SPECIAL NOEL
DESCRIPTION:Samedi 13/12 – 5 ans + – 7.50 € –  (env 3/4h) Atelier non-stop : 10h-13h – 14h19h – 6 places\nRéalisation de suspensions en bois de Noêl à peindre et à embellir (strass – pompons etc)\nsans réservation\n42 330 Saint- Galmier – Boutique de Créateurs – Animations créatives et gourmandes
URL:https://crocoule.org/notre-evenement/saint-galmier-les-experiences-creatives-du-samedi-arts-plastiques-special-noel-2/
CATEGORIES:05 ans +,Activité du week-end,Intérieur,Jeune Public,Tous les événements
END:VEVENT
BEGIN:VEVENT
DTSTART;TZID=Europe/Paris:20251213T140000
DTEND;TZID=Europe/Paris:20251213T160000
DTSTAMP:20260421T233614
CREATED:20251114T110643Z
LAST-MODIFIED:20251114T143233Z
UID:10012380-1765634400-1765641600@crocoule.org
SUMMARY:Saint-Étienne | Atelier "Fais bonne impression"
DESCRIPTION:Remonte le temps avec les frères Montgolfier et deviens\, toi aussi\, un pro de l’air chaud ! Au programme : expériences gonflées\, constructions aériennes et défis en équipe. Te voilà devenu\, avec ta bande\, un équipage de choc\, alors pour finir en beauté\, accroche ta photo de groupe dans notre tableau souvenir !
URL:https://crocoule.org/notre-evenement/saint-etienne-atelier-fais-bonne-impression-6/
CATEGORIES:07 ans +,08 ans +,Activité du week-end,Jeune Public,Tous les événements
ATTACH;FMTTYPE=image/jpeg:https://crocoule.org/wp-content/uploads/2025/11/mongolfiere-lejd66.jpg
END:VEVENT
BEGIN:VEVENT
DTSTART;TZID=Europe/Paris:20251213T153000
DTEND;TZID=Europe/Paris:20251213T160000
DTSTAMP:20260421T233614
CREATED:20250904T134050Z
LAST-MODIFIED:20250908T135744Z
UID:10012087-1765639800-1765641600@crocoule.org
SUMMARY:Montbrison | Tapis à histoires
DESCRIPTION:Le musée pour les tous-petits de 18 mois à 3 ans… entre 20 et 30 minutes\, des peluches\, une histoire\, une découverte. Sur réservation. Tarif enfant : 3\,50 €\, parent gratuit !
URL:https://crocoule.org/notre-evenement/montbrison-tapis-a-histoires-3/
CATEGORIES:01 an +,02 ans +,03 ans +,Activité du week-end,En famille,Intérieur,Tous les événements
ATTACH;FMTTYPE=image/jpeg:https://crocoule.org/wp-content/uploads/2025/09/496424627_1270041288462389_4001228387032766052_n-btM5WM.jpg
END:VEVENT
END:VCALENDAR