BEGIN:VCALENDAR
VERSION:2.0
PRODID:-//Crocoule - ECPv6.15.20//NONSGML v1.0//EN
CALSCALE:GREGORIAN
METHOD:PUBLISH
X-WR-CALNAME:Crocoule
X-ORIGINAL-URL:https://crocoule.org
X-WR-CALDESC:Évènements pour Crocoule
REFRESH-INTERVAL;VALUE=DURATION:PT1H
X-Robots-Tag:noindex
X-PUBLISHED-TTL:PT1H
BEGIN:VTIMEZONE
TZID:Europe/Paris
BEGIN:DAYLIGHT
TZOFFSETFROM:+0100
TZOFFSETTO:+0200
TZNAME:CEST
DTSTART:20240331T010000
END:DAYLIGHT
BEGIN:STANDARD
TZOFFSETFROM:+0200
TZOFFSETTO:+0100
TZNAME:CET
DTSTART:20241027T010000
END:STANDARD
BEGIN:DAYLIGHT
TZOFFSETFROM:+0100
TZOFFSETTO:+0200
TZNAME:CEST
DTSTART:20250330T010000
END:DAYLIGHT
BEGIN:STANDARD
TZOFFSETFROM:+0200
TZOFFSETTO:+0100
TZNAME:CET
DTSTART:20251026T010000
END:STANDARD
BEGIN:DAYLIGHT
TZOFFSETFROM:+0100
TZOFFSETTO:+0200
TZNAME:CEST
DTSTART:20260329T010000
END:DAYLIGHT
BEGIN:STANDARD
TZOFFSETFROM:+0200
TZOFFSETTO:+0100
TZNAME:CET
DTSTART:20261025T010000
END:STANDARD
END:VTIMEZONE
BEGIN:VEVENT
DTSTART;TZID=Europe/Paris:20250415T100000
DTEND;TZID=Europe/Paris:20251102T180000
DTSTAMP:20260424T021113
CREATED:20250530T114612Z
LAST-MODIFIED:20250530T115727Z
UID:10011142-1744711200-1762106400@crocoule.org
SUMMARY:LE CHEYLARD | CERVORAMA : l'expo !
DESCRIPTION:Durée de visite : 1h30 environ \nL’exposition « Cervorama » propose une immersion fascinante dans le monde du cerveau humain et animal\, offrant aux visiteurs une approche interactive et scientifique pour mieux comprendre cet organe complexe. Grâce à des expériences ludiques et pédagogiques\, les participants découvrent le rôle du cerveau dans la perception\, l’apprentissage et les émotions. Adaptée à tous les âges\, cette exposition permet d’explorer les grandes questions neuroscientifiques de manière sensorielle et engageante. \nÀ travers des installations interactives et des expériences participatives\, les visiteurs seront amenés à tester leurs propres capacités cognitives\, à observer comment leur cerveau réagit aux illusions ou encore à découvrir les incroyables facultés d’adaptation du cerveau face à l’environnement. \nAdulte (du 15/04/2025 au 02/11/2025)	6€\nEnfant (du 15/04/2025 au 02/11/2025)	4€\nForfait famille (du 15/04/2025 au 02/11/2025)\n2 adultes\, 2 enfants + 2€ par enfant supplémentaire\n18€
URL:https://crocoule.org/notre-evenement/le-cheylard-cervorama-lexpo/
CATEGORIES:06 ans +,Activité du week-end,Activité en semaine,Activité pendant les vacances,Adultes,En famille,Expo,Tous les événements
ATTACH;FMTTYPE=image/png:https://crocoule.org/wp-content/uploads/2025/05/30110376-diaporama-365x255-kPZk0O.png
END:VEVENT
BEGIN:VEVENT
DTSTART;TZID=Europe/Paris:20250629T100000
DTEND;TZID=Europe/Paris:20250629T120000
DTSTAMP:20260424T021113
CREATED:20250530T133720Z
LAST-MODIFIED:20250530T133720Z
UID:10011406-1751191200-1751198400@crocoule.org
SUMMARY:Le Puy-en-Velay | Pause tétée A Lait'coute
DESCRIPTION:Par l’association A Lait’Coute. Rendez-vous d’échanges autour de l’allaitement maternel.\nRens: 07 81 29 96 73 alaitcoute@gmail.com.
URL:https://crocoule.org/notre-evenement/le-puy-en-velay-pause-tetee-a-laitcoute/
CATEGORIES:Activité du week-end,Adultes,Avec bébé dès la naissance,Intérieur,Tous les événements
END:VEVENT
BEGIN:VEVENT
DTSTART;TZID=Europe/Paris:20250629T140000
DTEND;TZID=Europe/Paris:20250629T160000
DTSTAMP:20260424T021113
CREATED:20250217T154741Z
LAST-MODIFIED:20250217T154741Z
UID:10010513-1751205600-1751212800@crocoule.org
SUMMARY:ESCAPE GAME  LE PUY EN VELAY dès 10 ans  PANIQUE AUX BEAUX-ARTS
DESCRIPTION:7j./7 pendant les vacances scolaires à 14h et 15h30 \n\nMer/sam/dim à 14h et 16h hors vacances scolaires à partir du 2 avril\n\nInscription obligatoire / durée 1h \n6 pers. maximum par session \nEntrée du musée + 10 € / groupe\nwww.musee.patrimoine.lepuyenvelay.fr \nEnquêteur ! C’est le moment de reprendre du service ! L’inspecteur en chef Jean Keit a encore une fois besoin de vous ! Cette fois ci\, une bombe de peinture menace de recouvrir les œuvres du musée ! Vous avez une heure pour résoudre une série d’énigmes et désamorcer la bombe !
URL:https://crocoule.org/notre-evenement/escape-game-le-puy-en-velay-des-10-ans-panique-aux-beaux-arts/2025-06-29/
LOCATION:Musée Crozatier – Puy En Velay\, 2 Rue Antoine Martin\, Le Puy-en-Velay\, 43000\, France
CATEGORIES:10 ans +,11 ans +,12 ans +,Activité du week-end,Intérieur,Tous les événements
END:VEVENT
BEGIN:VEVENT
DTSTART;TZID=Europe/Paris:20250629T160000
DTEND;TZID=Europe/Paris:20250629T170000
DTSTAMP:20260424T021113
CREATED:20250617T141749Z
LAST-MODIFIED:20250617T141800Z
UID:10011586-1751212800-1751216400@crocoule.org
SUMMARY:Saint-Étienne | Obake - Collectif Maison Courbe
DESCRIPTION:LE SPECTACLE\nLes Obake\, esprits surnaturels du folklore japonais\, comptent parmi eux le duo inséparable Parpaing et Moellon\, appelés à accomplir une tâche au sens mystérieux. Dans l’espace public\, on les voit arpenter les lieux et utiliser tout ce qui est à leur portée pour progresser dans leur recherche… Jamais plus nous ne regarderons ce lampadaire\, cet escalier\, cet arbre\, de la même manière ! Une étrange cérémonie\, oscillant entre douceur et rage de vivre\, une tentative d’approcher un sacré égaré\, ou tout simplement un moyen de retrouver notre sensibilité perdue. Le spectacle est baigné de légèreté et aussi parfois d’intensité face aux dangers physiques ou à la puissance des émotions. Un instant hors du temps pour poser un regard nouveau sur l’espace et les êtres qui nous entourent. \nLA PRESSE EN PARLE\n« Avec magie\, sacré et humour\, le Collectif Maison Courbe invite à poser un regard nouveau sur les espaces publics et les êtres qui nous entourent. » Le Petit Bulletin  \nLA COMPAGNIE\nMaison Courbe est une structure collective créée en janvier 2021 pour porter les projets artistiques de jeunes artistes issus du milieu du cirque et des arts plastiques. Les projets sont de nature variée : entre spectacle vivant\, installations plastiques et performances dans l’espace public\, en ayant toujours comme point commun leur envie de quête sur le dialogue entre corps\, matière et espace. Obake\, c’est un projet porté par Hélène Leveau et Léo Manipoud qui est\, lui\, en production déléguée à Bonlieu Scène nationale Annecy.
URL:https://crocoule.org/notre-evenement/saint-etienne-obake-collectif-maison-courbe/
CATEGORIES:10 ans +,Activité du week-end,Exterieur,Gratuit,Tous les événements
ATTACH;FMTTYPE=image/png:https://crocoule.org/wp-content/uploads/2025/06/ObakeCC81-03-kbJjFu.png
END:VEVENT
BEGIN:VEVENT
DTSTART;TZID=Europe/Paris:20250629T183000
DTEND;TZID=Europe/Paris:20250629T191000
DTSTAMP:20260424T021113
CREATED:20250617T141729Z
LAST-MODIFIED:20250617T141739Z
UID:10011582-1751221800-1751224200@crocoule.org
SUMMARY:La Talaudière | One Shot - Cie One Shot
DESCRIPTION:–
URL:https://crocoule.org/notre-evenement/la-talaudiere-one-shot-cie-one-shot/
LOCATION:La Talaudière : Esplanade du Pôle Festif\, 8 rue du Stade\, La Talaudière\, 42350\, France
CATEGORIES:Activité du week-end,Exterieur,Tous les événements,Tout public
END:VEVENT
BEGIN:VEVENT
DTSTART;TZID=Europe/Paris:20250629T183000
DTEND;TZID=Europe/Paris:20250629T193000
DTSTAMP:20260424T021113
CREATED:20250617T141745Z
LAST-MODIFIED:20250617T141757Z
UID:10011584-1751221800-1751225400@crocoule.org
SUMMARY:Firminy | Vent d'Ouest  - Les P'tits Bras
DESCRIPTION:
URL:https://crocoule.org/notre-evenement/firminy-vent-douest-les-ptits-bras/
CATEGORIES:Activité du week-end,En famille,Exterieur,Tous les événements,Tout public
ATTACH;FMTTYPE=image/png:https://crocoule.org/wp-content/uploads/2025/06/Vent20douest-01-zuTk7o.png
END:VEVENT
BEGIN:VEVENT
DTSTART;TZID=Europe/Paris:20250629T210000
DTEND;TZID=Europe/Paris:20250629T221000
DTSTAMP:20260424T021113
CREATED:20250617T141750Z
LAST-MODIFIED:20250617T141801Z
UID:10011587-1751230800-1751235000@crocoule.org
SUMMARY:Saint-Étienne | À Ciel Ouvert - Cirque Aïtal
DESCRIPTION:LE SPECTACLE \nOn ne présente plus Victor le colosse et Kati la voltigeuse ! Avec leur nouvelle création\, ils nous embarquent sous les étoiles\, dans leur merveilleux cirque burlesque\, poétique et musical.  \nUne place entourée de caravanes défraîchies\, À ciel ouvert… Vous ne verrez rien de l’extérieur. Ouvrez la porte et pénétrez dans ce lieu insolite et foutraque\, sorte de campement forain et rural. Là\, entre main à main\, bascule\, pole dance et musique live\, le duo livre une poignante déclaration d’amour au cirque\, entre tradition et modernité. \nPrenez place ! Un monde enchanté\, étonnant et détonnant vous attend.  \nLA PRESSE EN PARLE \n« À ciel ouvert célèbre la simplicité de vies qui se croisent et partagent un même espace\, poétisé par leurs singulières présences. » La Terrasse \n« Pas de chapiteau\, le public est assis autour de la scène\, dans des remorques transformées en gradins. » France Bleu \nLA COMPAGNIE \nLe Cirque Aïtal\, fondé en 2004 par le duo franco-finlandais Victor Cathala et Kati Pikkarainen\, se distingue par sa simplicité\, son authenticité et une expression souvent sans parole. Leur crédo\, « dire les choses simplement et en toute confiance »\, est incarné par le nom même de la compagnie\, Aïtal\, qui se traduit de l’occitan par « c’est comme ça ! » : un cri de vérité qui reflète parfaitement leur démarche.
URL:https://crocoule.org/notre-evenement/saint-etienne-a-ciel-ouvert-cirque-aital/
CATEGORIES:07 ans +,Activité du week-end,Activité en semaine,Activité pendant les vacances,En famille,Exterieur,Tous les événements,Tout public
END:VEVENT
END:VCALENDAR