BEGIN:VCALENDAR
VERSION:2.0
PRODID:-//Crocoule - ECPv6.15.20//NONSGML v1.0//EN
CALSCALE:GREGORIAN
METHOD:PUBLISH
X-WR-CALNAME:Crocoule
X-ORIGINAL-URL:https://crocoule.org
X-WR-CALDESC:Évènements pour Crocoule
REFRESH-INTERVAL;VALUE=DURATION:PT1H
X-Robots-Tag:noindex
X-PUBLISHED-TTL:PT1H
BEGIN:VTIMEZONE
TZID:Europe/Paris
BEGIN:DAYLIGHT
TZOFFSETFROM:+0100
TZOFFSETTO:+0200
TZNAME:CEST
DTSTART:20240331T010000
END:DAYLIGHT
BEGIN:STANDARD
TZOFFSETFROM:+0200
TZOFFSETTO:+0100
TZNAME:CET
DTSTART:20241027T010000
END:STANDARD
BEGIN:DAYLIGHT
TZOFFSETFROM:+0100
TZOFFSETTO:+0200
TZNAME:CEST
DTSTART:20250330T010000
END:DAYLIGHT
BEGIN:STANDARD
TZOFFSETFROM:+0200
TZOFFSETTO:+0100
TZNAME:CET
DTSTART:20251026T010000
END:STANDARD
BEGIN:DAYLIGHT
TZOFFSETFROM:+0100
TZOFFSETTO:+0200
TZNAME:CEST
DTSTART:20260329T010000
END:DAYLIGHT
BEGIN:STANDARD
TZOFFSETFROM:+0200
TZOFFSETTO:+0100
TZNAME:CET
DTSTART:20261025T010000
END:STANDARD
END:VTIMEZONE
BEGIN:VEVENT
DTSTART;TZID=Europe/Paris:20250415T100000
DTEND;TZID=Europe/Paris:20251102T180000
DTSTAMP:20260424T021156
CREATED:20250530T114612Z
LAST-MODIFIED:20250530T115727Z
UID:10011142-1744711200-1762106400@crocoule.org
SUMMARY:LE CHEYLARD | CERVORAMA : l'expo !
DESCRIPTION:Durée de visite : 1h30 environ \nL’exposition « Cervorama » propose une immersion fascinante dans le monde du cerveau humain et animal\, offrant aux visiteurs une approche interactive et scientifique pour mieux comprendre cet organe complexe. Grâce à des expériences ludiques et pédagogiques\, les participants découvrent le rôle du cerveau dans la perception\, l’apprentissage et les émotions. Adaptée à tous les âges\, cette exposition permet d’explorer les grandes questions neuroscientifiques de manière sensorielle et engageante. \nÀ travers des installations interactives et des expériences participatives\, les visiteurs seront amenés à tester leurs propres capacités cognitives\, à observer comment leur cerveau réagit aux illusions ou encore à découvrir les incroyables facultés d’adaptation du cerveau face à l’environnement. \nAdulte (du 15/04/2025 au 02/11/2025)	6€\nEnfant (du 15/04/2025 au 02/11/2025)	4€\nForfait famille (du 15/04/2025 au 02/11/2025)\n2 adultes\, 2 enfants + 2€ par enfant supplémentaire\n18€
URL:https://crocoule.org/notre-evenement/le-cheylard-cervorama-lexpo/
CATEGORIES:06 ans +,Activité du week-end,Activité en semaine,Activité pendant les vacances,Adultes,En famille,Expo,Tous les événements
ATTACH;FMTTYPE=image/png:https://crocoule.org/wp-content/uploads/2025/05/30110376-diaporama-365x255-kPZk0O.png
END:VEVENT
BEGIN:VEVENT
DTSTART;TZID=Europe/Paris:20250628T140000
DTEND;TZID=Europe/Paris:20250628T160000
DTSTAMP:20260424T021156
CREATED:20250217T154603Z
LAST-MODIFIED:20250217T154603Z
UID:10010496-1751119200-1751126400@crocoule.org
SUMMARY:// ESCAPE GAME // dès 10 ans  PANIQUE AUX BEAUX-ARTS
DESCRIPTION:7j./7 pendant les vacances scolaires à 14h et 15h30\nMer/sam/dim à 14h et 16h hors vacances scolaires à partir du 2 avril\n\nInscription obligatoire / durée 1h \n6 pers. maximum par session \nEntrée du musée + 10 € / groupe\nwww.musee.patrimoine.lepuyenvelay.fr \nEnquêteur ! C’est le moment de reprendre du service ! L’inspecteur en chef Jean Keit a encore une fois besoin de vous ! Cette fois ci\, une bombe de peinture menace de recouvrir les œuvres du musée ! Vous avez une heure pour résoudre une série d’énigmes et désamorcer la bombe !
URL:https://crocoule.org/notre-evenement/escape-game-des-10-ans-panique-aux-beaux-arts/2025-06-28/
LOCATION:Musée Crozatier – Puy En Velay\, 2 Rue Antoine Martin\, Le Puy-en-Velay\, 43000\, France
CATEGORIES:10 ans +,11 ans +,12 ans +,Activité du week-end,Intérieur,Tous les événements
END:VEVENT
BEGIN:VEVENT
DTSTART;TZID=Europe/Paris:20250628T150000
DTEND;TZID=Europe/Paris:20250628T163000
DTSTAMP:20260424T021156
CREATED:20250530T115651Z
LAST-MODIFIED:20250530T115651Z
UID:10011195-1751122800-1751128200@crocoule.org
SUMMARY:Marcoux | La pensée qui fabrique
DESCRIPTION:À l’aide de machines miniatures\, conçues sur mesure\, réalisez un objet design et découvrez les secrets de sa fabrication\, de sa conception jusqu’à sa réalisation en entreprise.
URL:https://crocoule.org/notre-evenement/marcoux-la-pensee-qui-fabrique/
CATEGORIES:12 ans +,Activité du week-end,Tous les événements,Tout public
ORGANIZER;CN="Chateau de Goutelas":MAILTO:centreculturel@chateaudegoutelas.fr
END:VEVENT
BEGIN:VEVENT
DTSTART;TZID=Europe/Paris:20250628T180000
DTEND;TZID=Europe/Paris:20250628T183000
DTSTAMP:20260424T021156
CREATED:20250617T141747Z
LAST-MODIFIED:20250617T141758Z
UID:10011585-1751133600-1751135400@crocoule.org
SUMMARY:Saint-Priest-en-Jarez | Within this party - Amir Sabra
DESCRIPTION:LE SPECTACLE \nCréer au sein du chaos\, voilà ce qui anime Amir Sabra.  \nDanseur et chorégraphe palestinien\, Amir Sabra a grandi dans un camp de réfugiés proche de Naplouse en Cisjordanie. Son histoire et ses expériences en ont fait un artiste particulièrement engagé\, sensible aux capacités humaines de résilience\, comme ces enfants faisant du breakdance sur les décombres de leurs maisons.  \nAvec la performance Within this Party\, Amir Sabra nous plonge au cœur d’un mariage palestinien où se mêlent les mouvements du hip-hop à ceux de la dabkeh\, une danse folklorique indissociable des banquets et grandes fêtes traditionnelles. \nLA PRESSE EN PARLE \n« L’artiste palestinien Amir Sabra explore l’héritage et le langage universel de la danse. » RTÉ \nL’ARTISTE \nDanseur et chorégraphe palestinien basé en Irlande\, Amir Sabra débute sa carrière en 2008 comme break-dancer. Avec sa casquette de chorégraphe\, il réalise sa première pièce « Hiphopgeez » en 2017\, produite par la Stereo48 Dance Company. Après avoir opéré comme danseur et chorégraphe dans différents projets\, et réalisé un court métrage de danse\, il crée son premier solo Within This Party en 2022.
URL:https://crocoule.org/notre-evenement/saint-priest-en-jarez-within-this-party-amir-sabra/
LOCATION:MAMC\, Saint Priest en Jarez
CATEGORIES:10 ans +,Activité du week-end,Adultes,Exterieur,Intérieur,Tous les événements
END:VEVENT
BEGIN:VEVENT
DTSTART;TZID=Europe/Paris:20250628T183000
DTEND;TZID=Europe/Paris:20250628T191000
DTSTAMP:20260424T021156
CREATED:20250617T141727Z
LAST-MODIFIED:20250617T141737Z
UID:10011581-1751135400-1751137800@crocoule.org
SUMMARY:Marcenod | One Shot - Cie One Shot
DESCRIPTION:LE SPECTACLE \nOne Shot : parce qu’on n’a qu’un seul essai… \nCool comme le blues\, nerveux comme le rock\, ce spectacle détonnant réinvente les standards du cirque avec un humour décalé. Deux artistes\, un mât chinois\, des haches\, une guitare électrique et un beatbox-harmonica : un cocktail détonnant\, pour une performance déjantée qui se joue des limites artistiques et corporelles. Ça glisse et teste l’équilibre\, tout en défiant les lois de la gravité. \nLes haches tournent\, les pommes volent et les objets prennent vie dans un ballet effréné.  \nLA PRESSE EN PARLE \n« Une cible mouvante… Un acrobate qui n’a pas froid aux yeux. Une planche qui monte\, qui descend… Un lanceur qui a du sang-froid. » L’Avenir \nLA COMPAGNIE \nMaxime Dautremont et Foucauld Falguerolles se rencontrent en 2003 à Bruxelles\, où ils se perfectionnent chacun dans leurs disciplines : l’acrobatie et la jonglerie pour l’un\, le mât chinois pour l’autre. Leurs parcours se croisent régulièrement au fil des années et leur désir de collaborer se renforce. Un jour\, ils se retrouvent dans un chapiteau. Foucauld travaille son mât chinois\, Maxime joue de la guitare et lance des haches. La magie opère ! C’est ainsi qu’ils créent la compagnie One Shot.
URL:https://crocoule.org/notre-evenement/marcenod-one-shot-cie-one-shot/
LOCATION:Marcenod : 84 rue du Stade\, 84 rue du Stade\, Marcenod\, 42140\, France
CATEGORIES:Activité du week-end,Exterieur,Tous les événements,Tout public
END:VEVENT
BEGIN:VEVENT
DTSTART;TZID=Europe/Paris:20250628T203000
DTEND;TZID=Europe/Paris:20250628T213000
DTSTAMP:20260424T021156
CREATED:20250617T141731Z
LAST-MODIFIED:20250617T141740Z
UID:10011583-1751142600-1751146200@crocoule.org
SUMMARY:Montbrison | Vent d'Ouest - Les P'tits Bras
DESCRIPTION:LE SPECTACLE\nLes P’tits Bras\, héritiers d’une longue tradition circassienne\, mais toujours fidèles à leur univers décalé et inventif\, revisitent l’esprit du Far West\, avec un saloon comme décor et l’Ouest comme passion commune. Sur une structure monumentale\, six artistes unissent voltige aérienne\, rodéo audacieux et acrobaties spectaculaires pour questionner les limites physiques et les clichés du rêve américain. Avec l’énergie d’un bon vieux western\, les duels entre générations se transforment en une fresque cinématographique\, entre prouesses techniques et musique enivrante de la Nouvelle-Orléans. Le rêve américain revisité par une troupe aussi hilarante que virtuose\, où s’affrontent idéal et liberté ! \nLA PRESSE EN PARLE\n« Dans Vent d’Ouest […]\, les arts du cirque se mêlent à un rodéo audacieux\, remplis de prouesses techniques. » La Dépêche \nLA COMPAGNIE\nLes P’tits Bras\, c’est une aventure humaine et artistique née en 2003 de la rencontre de trois passionnés de cirque. Ce collectif\, initialement belge\, s’est transformé en une véritable famille internationale\, rassemblant au fil des années des artistes venus de France\, d’Espagne\, du Pérou\, d’Islande\, ou encore du Canada. Leur marque de fabrique ? Des envolées acrobatiques époustouflantes\, un humour décalé\, et une touche de dérision qui émerveillent petits et grands. Finalement\, les P’tits Bras n’ont de petits que le nom\, tant leur plaisir de partager avec le public est immense et leur énergie insatiable.
URL:https://crocoule.org/notre-evenement/montbrison-vent-douest-les-ptits-bras/
LOCATION:Moingt
CATEGORIES:Activité du week-end,En famille,Exterieur,Tous les événements,Tout public
ATTACH;FMTTYPE=image/png:https://crocoule.org/wp-content/uploads/2025/06/Vent20douest-01-dmy0ms.png
END:VEVENT
END:VCALENDAR