BEGIN:VCALENDAR
VERSION:2.0
PRODID:-//Crocoule - ECPv6.15.20//NONSGML v1.0//EN
CALSCALE:GREGORIAN
METHOD:PUBLISH
X-ORIGINAL-URL:https://crocoule.org
X-WR-CALDESC:Évènements pour Crocoule
REFRESH-INTERVAL;VALUE=DURATION:PT1H
X-Robots-Tag:noindex
X-PUBLISHED-TTL:PT1H
BEGIN:VTIMEZONE
TZID:Europe/Paris
BEGIN:DAYLIGHT
TZOFFSETFROM:+0100
TZOFFSETTO:+0200
TZNAME:CEST
DTSTART:20240331T010000
END:DAYLIGHT
BEGIN:STANDARD
TZOFFSETFROM:+0200
TZOFFSETTO:+0100
TZNAME:CET
DTSTART:20241027T010000
END:STANDARD
BEGIN:DAYLIGHT
TZOFFSETFROM:+0100
TZOFFSETTO:+0200
TZNAME:CEST
DTSTART:20250330T010000
END:DAYLIGHT
BEGIN:STANDARD
TZOFFSETFROM:+0200
TZOFFSETTO:+0100
TZNAME:CET
DTSTART:20251026T010000
END:STANDARD
BEGIN:DAYLIGHT
TZOFFSETFROM:+0100
TZOFFSETTO:+0200
TZNAME:CEST
DTSTART:20260329T010000
END:DAYLIGHT
BEGIN:STANDARD
TZOFFSETFROM:+0200
TZOFFSETTO:+0100
TZNAME:CET
DTSTART:20261025T010000
END:STANDARD
END:VTIMEZONE
BEGIN:VEVENT
DTSTART;TZID=Europe/Paris:20250415T100000
DTEND;TZID=Europe/Paris:20251102T180000
DTSTAMP:20260424T021352
CREATED:20250530T114612Z
LAST-MODIFIED:20250530T115727Z
UID:10011142-1744711200-1762106400@crocoule.org
SUMMARY:LE CHEYLARD | CERVORAMA : l'expo !
DESCRIPTION:Durée de visite : 1h30 environ \nL’exposition « Cervorama » propose une immersion fascinante dans le monde du cerveau humain et animal\, offrant aux visiteurs une approche interactive et scientifique pour mieux comprendre cet organe complexe. Grâce à des expériences ludiques et pédagogiques\, les participants découvrent le rôle du cerveau dans la perception\, l’apprentissage et les émotions. Adaptée à tous les âges\, cette exposition permet d’explorer les grandes questions neuroscientifiques de manière sensorielle et engageante. \nÀ travers des installations interactives et des expériences participatives\, les visiteurs seront amenés à tester leurs propres capacités cognitives\, à observer comment leur cerveau réagit aux illusions ou encore à découvrir les incroyables facultés d’adaptation du cerveau face à l’environnement. \nAdulte (du 15/04/2025 au 02/11/2025)	6€\nEnfant (du 15/04/2025 au 02/11/2025)	4€\nForfait famille (du 15/04/2025 au 02/11/2025)\n2 adultes\, 2 enfants + 2€ par enfant supplémentaire\n18€
URL:https://crocoule.org/notre-evenement/le-cheylard-cervorama-lexpo/
CATEGORIES:06 ans +,Activité du week-end,Activité en semaine,Activité pendant les vacances,Adultes,En famille,Expo,Tous les événements
ATTACH;FMTTYPE=image/png:https://crocoule.org/wp-content/uploads/2025/05/30110376-diaporama-365x255-kPZk0O.png
END:VEVENT
BEGIN:VEVENT
DTSTART;TZID=Europe/Paris:20250627T200000
DTEND;TZID=Europe/Paris:20250627T211000
DTSTAMP:20260424T021352
CREATED:20250617T141726Z
LAST-MODIFIED:20250617T141736Z
UID:10011580-1751054400-1751058600@crocoule.org
SUMMARY:Saint-Étienne | KA-ÏN - Groupe Acrobatique de Tanger / Raphaëlle Boitel
DESCRIPTION:LE SPECTACLE \nPour sa nouvelle création\, le Groupe Acrobatique de Tanger s’associe à Raphaëlle Boitel\, directrice artistique de renom.  \nLes treize acrobates du collectif\, adeptes des pyramides humaines\, nous embarquent dans une épopée spectaculaire\, entre Europe et Afrique\, cirque et ballet\, tradition et modernité. Une invitation au voyage à travers l’harmonie des corps\, libres et aériens. Un univers aux reflets d’or\, parfois tranché par un bleu profond\, symbole de rêve\, de sagesse\, de mer\, de ciel\, et de sérénité. Dans cette chorégraphie ciselée\, les jeunes circassiens dansent et virevoltent en dignes héritiers de la célèbre acrobatie marocaine.  \nKA-ÏN est un hymne à la jeunesse\, à une fraternité rêvée\, où les corps semblent avoir pour seul but le dépassement de soi.  \nLA PRESSE EN PARLE \n« Le Groupe acrobatique de Tanger\, au Maroc\, aime jouer avec la tradition et la création contemporaine. » Télérama \nLA COMPAGNIE  \nLe Groupe Acrobatique de Tanger\, fondé en 2003 par Sanae El Kamouni\, a pour objectif de moderniser l’acrobatie traditionnelle marocaine en y intégrant des créations contemporaines. Leurs performances combinent des techniques d’acrobatie\, comme les pyramides humaines et les sauts\, ancrées dans l’histoire guerrière du pays. Déjà invités au festival en 2022\, les artistes reviennent cette fois-ci avec une nouvelle création en collaboration avec Raphaëlle Boitel\, metteuse en scène et chorégraphe travaillant sur la fusion entre les arts du cirque\, de la danse et du théâtre.  \nLA METTEUSE EN SCÈNE EN PARLE \n« Pour le meilleur ou pour le pire\, les pas de l’Homme ont toujours été guidés par une inébranlable curiosité\, un insatiable désir de savoir ce qu’il y a « de l’autre côté. » Raphaëlle Boitel
URL:https://crocoule.org/notre-evenement/saint-etienne-ka-in-groupe-acrobatique-de-tanger-raphaelle-boitel/
CATEGORIES:07 ans +,Activité du week-end,Tous les événements,Tout public
END:VEVENT
END:VCALENDAR