BEGIN:VCALENDAR
VERSION:2.0
PRODID:-//Crocoule - ECPv6.15.20//NONSGML v1.0//EN
CALSCALE:GREGORIAN
METHOD:PUBLISH
X-ORIGINAL-URL:https://crocoule.org
X-WR-CALDESC:Évènements pour Crocoule
REFRESH-INTERVAL;VALUE=DURATION:PT1H
X-Robots-Tag:noindex
X-PUBLISHED-TTL:PT1H
BEGIN:VTIMEZONE
TZID:Europe/Paris
BEGIN:DAYLIGHT
TZOFFSETFROM:+0100
TZOFFSETTO:+0200
TZNAME:CEST
DTSTART:20240331T010000
END:DAYLIGHT
BEGIN:STANDARD
TZOFFSETFROM:+0200
TZOFFSETTO:+0100
TZNAME:CET
DTSTART:20241027T010000
END:STANDARD
BEGIN:DAYLIGHT
TZOFFSETFROM:+0100
TZOFFSETTO:+0200
TZNAME:CEST
DTSTART:20250330T010000
END:DAYLIGHT
BEGIN:STANDARD
TZOFFSETFROM:+0200
TZOFFSETTO:+0100
TZNAME:CET
DTSTART:20251026T010000
END:STANDARD
BEGIN:DAYLIGHT
TZOFFSETFROM:+0100
TZOFFSETTO:+0200
TZNAME:CEST
DTSTART:20260329T010000
END:DAYLIGHT
BEGIN:STANDARD
TZOFFSETFROM:+0200
TZOFFSETTO:+0100
TZNAME:CET
DTSTART:20261025T010000
END:STANDARD
END:VTIMEZONE
BEGIN:VEVENT
DTSTART;TZID=Europe/Paris:20250415T100000
DTEND;TZID=Europe/Paris:20251102T180000
DTSTAMP:20260424T021350
CREATED:20250530T114612Z
LAST-MODIFIED:20250530T115727Z
UID:10011142-1744711200-1762106400@crocoule.org
SUMMARY:LE CHEYLARD | CERVORAMA : l'expo !
DESCRIPTION:Durée de visite : 1h30 environ \nL’exposition « Cervorama » propose une immersion fascinante dans le monde du cerveau humain et animal\, offrant aux visiteurs une approche interactive et scientifique pour mieux comprendre cet organe complexe. Grâce à des expériences ludiques et pédagogiques\, les participants découvrent le rôle du cerveau dans la perception\, l’apprentissage et les émotions. Adaptée à tous les âges\, cette exposition permet d’explorer les grandes questions neuroscientifiques de manière sensorielle et engageante. \nÀ travers des installations interactives et des expériences participatives\, les visiteurs seront amenés à tester leurs propres capacités cognitives\, à observer comment leur cerveau réagit aux illusions ou encore à découvrir les incroyables facultés d’adaptation du cerveau face à l’environnement. \nAdulte (du 15/04/2025 au 02/11/2025)	6€\nEnfant (du 15/04/2025 au 02/11/2025)	4€\nForfait famille (du 15/04/2025 au 02/11/2025)\n2 adultes\, 2 enfants + 2€ par enfant supplémentaire\n18€
URL:https://crocoule.org/notre-evenement/le-cheylard-cervorama-lexpo/
CATEGORIES:06 ans +,Activité du week-end,Activité en semaine,Activité pendant les vacances,Adultes,En famille,Expo,Tous les événements
ATTACH;FMTTYPE=image/png:https://crocoule.org/wp-content/uploads/2025/05/30110376-diaporama-365x255-kPZk0O.png
END:VEVENT
BEGIN:VEVENT
DTSTART;TZID=Europe/Paris:20250615T140000
DTEND;TZID=Europe/Paris:20250615T153000
DTSTAMP:20260424T021350
CREATED:20250530T115650Z
LAST-MODIFIED:20250530T115650Z
UID:10011194-1749996000-1750001400@crocoule.org
SUMMARY:Marcoux | Cohabiter avec les insectes
DESCRIPTION:Ils représentent le groupe animal le plus diversifié sur terre\, et peuplent nos jardins et nos maisons. Parcourons ensemble quelques exemples d’insectes qui habitent nos imaginaires et nos territoires\, et essayons de mieux les appréhender\, en comprenant leurs besoins\, et les dangers qu’ils représentent parfois. Vous pourrez collecter quelques spécimens\, et les observer de près\, en utilisant une loupe binoculaire.
URL:https://crocoule.org/notre-evenement/marcoux-cohabiter-avec-les-insectes/
CATEGORIES:Activité du week-end,Tous les événements,Tout public
ORGANIZER;CN="Chateau de Goutelas":MAILTO:centreculturel@chateaudegoutelas.fr
END:VEVENT
BEGIN:VEVENT
DTSTART;TZID=Europe/Paris:20250615T140000
DTEND;TZID=Europe/Paris:20250615T160000
DTSTAMP:20260424T021350
CREATED:20250217T154741Z
LAST-MODIFIED:20250217T154741Z
UID:10010511-1749996000-1750003200@crocoule.org
SUMMARY:ESCAPE GAME  LE PUY EN VELAY dès 10 ans  PANIQUE AUX BEAUX-ARTS
DESCRIPTION:7j./7 pendant les vacances scolaires à 14h et 15h30 \n\nMer/sam/dim à 14h et 16h hors vacances scolaires à partir du 2 avril\n\nInscription obligatoire / durée 1h \n6 pers. maximum par session \nEntrée du musée + 10 € / groupe\nwww.musee.patrimoine.lepuyenvelay.fr \nEnquêteur ! C’est le moment de reprendre du service ! L’inspecteur en chef Jean Keit a encore une fois besoin de vous ! Cette fois ci\, une bombe de peinture menace de recouvrir les œuvres du musée ! Vous avez une heure pour résoudre une série d’énigmes et désamorcer la bombe !
URL:https://crocoule.org/notre-evenement/escape-game-le-puy-en-velay-des-10-ans-panique-aux-beaux-arts/2025-06-15/
LOCATION:Musée Crozatier – Puy En Velay\, 2 Rue Antoine Martin\, Le Puy-en-Velay\, 43000\, France
CATEGORIES:10 ans +,11 ans +,12 ans +,Activité du week-end,Intérieur,Tous les événements
END:VEVENT
BEGIN:VEVENT
DTSTART;TZID=Europe/Paris:20250615T143000
DTEND;TZID=Europe/Paris:20250615T160000
DTSTAMP:20260424T021350
CREATED:20250530T115648Z
LAST-MODIFIED:20250530T115648Z
UID:10011193-1749997800-1750003200@crocoule.org
SUMMARY:Marcoux | Pister les animaux sauvages
DESCRIPTION:Une balade tout public avec Anne-Marie Griot\, accompagnatrice de moyenne montagne\, sur les traces des animaux qui vivent aux abords du château.
URL:https://crocoule.org/notre-evenement/marcoux-pister-les-animaux-sauvages/
CATEGORIES:Activité du week-end,Tous les événements,Tout public
ORGANIZER;CN="Chateau de Goutelas":MAILTO:centreculturel@chateaudegoutelas.fr
END:VEVENT
BEGIN:VEVENT
DTSTART;TZID=Europe/Paris:20250615T150000
DTEND;TZID=Europe/Paris:20250615T163000
DTSTAMP:20260424T021350
CREATED:20250530T123022Z
LAST-MODIFIED:20250530T123022Z
UID:10011198-1749999600-1750005000@crocoule.org
SUMMARY:Pommiers-en-Forez | Atelier jeune public - Apprenti archéologue
DESCRIPTION:La mission de nos apprentis archéologues : collecter des vestiges\, les étudier et les interpréter. Une véritable plongée dans le monde de l’archéologie pour reconstituer l’histoire du prieuré !
URL:https://crocoule.org/notre-evenement/pommiers-en-forez-atelier-jeune-public-apprenti-archeologue/
LOCATION:Prieuré de Pommiers-en-Forez\, Vieux Village\, Le Bourg\, Pommiers-en-Forez\, 42260
CATEGORIES:09 ans +,10 ans +,11 ans +,12 ans +,Activité du week-end,En famille,Gratuit,Jeune Public,Tous les événements
END:VEVENT
BEGIN:VEVENT
DTSTART;TZID=Europe/Paris:20250615T153000
DTEND;TZID=Europe/Paris:20250615T163000
DTSTAMP:20260424T021350
CREATED:20250530T115646Z
LAST-MODIFIED:20250530T115646Z
UID:10011192-1750001400-1750005000@crocoule.org
SUMMARY:Marcoux | La vie Taupe secrète
DESCRIPTION:Sous un monticule de terre moelleuse\, deux marionnettes cohabitent avec malice dans une tanière sombre et apprennent petit à petit à construire un lien souterrain. Tendresse et humour s’immiscent entre les strates de la terre… Spectacle suivi d’un atelier marionnettes à 17h.
URL:https://crocoule.org/notre-evenement/marcoux-la-vie-taupe-secrete/
CATEGORIES:01 an +,Activité du week-end,En famille,Jeune Public,Tous les événements
ORGANIZER;CN="Chateau de Goutelas":MAILTO:centreculturel@chateaudegoutelas.fr
END:VEVENT
BEGIN:VEVENT
DTSTART;TZID=Europe/Paris:20250615T163000
DTEND;TZID=Europe/Paris:20250615T173000
DTSTAMP:20260424T021350
CREATED:20250530T115644Z
LAST-MODIFIED:20250530T115644Z
UID:10011191-1750005000-1750008600@crocoule.org
SUMMARY:Marcoux | Initiation à la fauconnerie
DESCRIPTION:Plongez dans l’univers fascinant de la fauconnerie lors d’un atelier interactif animé par l’équipe de la Volerie du Forez (Marcilly-le-Châtel). Découvrez le lien unique qui lie humains et oiseaux\, apprenez les bases de cette pratique ancestrale et assistez à une démonstration en vol d’une buse et d’un faucon caracara.
URL:https://crocoule.org/notre-evenement/marcoux-initiation-a-la-fauconnerie/
CATEGORIES:Activité du week-end,Exterieur,Tous les événements,Tout public
ORGANIZER;CN="Chateau de Goutelas":MAILTO:centreculturel@chateaudegoutelas.fr
END:VEVENT
END:VCALENDAR