BEGIN:VCALENDAR
VERSION:2.0
PRODID:-//Crocoule - ECPv6.15.20//NONSGML v1.0//EN
CALSCALE:GREGORIAN
METHOD:PUBLISH
X-ORIGINAL-URL:https://crocoule.org
X-WR-CALDESC:Évènements pour Crocoule
REFRESH-INTERVAL;VALUE=DURATION:PT1H
X-Robots-Tag:noindex
X-PUBLISHED-TTL:PT1H
BEGIN:VTIMEZONE
TZID:Europe/Paris
BEGIN:DAYLIGHT
TZOFFSETFROM:+0100
TZOFFSETTO:+0200
TZNAME:CEST
DTSTART:20240331T010000
END:DAYLIGHT
BEGIN:STANDARD
TZOFFSETFROM:+0200
TZOFFSETTO:+0100
TZNAME:CET
DTSTART:20241027T010000
END:STANDARD
BEGIN:DAYLIGHT
TZOFFSETFROM:+0100
TZOFFSETTO:+0200
TZNAME:CEST
DTSTART:20250330T010000
END:DAYLIGHT
BEGIN:STANDARD
TZOFFSETFROM:+0200
TZOFFSETTO:+0100
TZNAME:CET
DTSTART:20251026T010000
END:STANDARD
BEGIN:DAYLIGHT
TZOFFSETFROM:+0100
TZOFFSETTO:+0200
TZNAME:CEST
DTSTART:20260329T010000
END:DAYLIGHT
BEGIN:STANDARD
TZOFFSETFROM:+0200
TZOFFSETTO:+0100
TZNAME:CET
DTSTART:20261025T010000
END:STANDARD
END:VTIMEZONE
BEGIN:VEVENT
DTSTART;TZID=Europe/Paris:20250321T200000
DTEND;TZID=Europe/Paris:20250521T220000
DTSTAMP:20260424T045647
CREATED:20250217T152410Z
LAST-MODIFIED:20250313T162315Z
UID:10010372-1742587200-1747864800@crocoule.org
SUMMARY:Retournac | La fête du court métrage
DESCRIPTION:Projection de courts-métrages pour le public ado/adultes. Dans le cadre de l’évnement initié par « Faites des Courts\, Fête des Films »\, la Fête du court métrage élabore chaque année unr programmation officielle pour permettrent leur diffusion dans différents lieux culturels.
URL:https://crocoule.org/notre-evenement/retournac-la-fete-du-court-metrage/
CATEGORIES:12 ans +,Activité du week-end,Intérieur,Tous les événements
END:VEVENT
BEGIN:VEVENT
DTSTART;TZID=Europe/Paris:20250404T100000
DTEND;TZID=Europe/Paris:20250604T180000
DTSTAMP:20260424T045647
CREATED:20250217T152403Z
LAST-MODIFIED:20250313T162310Z
UID:10010367-1743760800-1749060000@crocoule.org
SUMMARY:Retournac | Journée Européenne des Métiers d'Art
DESCRIPTION:Regroupement de quinze d’artisans d’art dans les salles du musée. Démonstrations\, échanges avec le public\, ventes
URL:https://crocoule.org/notre-evenement/retournac-journee-europeenne-des-metiers-dart/
CATEGORIES:05 ans +,Activité du week-end,En famille,Expo,Gratuit,Tous les événements,Tout public
END:VEVENT
BEGIN:VEVENT
DTSTART;TZID=Europe/Paris:20250412T100000
DTEND;TZID=Europe/Paris:20250412T123000
DTSTAMP:20260424T045647
CREATED:20250311T103533Z
LAST-MODIFIED:20250311T103533Z
UID:10010327-1744452000-1744461000@crocoule.org
SUMMARY:Saint Etienne | Le Magasin en Herbe
DESCRIPTION:Au programme : échauffe-toi\, improvise joyeusement\, discute intensément\, crée librement et documente tout cela en t’amusant. Un espace pour proposer et tester des idées\, les partager avec les autres\, et voir ce qui est possible ensemble! Artiste en herbe ! Viens t’exprimer\, t’aventurer vers des domaines innatendus et découvrir de nouveaux points de vue. Une initiation à l’art contemporain sous toutes ses formes\, amusante\, sensible et riche. Conduit par Emilie Birraux\, danseuse et professeure diplômée d’Etat
URL:https://crocoule.org/notre-evenement/saint-etienne-le-magasin-en-herbe-3/
LOCATION:Le Magasin\, 20 Rue Honoré de Balzac\, SAINT ÉTIENNE\, Rhône-Alpes\, 42000\, France
CATEGORIES:Activité du week-end,Jeune Public,Tous les événements
END:VEVENT
END:VCALENDAR