BEGIN:VCALENDAR
VERSION:2.0
PRODID:-//Crocoule - ECPv6.15.20//NONSGML v1.0//EN
CALSCALE:GREGORIAN
METHOD:PUBLISH
X-ORIGINAL-URL:https://crocoule.org
X-WR-CALDESC:Évènements pour Crocoule
REFRESH-INTERVAL;VALUE=DURATION:PT1H
X-Robots-Tag:noindex
X-PUBLISHED-TTL:PT1H
BEGIN:VTIMEZONE
TZID:Europe/Paris
BEGIN:DAYLIGHT
TZOFFSETFROM:+0100
TZOFFSETTO:+0200
TZNAME:CEST
DTSTART:20240331T010000
END:DAYLIGHT
BEGIN:STANDARD
TZOFFSETFROM:+0200
TZOFFSETTO:+0100
TZNAME:CET
DTSTART:20241027T010000
END:STANDARD
BEGIN:DAYLIGHT
TZOFFSETFROM:+0100
TZOFFSETTO:+0200
TZNAME:CEST
DTSTART:20250330T010000
END:DAYLIGHT
BEGIN:STANDARD
TZOFFSETFROM:+0200
TZOFFSETTO:+0100
TZNAME:CET
DTSTART:20251026T010000
END:STANDARD
BEGIN:DAYLIGHT
TZOFFSETFROM:+0100
TZOFFSETTO:+0200
TZNAME:CEST
DTSTART:20260329T010000
END:DAYLIGHT
BEGIN:STANDARD
TZOFFSETFROM:+0200
TZOFFSETTO:+0100
TZNAME:CET
DTSTART:20261025T010000
END:STANDARD
END:VTIMEZONE
BEGIN:VEVENT
DTSTART;TZID=Europe/Paris:20250321T200000
DTEND;TZID=Europe/Paris:20250521T220000
DTSTAMP:20260424T075700
CREATED:20250217T152410Z
LAST-MODIFIED:20250313T162315Z
UID:10010372-1742587200-1747864800@crocoule.org
SUMMARY:Retournac | La fête du court métrage
DESCRIPTION:Projection de courts-métrages pour le public ado/adultes. Dans le cadre de l’évnement initié par « Faites des Courts\, Fête des Films »\, la Fête du court métrage élabore chaque année unr programmation officielle pour permettrent leur diffusion dans différents lieux culturels.
URL:https://crocoule.org/notre-evenement/retournac-la-fete-du-court-metrage/
CATEGORIES:12 ans +,Activité du week-end,Intérieur,Tous les événements
END:VEVENT
BEGIN:VEVENT
DTSTART;TZID=Europe/Paris:20250322T100000
DTEND;TZID=Europe/Paris:20250322T120000
DTSTAMP:20260424T075700
CREATED:20241125T080122Z
LAST-MODIFIED:20241125T084342Z
UID:10009870-1742637600-1742644800@crocoule.org
SUMMARY:Saint-Etienne | Atelier Opération cargo
DESCRIPTION:Larguez les amarres et partez à la conquête des eaux polaires ! Vous découvrez les principes de base de la flottaison grâce à des expériences scientifiques. Puis vous construirez avec du matériel de récupération un bateau capable de flotter pendant au moins une minute. Quels matériaux\, quelle forme et quelle taille choisirez-vous pour votre embarcation ? Améliorez et testez votre embarcation pour relever les défis des explorateur.ices. Votre navire flotte-t-il toujours une fois chargé du matériel de recherche et des vivres pour l’expédition ?9-12 ans\, enfants seuls
URL:https://crocoule.org/notre-evenement/saint-etienne-atelier-operation-cargo-8/
CATEGORIES:09 ans +,10 ans +,11 ans +,12 ans +,Activité du week-end,Activité en semaine,Activité pendant les vacances,Jeune Public,Tous les événements
END:VEVENT
BEGIN:VEVENT
DTSTART;TZID=Europe/Paris:20250322T110000
DTEND;TZID=Europe/Paris:20250322T113500
DTSTAMP:20260424T075700
CREATED:20250217T111740Z
LAST-MODIFIED:20250313T163329Z
UID:10010345-1742641200-1742643300@crocoule.org
SUMMARY:Saint-Etienne-le-Molard | Printemps des Poètes
DESCRIPTION:Ce conte musical\, pour les tous petits\, vous embarque dans un voyage à travers les saisons\, les émotions\, les rencontres\, à la recherche de l’hiver perdu.
URL:https://crocoule.org/notre-evenement/saint-etienne-le-molard-printemps-des-poetes/
CATEGORIES:01 an +,02 ans +,03 ans +,04 ans +,05 ans +,Activité du week-end,Avec bébé dès la naissance,En famille,Gratuit,Jeune Public,Tous les événements
ATTACH;FMTTYPE=image/jpeg:https://crocoule.org/wp-content/uploads/2025/02/29006915-diaporama-UELT1n.tmp_.jpg
END:VEVENT
BEGIN:VEVENT
DTSTART;TZID=Europe/Paris:20250322T150000
DTEND;TZID=Europe/Paris:20250322T153500
DTSTAMP:20260424T075700
CREATED:20250217T111744Z
LAST-MODIFIED:20250217T111744Z
UID:10010347-1742655600-1742657700@crocoule.org
SUMMARY:Saint-Etienne-le-Molard | Printemps des Poètes
DESCRIPTION:Ce conte musical\, pour les tous petits\, vous embarque dans un voyage à travers les saisons\, les émotions\, les rencontres\, à la recherche de l’hiver perdu.
URL:https://crocoule.org/notre-evenement/saint-etienne-le-molard-printemps-des-poetes-2/
CATEGORIES:01 an +,02 ans +,03 ans +,04 ans +,05 ans +,Activité du week-end,Avec bébé dès la naissance,En famille,Gratuit,Jeune Public,Tous les événements
ATTACH;FMTTYPE=image/jpeg:https://crocoule.org/wp-content/uploads/2025/02/29006915-diaporama-UELT1n.tmp_.jpg
END:VEVENT
END:VCALENDAR