BEGIN:VCALENDAR
VERSION:2.0
PRODID:-//Crocoule - ECPv6.15.20//NONSGML v1.0//EN
CALSCALE:GREGORIAN
METHOD:PUBLISH
X-ORIGINAL-URL:https://crocoule.org
X-WR-CALDESC:Évènements pour Crocoule
REFRESH-INTERVAL;VALUE=DURATION:PT1H
X-Robots-Tag:noindex
X-PUBLISHED-TTL:PT1H
BEGIN:VTIMEZONE
TZID:Europe/Paris
BEGIN:DAYLIGHT
TZOFFSETFROM:+0100
TZOFFSETTO:+0200
TZNAME:CEST
DTSTART:20240331T010000
END:DAYLIGHT
BEGIN:STANDARD
TZOFFSETFROM:+0200
TZOFFSETTO:+0100
TZNAME:CET
DTSTART:20241027T010000
END:STANDARD
BEGIN:DAYLIGHT
TZOFFSETFROM:+0100
TZOFFSETTO:+0200
TZNAME:CEST
DTSTART:20250330T010000
END:DAYLIGHT
BEGIN:STANDARD
TZOFFSETFROM:+0200
TZOFFSETTO:+0100
TZNAME:CET
DTSTART:20251026T010000
END:STANDARD
BEGIN:DAYLIGHT
TZOFFSETFROM:+0100
TZOFFSETTO:+0200
TZNAME:CEST
DTSTART:20260329T010000
END:DAYLIGHT
BEGIN:STANDARD
TZOFFSETFROM:+0200
TZOFFSETTO:+0100
TZNAME:CET
DTSTART:20261025T010000
END:STANDARD
END:VTIMEZONE
BEGIN:VEVENT
DTSTART;TZID=Europe/Paris:20250316T150000
DTEND;TZID=Europe/Paris:20250316T160000
DTSTAMP:20260424T063326
CREATED:20250217T111754Z
LAST-MODIFIED:20250313T163334Z
UID:10010350-1742137200-1742140800@crocoule.org
SUMMARY:Pommiers-en-Forez | Printemps des Poètes
DESCRIPTION:C’est le soir\, tard. Dehors la tempête fait rage. Effrayé\, un enfant pleure. Sa grand-mère le console en lui chantant une berceuse et en lui racontant des histoires de vents.\nCe sera pour elle l’occasion de lui transmettre un secret de vie…
URL:https://crocoule.org/notre-evenement/pommiers-en-forez-printemps-des-poetes/
LOCATION:Prieuré de Pommiers-en-Forez\, Vieux Village\, Le Bourg\, Pommiers-en-Forez\, 42260
CATEGORIES:07 ans +,08 ans +,09 ans +,10 ans +,11 ans +,12 ans +,Activité du week-end,En famille,Gratuit,Jeune Public,Tous les événements
END:VEVENT
END:VCALENDAR