BEGIN:VCALENDAR
VERSION:2.0
PRODID:-//Crocoule - ECPv6.15.20//NONSGML v1.0//EN
CALSCALE:GREGORIAN
METHOD:PUBLISH
X-WR-CALNAME:Crocoule
X-ORIGINAL-URL:https://crocoule.org
X-WR-CALDESC:Évènements pour Crocoule
REFRESH-INTERVAL;VALUE=DURATION:PT1H
X-Robots-Tag:noindex
X-PUBLISHED-TTL:PT1H
BEGIN:VTIMEZONE
TZID:Europe/Paris
BEGIN:DAYLIGHT
TZOFFSETFROM:+0100
TZOFFSETTO:+0200
TZNAME:CEST
DTSTART:20240331T010000
END:DAYLIGHT
BEGIN:STANDARD
TZOFFSETFROM:+0200
TZOFFSETTO:+0100
TZNAME:CET
DTSTART:20241027T010000
END:STANDARD
BEGIN:DAYLIGHT
TZOFFSETFROM:+0100
TZOFFSETTO:+0200
TZNAME:CEST
DTSTART:20250330T010000
END:DAYLIGHT
BEGIN:STANDARD
TZOFFSETFROM:+0200
TZOFFSETTO:+0100
TZNAME:CET
DTSTART:20251026T010000
END:STANDARD
BEGIN:DAYLIGHT
TZOFFSETFROM:+0100
TZOFFSETTO:+0200
TZNAME:CEST
DTSTART:20260329T010000
END:DAYLIGHT
BEGIN:STANDARD
TZOFFSETFROM:+0200
TZOFFSETTO:+0100
TZNAME:CET
DTSTART:20261025T010000
END:STANDARD
END:VTIMEZONE
BEGIN:VEVENT
DTSTART;TZID=Europe/Paris:20250129T100000
DTEND;TZID=Europe/Paris:20250129T120000
DTSTAMP:20260424T090718
CREATED:20241125T075939Z
LAST-MODIFIED:20241125T084038Z
UID:10009855-1738144800-1738152000@crocoule.org
SUMMARY:Saint-Etienne | Atelier Ça bouge
DESCRIPTION:Ça bouge ! Oui on bouge\, mais comment ça marche ? Découvrez les secrets du mouvement chez l’être humain et chez les animaux et construisez la maquette d’un membre fonctionnel.7-12 ans\, enfants seuls
URL:https://crocoule.org/notre-evenement/saint-etienne-atelier-ca-bouge-3/
CATEGORIES:07 ans +,08 ans +,09 ans +,10 ans +,11 ans +,12 ans +,Activité du week-end,Activité en semaine,Activité pendant les vacances,Intérieur,Jeune Public,Tous les événements
END:VEVENT
END:VCALENDAR