BEGIN:VCALENDAR
VERSION:2.0
PRODID:-//Crocoule - ECPv6.15.20//NONSGML v1.0//EN
CALSCALE:GREGORIAN
METHOD:PUBLISH
X-ORIGINAL-URL:https://crocoule.org
X-WR-CALDESC:Évènements pour Crocoule
REFRESH-INTERVAL;VALUE=DURATION:PT1H
X-Robots-Tag:noindex
X-PUBLISHED-TTL:PT1H
BEGIN:VTIMEZONE
TZID:Europe/Paris
BEGIN:DAYLIGHT
TZOFFSETFROM:+0100
TZOFFSETTO:+0200
TZNAME:CEST
DTSTART:20240331T010000
END:DAYLIGHT
BEGIN:STANDARD
TZOFFSETFROM:+0200
TZOFFSETTO:+0100
TZNAME:CET
DTSTART:20241027T010000
END:STANDARD
BEGIN:DAYLIGHT
TZOFFSETFROM:+0100
TZOFFSETTO:+0200
TZNAME:CEST
DTSTART:20250330T010000
END:DAYLIGHT
BEGIN:STANDARD
TZOFFSETFROM:+0200
TZOFFSETTO:+0100
TZNAME:CET
DTSTART:20251026T010000
END:STANDARD
BEGIN:DAYLIGHT
TZOFFSETFROM:+0100
TZOFFSETTO:+0200
TZNAME:CEST
DTSTART:20260329T010000
END:DAYLIGHT
BEGIN:STANDARD
TZOFFSETFROM:+0200
TZOFFSETTO:+0100
TZNAME:CET
DTSTART:20261025T010000
END:STANDARD
END:VTIMEZONE
BEGIN:VEVENT
DTSTART;TZID=Europe/Paris:20250108T130000
DTEND;TZID=Europe/Paris:20250126T190000
DTSTAMP:20260424T091243
CREATED:20241125T083951Z
LAST-MODIFIED:20241125T092745Z
UID:10009889-1736341200-1737918000@crocoule.org
SUMMARY:Saint-Etienne | L'Echo de l'Univers
DESCRIPTION:Équipé d’un casque de réalité virtuelle\, vous allez faire un voyage dans l’espace et le temps jusqu’aux origines de l’univers. Vous embarquerez pour un voyage interstellaire inédit vers des destinations fascinantes. Exoplanètes\, trous noirs et galaxies lointaines n’auront plus de secret pour vous ! Une proposition d’iDISCOVR à la Soucoupe Adulte et Ok +10 ans
URL:https://crocoule.org/notre-evenement/saint-etienne-lecho-de-lunivers-3/
LOCATION:Soucoupe\, 158 CR Fauriel\, Saint Etienne\, 42100
CATEGORIES:10 ans +,Activité du week-end,Activité en semaine,Adultes,En famille,Tous les événements,Tout public
END:VEVENT
BEGIN:VEVENT
DTSTART;TZID=Europe/Paris:20250125T100000
DTEND;TZID=Europe/Paris:20250125T120000
DTSTAMP:20260424T091243
CREATED:20241125T080124Z
LAST-MODIFIED:20250313T163407Z
UID:10009871-1737799200-1737806400@crocoule.org
SUMMARY:Saint-Etienne | Atelier Fais bonne impression
DESCRIPTION:Et si vous fabriquiez votre propre baguette pour faire des bulles ? Du prototype en 3D jusqu’à l’objet finalisé\, cet atelier vous propose une initiation à l’utilisation de l’imprimante 3D.12 ans et +\, enfants seuls
URL:https://crocoule.org/notre-evenement/saint-etienne-atelier-fais-bonne-impression/
CATEGORIES:12 ans +,Activité du week-end,Activité en semaine,Activité pendant les vacances,Intérieur,Jeune Public,Tous les événements
END:VEVENT
BEGIN:VEVENT
DTSTART;TZID=Europe/Paris:20250125T143000
DTEND;TZID=Europe/Paris:20250125T170000
DTSTAMP:20260424T091243
CREATED:20241125T094814Z
LAST-MODIFIED:20241125T094814Z
UID:10009957-1737815400-1737824400@crocoule.org
SUMMARY:Les Estables | Igloo
DESCRIPTION:Avec le matériel et les conseils d’un accompagnateur en montagne\, un travail d’entraide et d’équipe se met en place pour réussir un objectif\, construire un véritable igloo ! Tel des inuits\, petits et grands découpent\, transportent et assemblent pour bâtir leur maison de neige.\nBoissons chaudes prévus par l’accompagnateur en fin d’activité !
URL:https://crocoule.org/notre-evenement/les-estables-igloo-6/
LOCATION:Office de tourisme les Estables\, Place du Mézenc\, Les Estables\, 43150\, France
CATEGORIES:06 ans +,Activité du week-end,Adultes,En famille,Exterieur,Tous les événements
ATTACH;FMTTYPE=image/png:https://crocoule.org/wp-content/uploads/2024/11/6905ecdab19159654db959dc97eee08e-jJO3Lk.tmp_.png
END:VEVENT
BEGIN:VEVENT
DTSTART;TZID=Europe/Paris:20250125T150000
DTEND;TZID=Europe/Paris:20250125T160000
DTSTAMP:20260424T091243
CREATED:20241125T145612Z
LAST-MODIFIED:20241125T145612Z
UID:10010244-1737817200-1737820800@crocoule.org
SUMMARY:ROANNE | Faraëkoto
DESCRIPTION:un conte inspirant et optimiste sur la différence et la relation à l’autre\, proche d’Hänsel & Gretel.
URL:https://crocoule.org/notre-evenement/roanne-faraekoto/
LOCATION:Théâtre de Roanne\, 1 Rue Molière\, roanne\, 42300\, France
CATEGORIES:05 ans +,Activité du week-end,Tous les événements
END:VEVENT
BEGIN:VEVENT
DTSTART;TZID=Europe/Paris:20250125T150000
DTEND;TZID=Europe/Paris:20250125T163000
DTSTAMP:20260424T091243
CREATED:20241125T075816Z
LAST-MODIFIED:20241125T092749Z
UID:10009836-1737817200-1737822600@crocoule.org
SUMMARY:Saint-Etienne | Atelier Théâtre d'ombre
DESCRIPTION:Venez découvrir la magie du théâtre d’ombre !\nPeut-on toujours voir des ombres ? Comment créer une ombre ? Comment la rendre la plus grande possible ? Equipé.es de lampes et de différents objets\, vous ferez des expériences qui répondront à ces questions.\nCréez ensuite les silhouettes de personnages avec une découpeuse laser pour le clou du spectacle : un théâtre d’ombres collaboratif.\n3-6 ans en trib
URL:https://crocoule.org/notre-evenement/saint-etienne-atelier-theatre-dombre-2/
CATEGORIES:03 ans +,04 ans +,05 ans +,Activité du week-end,Activité en semaine,En famille,Jeune Public,Tous les événements
END:VEVENT
BEGIN:VEVENT
DTSTART;TZID=Europe/Paris:20250125T150000
DTEND;TZID=Europe/Paris:20250125T170000
DTSTAMP:20260424T091243
CREATED:20241109T102659Z
LAST-MODIFIED:20250313T163509Z
UID:10009804-1737817200-1737824400@crocoule.org
SUMMARY:Saint cyr les vignes | Visite du lait à la glace
DESCRIPTION:7\,50€/adulte-6\,50€/enfant\ninclut la boule de glace
URL:https://crocoule.org/notre-evenement/saint-cyr-les-vignes-visite-du-lait-a-la-glace/
LOCATION:La Ferme des Délices Foréziens\, 1230 Chemin des Sermages\, ST CYR LES VIGNES\, 42210
CATEGORIES:05 ans +,Activité du week-end,Adultes,En famille,Tous les événements
ATTACH;FMTTYPE=image/jpeg:https://crocoule.org/wp-content/uploads/2024/11/visite-lait-glace-ferme-des-delices.jpg
END:VEVENT
BEGIN:VEVENT
DTSTART;TZID=Europe/Paris:20250125T160000
DTEND;TZID=Europe/Paris:20250125T170000
DTSTAMP:20260424T091243
CREATED:20241125T102209Z
LAST-MODIFIED:20241125T102209Z
UID:10010043-1737820800-1737824400@crocoule.org
SUMMARY:Le Puy-en-Velay | Danse parent/enfant (de 3 à 6 ans)
DESCRIPTION:Venez partager un moment complice avec votre bébé ou votre enfant\, en mouvement\, en musique et en douceur. A travers le ludique\, l’imaginaire et l’utilisation d’accessoires vous prendrez plaisir à explorer ensemble l’espace\, le temps et le corps. Prix libre\, sur inscription cafejeunespousses@gmail.com – 0778685338
URL:https://crocoule.org/notre-evenement/le-puy-en-velay-danse-parent-enfant-de-3-a-6-ans/
CATEGORIES:03 ans +,Activité du week-end,En famille,Intérieur,Tous les événements
END:VEVENT
BEGIN:VEVENT
DTSTART;TZID=Europe/Paris:20250125T170000
DTEND;TZID=Europe/Paris:20250125T183000
DTSTAMP:20260424T091243
CREATED:20241125T145612Z
LAST-MODIFIED:20241125T145612Z
UID:10010245-1737824400-1737829800@crocoule.org
SUMMARY:ROANNE | atelier parent/enfant
DESCRIPTION:autour du spectacle Faraëkoto – entre  5 & 10 binômes
URL:https://crocoule.org/notre-evenement/roanne-atelier-parent-enfant/
LOCATION:Théâtre de Roanne\, 1 Rue Molière\, roanne\, 42300\, France
CATEGORIES:04 ans +,Activité du week-end,Tous les événements
END:VEVENT
BEGIN:VEVENT
DTSTART;TZID=Europe/Paris:20250125T173000
DTEND;TZID=Europe/Paris:20250125T200000
DTSTAMP:20260424T091243
CREATED:20241125T094846Z
LAST-MODIFIED:20241125T094846Z
UID:10009973-1737826200-1737835200@crocoule.org
SUMMARY:Les Estables | Apéro terroir hivernal
DESCRIPTION:Partez en randonnée avec un accompagnateur qui vous fera découvrir les spécialités locales.\nEn fin de journée\, après une balade\, dégustez une sélection variée des produits du terroir avec un verre d’apéritif autour d’un feu de bois.\nL’occasion de griller quelques chamallows à partager en famille ou entre amis !
URL:https://crocoule.org/notre-evenement/les-estables-apero-terroir-hivernal-6/
LOCATION:Office de tourisme les Estables\, Place du Mézenc\, Les Estables\, 43150\, France
CATEGORIES:07 ans +,Activité du week-end,Adultes,En famille,Exterieur,Tous les événements
END:VEVENT
END:VCALENDAR