BEGIN:VCALENDAR
VERSION:2.0
PRODID:-//Crocoule - ECPv6.15.20//NONSGML v1.0//EN
CALSCALE:GREGORIAN
METHOD:PUBLISH
X-ORIGINAL-URL:https://crocoule.org
X-WR-CALDESC:Évènements pour Crocoule
REFRESH-INTERVAL;VALUE=DURATION:PT1H
X-Robots-Tag:noindex
X-PUBLISHED-TTL:PT1H
BEGIN:VTIMEZONE
TZID:Europe/Paris
BEGIN:DAYLIGHT
TZOFFSETFROM:+0100
TZOFFSETTO:+0200
TZNAME:CEST
DTSTART:20240331T010000
END:DAYLIGHT
BEGIN:STANDARD
TZOFFSETFROM:+0200
TZOFFSETTO:+0100
TZNAME:CET
DTSTART:20241027T010000
END:STANDARD
BEGIN:DAYLIGHT
TZOFFSETFROM:+0100
TZOFFSETTO:+0200
TZNAME:CEST
DTSTART:20250330T010000
END:DAYLIGHT
BEGIN:STANDARD
TZOFFSETFROM:+0200
TZOFFSETTO:+0100
TZNAME:CET
DTSTART:20251026T010000
END:STANDARD
BEGIN:DAYLIGHT
TZOFFSETFROM:+0100
TZOFFSETTO:+0200
TZNAME:CEST
DTSTART:20260329T010000
END:DAYLIGHT
BEGIN:STANDARD
TZOFFSETFROM:+0200
TZOFFSETTO:+0100
TZNAME:CET
DTSTART:20261025T010000
END:STANDARD
END:VTIMEZONE
BEGIN:VEVENT
DTSTART;TZID=Europe/Paris:20250108T130000
DTEND;TZID=Europe/Paris:20250126T190000
DTSTAMP:20260424T091354
CREATED:20241125T083951Z
LAST-MODIFIED:20241125T092745Z
UID:10009889-1736341200-1737918000@crocoule.org
SUMMARY:Saint-Etienne | L'Echo de l'Univers
DESCRIPTION:Équipé d’un casque de réalité virtuelle\, vous allez faire un voyage dans l’espace et le temps jusqu’aux origines de l’univers. Vous embarquerez pour un voyage interstellaire inédit vers des destinations fascinantes. Exoplanètes\, trous noirs et galaxies lointaines n’auront plus de secret pour vous ! Une proposition d’iDISCOVR à la Soucoupe Adulte et Ok +10 ans
URL:https://crocoule.org/notre-evenement/saint-etienne-lecho-de-lunivers-3/
LOCATION:Soucoupe\, 158 CR Fauriel\, Saint Etienne\, 42100
CATEGORIES:10 ans +,Activité du week-end,Activité en semaine,Adultes,En famille,Tous les événements,Tout public
END:VEVENT
BEGIN:VEVENT
DTSTART;TZID=Europe/Paris:20250122T100000
DTEND;TZID=Europe/Paris:20250122T120000
DTSTAMP:20260424T091354
CREATED:20241125T075845Z
LAST-MODIFIED:20241125T084021Z
UID:10009847-1737540000-1737547200@crocoule.org
SUMMARY:Saint-Etienne | Atelier Orchestre électronique
DESCRIPTION:Faire de la musique avec du carton et de l’aluminium\, ça vous dit ? À partir de presque n’importe quoi et d’une dose d’électronique\, venez inventer un instrument de musique original qui rappelle l’océan ! Cet atelier\, entre arts et sciences\, permet d’appréhender la conductivité des matériaux. Qu’est-ce qu’un matériau isolant ? Et un matériau conducteur ? À travers la construction d’un instrument de musique\, enfants et adultes expérimentent avec l’électricité tout en laissant libre court à leur imagination. Un moment de création sonore à partager.6-12 ans en tribu
URL:https://crocoule.org/notre-evenement/saint-etienne-atelier-orchestre-electronique-4/
CATEGORIES:06 ans +,07 ans +,08 ans +,09 ans +,10 ans +,11 ans +,Activité du week-end,Activité en semaine,Activité pendant les vacances,En famille,Intérieur,Jeune Public,Tous les événements
END:VEVENT
END:VCALENDAR