BEGIN:VCALENDAR
VERSION:2.0
PRODID:-//Crocoule - ECPv6.15.20//NONSGML v1.0//EN
CALSCALE:GREGORIAN
METHOD:PUBLISH
X-WR-CALNAME:Crocoule
X-ORIGINAL-URL:https://crocoule.org
X-WR-CALDESC:Évènements pour Crocoule
REFRESH-INTERVAL;VALUE=DURATION:PT1H
X-Robots-Tag:noindex
X-PUBLISHED-TTL:PT1H
BEGIN:VTIMEZONE
TZID:Europe/Paris
BEGIN:DAYLIGHT
TZOFFSETFROM:+0100
TZOFFSETTO:+0200
TZNAME:CEST
DTSTART:20240331T010000
END:DAYLIGHT
BEGIN:STANDARD
TZOFFSETFROM:+0200
TZOFFSETTO:+0100
TZNAME:CET
DTSTART:20241027T010000
END:STANDARD
BEGIN:DAYLIGHT
TZOFFSETFROM:+0100
TZOFFSETTO:+0200
TZNAME:CEST
DTSTART:20250330T010000
END:DAYLIGHT
BEGIN:STANDARD
TZOFFSETFROM:+0200
TZOFFSETTO:+0100
TZNAME:CET
DTSTART:20251026T010000
END:STANDARD
BEGIN:DAYLIGHT
TZOFFSETFROM:+0100
TZOFFSETTO:+0200
TZNAME:CEST
DTSTART:20260329T010000
END:DAYLIGHT
BEGIN:STANDARD
TZOFFSETFROM:+0200
TZOFFSETTO:+0100
TZNAME:CET
DTSTART:20261025T010000
END:STANDARD
END:VTIMEZONE
BEGIN:VEVENT
DTSTART;TZID=Europe/Paris:20250105T140000
DTEND;TZID=Europe/Paris:20250105T170000
DTSTAMP:20260424T091013
CREATED:20241125T094426Z
LAST-MODIFIED:20241125T094426Z
UID:10009911-1736085600-1736096400@crocoule.org
SUMMARY:Les Estables | Pas à pas...l'hiver
DESCRIPTION:Cette sortie est l’occasion d’une découverte du massif du Mézenc l’hiver.\nDu sous-bois des forêts figées par le vent et le givre aux grandes étendues redessinées par la neige\, c’est une sortie d’initiation pour petits et grands.\nAvec le prêt du matériel adapté pour marcher sur la neige les accompagnateurs en montagne de Guide Nature Randonnée vous parlerons de l’adaptation des hommes à l’hiver\, des stratégies des animaux pour survivre et des histoires de Burle à faire froid dans le dos…
URL:https://crocoule.org/notre-evenement/les-estables-pas-a-pas-lhiver-3/
LOCATION:Office de tourisme les Estables\, Place du Mézenc\, Les Estables\, 43150\, France
CATEGORIES:07 ans +,Activité du week-end,Activité pendant les vacances,Adultes,En famille,Exterieur,Tous les événements
ATTACH;FMTTYPE=image/png:https://crocoule.org/wp-content/uploads/2024/11/86ec1d4707a1ac298d60e6df004ed70b-uokLzC.tmp_.png
END:VEVENT
END:VCALENDAR