BEGIN:VCALENDAR
VERSION:2.0
PRODID:-//Crocoule - ECPv6.15.20//NONSGML v1.0//EN
CALSCALE:GREGORIAN
METHOD:PUBLISH
X-WR-CALNAME:Crocoule
X-ORIGINAL-URL:https://crocoule.org
X-WR-CALDESC:Évènements pour Crocoule
REFRESH-INTERVAL;VALUE=DURATION:PT1H
X-Robots-Tag:noindex
X-PUBLISHED-TTL:PT1H
BEGIN:VTIMEZONE
TZID:Europe/Paris
BEGIN:DAYLIGHT
TZOFFSETFROM:+0100
TZOFFSETTO:+0200
TZNAME:CEST
DTSTART:20230326T010000
END:DAYLIGHT
BEGIN:STANDARD
TZOFFSETFROM:+0200
TZOFFSETTO:+0100
TZNAME:CET
DTSTART:20231029T010000
END:STANDARD
BEGIN:DAYLIGHT
TZOFFSETFROM:+0100
TZOFFSETTO:+0200
TZNAME:CEST
DTSTART:20240331T010000
END:DAYLIGHT
BEGIN:STANDARD
TZOFFSETFROM:+0200
TZOFFSETTO:+0100
TZNAME:CET
DTSTART:20241027T010000
END:STANDARD
BEGIN:DAYLIGHT
TZOFFSETFROM:+0100
TZOFFSETTO:+0200
TZNAME:CEST
DTSTART:20250330T010000
END:DAYLIGHT
BEGIN:STANDARD
TZOFFSETFROM:+0200
TZOFFSETTO:+0100
TZNAME:CET
DTSTART:20251026T010000
END:STANDARD
END:VTIMEZONE
BEGIN:VEVENT
DTSTART;TZID=Europe/Paris:20240101T080000
DTEND;TZID=Europe/Paris:20241231T170000
DTSTAMP:20260424T115151
CREATED:20240122T013844Z
LAST-MODIFIED:20240122T013844Z
UID:10002993-1704096000-1735664400@crocoule.org
SUMMARY:Des empreintes dans la ville!
DESCRIPTION:Des empreintes dans la ville!\n\nToute l’année – Tout pubic. \n\n\nLes 5 coqs emblématiques d’Yssingeaux ont caché 5 de leurs empreintes dans toute la ville. Muni de la carte des Flâneries yssingelaises (disponible en mairie\, médiathèque et à l’OT)\, répondez aux énigmes\, reportez chaque empreinte trouvée dans la zone dédiée sur la carte et gagner votre cadeau\, disponible à l’Office de Tourisme. Ouvrez grand vos yeux sur Yssingeaux et son histoire\, bonne chance!\n\n\n5 missions pour 5 empreintes. A chaque fin de mission\, vous devrez reporter l’empreinte trouvée sur votre carte des Flâneries à l’endroit dédié\, ou sur un simple support papier si vous connaissez bien Yssingeaux. Les panneaux du parcours Histoire et Patrimoine vous seront d’une précieuse aide!\n\n\n\nLa Communauté de Commune des Sucs est officiellement née\, avec les 7 communes du canton d’Yssingeaux\, le 30 juin 1999. \nElle a été élargie en 2001 avec l’entrée des communes de Retournac et Saint-Maurice de Lignon. \nSon nom est issu des Sucs qui entourent les 9 Communes qu’elle représente : Araules\, Beaux\, Bessamorel\, Lapte\, Grazac\, Retournac\, Saint-Julien du Pinet\, Saint-Maurice de Lignon et Yssingeaux. \nElle s ‘étend sur 281\,4 km² et se compose de 18202 habitants. \nLe territoire connaît un dynamisme certain\, il conserve néanmoins son caractère rural qui marque sa différence avec les territoires situés les plus à l’est du département de la Haute-Loire. \nSon siège est située à Yssingeaux. \nLa feuille de route 2021-2026 décrit une action communautaire avec comme fil conducteur : « Les Sucs : un territoire attractif\, volontaire et solidaire ». \nCe thème s’articule autour de 5 objectifs : \n1/ Renforcer l’attractivité économique et touristique du territoire de manière pérenne \n2/ Développer un cadre de vie qualitatif en adéquation avec les attentes \n3/ Répondre aux enjeux des besoins sociaux \n4/ Poursuivre une interaction solidaire et appropriée avec les communes membres \n5/ Adapter et faire évoluer l’organisation interne pour répondre aux enjeux de demain et aux nouveaux objectifs politiques \n\n\n\n\n\nDes parcours Explorama dans toute la France…et au-delà !\n\n\n\n\nSensibiliser votre entourage à la préservation de notre patrimoine tout en vous amusant\, ça vous dit ? Découvrez nos parcours ci-dessous. Il manque un parcours proche de chez vous ? Pas de souci\, créez votre propre parcours ou contactez l’équipe Explorama. 
URL:https://crocoule.org/notre-evenement/des-empreintes-dans-la-ville/
LOCATION:Yssingeaux\, 43200
CATEGORIES:Activité du week-end,Activité en semaine,Activité pendant les vacances,En famille,Tout public
END:VEVENT
BEGIN:VEVENT
DTSTART;VALUE=DATE:20240504
DTEND;VALUE=DATE:20241216
DTSTAMP:20260424T115151
CREATED:20240518T161450Z
LAST-MODIFIED:20240518T161450Z
UID:10005460-1714780800-1734307199@crocoule.org
SUMMARY:EXPO - Maisons d'assemblée : lieux de vie de nos villages
DESCRIPTION:EXPO – Maisons d’assemblée : lieux de vie de nos village\nCette année\, le musée de Retournac accueille une exposition temporaire sur les maisons d’assemblée. Edifiée par les habitants du village\, la maison d’assemblée abrite le logis de la béate et sert de lieu de rassemblement pour la population\, accueillant entre autres l’école et le couvige des dentellières. L’occasion de découvrir ou redécouvrir ce patrimoine propre à la Haute-Loire. \nTARIFS : 5€ plein tarif\, 3\,50€ tarif réduit\, gratuit pour les moins de 12 ans. Gratuit tous les 1er dimanches du mois Tous les jours de 14h à 18h\, du 4 mai au 15 décembre.\n \nSi ton regard se pose sur ces mots c’est que toi aussi tu fais partie de la Haute Congrégation des Super Parents (HCSP : rien que ça !  ????) investis en quête d’idées de sorties familiales dans la Loire et la Haute-Loire pour son/ses bambin(s) ! \nTu ne me crois pas ? Si si\, promis Bienvenue et toutes mes Félicitations ! Tu es sur la bonne page … Et je vais te le prouver ! Tu es prêt ? Allez\, viens je t’emmène au fil des pages du Crocoule ! \nTout d’abord\, Le Crocoule Magazine c’est quoi ? Le Crocoule\, papier ou web\, c’est LE magazine qui porte en lui la douceur et la bienveillance dont tu as besoin en tant que parent et qui facilite tes recherches d’activités loisirs\, culturelles\, nature pour tous les budgets et tous les goûts ! Et ça c’est une promesse ? Tu veux en savoir +\, suis moi par ici ! \nAgenda / Sorties en famille / Loire / Haute-Loire \nIci\, c’est l’agenda web Crocoule\, sur lequel tu peux retrouver idées de sorties\, ateliers\, festivals\, salons\, randonnées\, expositions et autres pépites en intérieur ou en extérieur ! C’est le genre de mine d’or pour les orpailleurs que vous êtes ou LE SUPER guide des parents à court d’idées ! Pour toujours + de sorties familiales\, d’aventures culturelles & de nature dans la Loire\, la Haute-Loire\, le Mezenc\, le Pilat … \nL’équipe du Crocoule prend plaisir à vous dénicher de chouettes instants de vie à partager en famille et s’engage à recenser et à lister pour vous toutes les pépites d’activités de nos si belles régions ! \nAttends un peu\, le Crocoule te réserve bien d’autres surprises … \nLe Crocoule Express !\nDans la rubrique événements\, tu découvriras la version ligérienne du Pékin Express avec le Crocoule Express tant apprécié de nos supers parents lecteurs ! Il s’agit d’une découverte en voiture à sillonner plusieurs endroits dûment sélectionnés rien que pour vous ! Petits & grands partez à la découverte de la Loire\, le Pays du roannais et tout bientôt du Pilat à travers différentes étapes et énigmes à résoudre pour accéder\, grâce à l’emblématique enveloppe\, au lieu suivant ! \nRigolade\, moments de partage et moments épiques assurés en famille ou entre amis ! \nNe manquez pas la programmation juste ici & ici ! \nLe Crocoule Day !\nLe Crocoule Day saura vous ravir également puisqu’il est l’occasion de partenariats avec des associations\, créateurs ou encore offices de tourisme\, pour mettre à l’honneur les trésors de notre région et vous proposer toujours plus de découvertes d’activités ou d’ateliers tout près de chez vous ! Ne manquez pas la programmation juste ici  & ici ! \nBlog / Pépites / Mise à l’honneur / Collab …\nLe Blog Crocoule\, c’est l’endroit où l’on vous présente en détails nos pépites\, nos tests d’activités pour vous en donner un visuel le plus honnête et fiable ! C’est ici où l’on met à l’honneur nos partenaires et où l’on vous transmet notre passion du partage ! N’hésitez pas à aller y faire un tour et à laisser vos retours et vos envies ???? On met du coeur à l’ouvrage et on adore vous lire ! \nLe magazine\nLe Crocoule magazine existe en dématerialisé ici mais aussi et surtout en format papier que vous pouvez retrouver dans + de 450 points de distributions à travers la Loire\, la Haute-Loire\, l’Ondaine\, Loire-Forez et le Pilat … Venez découvrir nos points de distribution juste ici (rubrique « où le trouver ») De quoi le dénicher non loin de chez vous … Et si on vous disait que vous pourriez le recevoir directement dans votre boite aux lettres\, ça vous dirait ? Et bien\, surprise ! C’est possible : ça vous tente ? Rendez vous juste ici pour le recevoir ! \nPour les curieux\, (non non ce n’est plus un vilain défaut !) une liste des 52 couvertures du magasine sont condensés juste ici (rubrique « les magasines ») ! Un grand merci à l’illustratrice : Carole Crouzet\, qui fait un travail de grande qualité pour vous régaler les yeux et vous faire rire le coeur ! \nEn bref\, tu l’auras compris\, ce magazine\, cet endroit\, c’est l’endroit qui se veut bienveillant\, ressourçant\, accompagnant dans cette grande aventure qu’est la parentalité ! Et merci d’être là pour le faire vivre et partager nos si belles missions ! \n 
URL:https://crocoule.org/notre-evenement/expo-maisons-dassemblee-lieux-de-vie-de-nos-villages/
LOCATION:Musée des Manufactures de dentelles – Retournac\, 14 Av. de la Gare\, Retournac\, 43130
CATEGORIES:07 ans +,Activité du week-end,Activité en semaine,Activité pendant les vacances,En famille,Intérieur,Tous les événements,Tout public
END:VEVENT
BEGIN:VEVENT
DTSTART;TZID=Europe/Paris:20241002T080000
DTEND;TZID=Europe/Paris:20241214T170000
DTSTAMP:20260424T115151
CREATED:20240911T004903Z
LAST-MODIFIED:20240923T195828Z
UID:10008979-1727856000-1734195600@crocoule.org
SUMMARY:Cabanes
DESCRIPTION:Cabanes\nVéritable refuge pour petit·es et grand·es\, la cabane est au cœur de notre nouvelle exposition. Les enfants sont invité·es à explorer des cabanes taillées à leur mesure et à fabriquer la leur. À travers une histoire dans laquelle nous suivons deux héros\, partez à la découverte de cabanes artistiques\, créez vos cabanes à l’aide de différents matériaux ou encore expérimentez les cabanes de la nature ! Farfelues ou artistiques\, les cabanes renferment des surprises à découvrir et deviennent refuge\, cachette\, aire de jeux à plusieurs\, abri propice au rêve… Au centre de cette exposition\, l’espace Défi cabanes de la cité des sciences de Paris incite petit·es et grand·es à construire leur cabane. Libre à vous de l’imaginer\, de coopérer ou non\, de manipuler et d’assembler toutes sortes de matériaux. Cette exposition-ateliers est donnée du 02 octobre au 14 décembre. \nDès 3 ans – 4 euros enfant\, 6 euros adultes.\nSi ton regard se pose sur ces mots c’est que toi aussi tu fais partie de la Haute Congrégation des Super Parents (HCSP : rien que ça !  ????) investis en quête d’idées de sorties familiales dans la Loire et la Haute-Loire pour son/ses bambin(s) ! \nTu ne me crois pas ? Si si\, promis Bienvenue et toutes mes Félicitations ! Tu es sur la bonne page … Et je vais te le prouver ! Tu es prêt ? Allez\, viens je t’emmène au fil des pages du Crocoule ! \nTout d’abord\, Le Crocoule Magazine c’est quoi ? Le Crocoule\, papier ou web\, c’est LE magazine qui porte en lui la douceur et la bienveillance dont tu as besoin en tant que parent et qui facilite tes recherches d’activités loisirs\, culturelles\, nature pour tous les budgets et tous les goûts ! Et ça c’est une promesse ? Tu veux en savoir +\, suis moi par ici ! \nEt ce n’est pas tout … Si tu as soif d’aventure Le Crocoule Express est fait pour toi !\n 
URL:https://crocoule.org/notre-evenement/cabanes-2/
LOCATION:Soucoupe\, 158 CR Fauriel\, Saint Etienne\, 42100
CATEGORIES:03 ans +,Activité du week-end,Activité en semaine,Activité pendant les vacances,En famille,Expo,Intérieur,Jeune Public,Tous les événements
END:VEVENT
BEGIN:VEVENT
DTSTART;TZID=Europe/Paris:20241121T100000
DTEND;TZID=Europe/Paris:20241121T113000
DTSTAMP:20260424T115151
CREATED:20240223T115551Z
LAST-MODIFIED:20240223T115551Z
UID:10004096-1732183200-1732188600@crocoule.org
SUMMARY:Atelier peinture à l'aquarelle !
DESCRIPTION:Atelier peinture à l’aquarelle !\nViens apprendre à faire de la peinture à aquarelle chez Manette et Tablier ! \nInfos ateliers\, prix et réservations \nManette et Tablier\, un nouveau lieu familial à Villars (toutes les infos ici) \n  \n  \n  \n  \n  \nMoments partagés / Ateliers & activités en famille !\n \nSi ton regard se pose sur ces mots c’est que toi aussi tu fais partie de la Haute Congrégation des Super Parents (HCSP : rien que ça !  ????) investis en quête d’idées de sorties familiales dans la Loire et la Haute-Loire pour son/ses bambin(s) ! \nTu ne me crois pas ? Si si\, promis Bienvenue et toutes mes Félicitations ! Tu es sur la bonne page … Et je vais te le prouver ! Tu es prêt ? Allez\, viens je t’emmène au fil des pages du Crocoule ! \nTout d’abord\, Le Crocoule Magazine c’est quoi ? Le Crocoule\, papier ou web\, c’est LE magazine qui porte en lui la douceur et la bienveillance dont tu as besoin en tant que parent et qui facilite tes recherches d’activités loisirs\, culturelles\, nature pour tous les budgets et tous les goûts ! Et ça c’est une promesse ? Tu veux en savoir +\, suis moi par ici ! \nAgenda / Sorties en famille / Loire / Haute-Loire \nIci\, c’est l’agenda web Crocoule\, sur lequel tu peux retrouver idées de sorties\, ateliers\, festivals\, salons\, randonnées\, expositions et autres pépites en intérieur ou en extérieur ! C’est le genre de mine d’or pour les orpailleurs que vous êtes ou LE SUPER guide des parents à court d’idées ! Pour toujours + de sorties familiales\, d’aventures culturelles & de nature dans la Loire\, la Haute-Loire\, le Mezenc\, le Pilat … \nL’équipe du Crocoule prend plaisir à vous dénicher de chouettes instants de vie à partager en famille et s’engage à recenser et à lister pour vous toutes les pépites d’activités de nos si belles régions ! \nAttends un peu\, le Crocoule te réserve bien d’autres surprises … \nLe Crocoule Express !\nDans la rubrique événements\, tu découvriras la version ligérienne du Pékin Express avec le Crocoule Express tant apprécié de nos supers parents lecteurs ! Il s’agit d’une découverte en voiture à sillonner plusieurs endroits dûment sélectionnés rien que pour vous ! Petits & grands partez à la découverte de la Loire\, le Pays du roannais et tout bientôt du Pilat à travers différentes étapes et énigmes à résoudre pour accéder\, grâce à l’emblématique enveloppe\, au lieu suivant ! \nRigolade\, moments de partage et moments épiques assurés en famille ou entre amis ! \nNe manquez pas la programmation juste ici & ici ! \nLe Crocoule Day !\nLe Crocoule Day saura vous ravir également puisqu’il est l’occasion de partenariats avec des associations\, créateurs ou encore offices de tourisme\, pour mettre à l’honneur les trésors de notre région et vous proposer toujours plus de découvertes d’activités ou d’ateliers tout près de chez vous ! Ne manquez pas la programmation juste ici  & ici ! \nBlog / Pépites / Mise à l’honneur / Collab …\nLe Blog Crocoule\, c’est l’endroit où l’on vous présente en détails nos pépites\, nos tests d’activités pour vous en donner un visuel le plus honnête et fiable ! C’est ici où l’on met à l’honneur nos partenaires et où l’on vous transmet notre passion du partage ! N’hésitez pas à aller y faire un tour et à laisser vos retours et vos envies ???? On met du coeur à l’ouvrage et on adore vous lire ! \nLe magazine\nLe Crocoule magazine existe en dématerialisé ici mais aussi et surtout en format papier que vous pouvez retrouver dans + de 450 points de distributions à travers la Loire\, la Haute-Loire\, l’Ondaine\, Loire-Forez et le Pilat … Venez découvrir nos points de distribution juste ici (rubrique « où le trouver ») De quoi le dénicher non loin de chez vous … Et si on vous disait que vous pourriez le recevoir directement dans votre boite aux lettres\, ça vous dirait ? Et bien\, surprise ! C’est possible : ça vous tente ? Rendez vous juste ici pour le recevoir ! \nPour les curieux\, (non non ce n’est plus un vilain défaut !) une liste des 52 couvertures du magasine sont condensés juste ici (rubrique « les magasines ») ! Un grand merci à l’illustratrice : Carole Crouzet\, qui fait un travail de grande qualité pour vous régaler les yeux et vous faire rire le coeur ! \nEn bref\, tu l’auras compris\, ce magazine\, cet endroit\, c’est l’endroit qui se veut bienveillant\, ressourçant\, accompagnant dans cette grande aventure qu’est la parentalité ! Et merci d’être là pour le faire vivre et partager nos si belles missions !
URL:https://crocoule.org/notre-evenement/atelier-peinture-a-laquarelle-3/2024-11-21/
LOCATION:Manette et tablier\, 37 rue de la libération\, la fouillouse\, France
CATEGORIES:Activité du week-end,Intérieur,Jeune Public,Tout public
END:VEVENT
END:VCALENDAR