BEGIN:VCALENDAR
VERSION:2.0
PRODID:-//Crocoule - ECPv6.15.20//NONSGML v1.0//EN
CALSCALE:GREGORIAN
METHOD:PUBLISH
X-WR-CALNAME:Crocoule
X-ORIGINAL-URL:https://crocoule.org
X-WR-CALDESC:Évènements pour Crocoule
REFRESH-INTERVAL;VALUE=DURATION:PT1H
X-Robots-Tag:noindex
X-PUBLISHED-TTL:PT1H
BEGIN:VTIMEZONE
TZID:Europe/Paris
BEGIN:DAYLIGHT
TZOFFSETFROM:+0100
TZOFFSETTO:+0200
TZNAME:CEST
DTSTART:20240331T010000
END:DAYLIGHT
BEGIN:STANDARD
TZOFFSETFROM:+0200
TZOFFSETTO:+0100
TZNAME:CET
DTSTART:20241027T010000
END:STANDARD
BEGIN:DAYLIGHT
TZOFFSETFROM:+0100
TZOFFSETTO:+0200
TZNAME:CEST
DTSTART:20250330T010000
END:DAYLIGHT
BEGIN:STANDARD
TZOFFSETFROM:+0200
TZOFFSETTO:+0100
TZNAME:CET
DTSTART:20251026T010000
END:STANDARD
BEGIN:DAYLIGHT
TZOFFSETFROM:+0100
TZOFFSETTO:+0200
TZNAME:CEST
DTSTART:20260329T010000
END:DAYLIGHT
BEGIN:STANDARD
TZOFFSETFROM:+0200
TZOFFSETTO:+0100
TZNAME:CET
DTSTART:20261025T010000
END:STANDARD
BEGIN:DAYLIGHT
TZOFFSETFROM:+0100
TZOFFSETTO:+0200
TZNAME:CEST
DTSTART:20270328T010000
END:DAYLIGHT
BEGIN:STANDARD
TZOFFSETFROM:+0200
TZOFFSETTO:+0100
TZNAME:CET
DTSTART:20271031T010000
END:STANDARD
END:VTIMEZONE
BEGIN:VEVENT
DTSTART;TZID=Europe/Paris:20250415T100000
DTEND;TZID=Europe/Paris:20251102T180000
DTSTAMP:20260423T131915
CREATED:20250530T114612Z
LAST-MODIFIED:20250530T115727Z
UID:10011142-1744711200-1762106400@crocoule.org
SUMMARY:LE CHEYLARD | CERVORAMA : l'expo !
DESCRIPTION:Durée de visite : 1h30 environ \nL’exposition « Cervorama » propose une immersion fascinante dans le monde du cerveau humain et animal\, offrant aux visiteurs une approche interactive et scientifique pour mieux comprendre cet organe complexe. Grâce à des expériences ludiques et pédagogiques\, les participants découvrent le rôle du cerveau dans la perception\, l’apprentissage et les émotions. Adaptée à tous les âges\, cette exposition permet d’explorer les grandes questions neuroscientifiques de manière sensorielle et engageante. \nÀ travers des installations interactives et des expériences participatives\, les visiteurs seront amenés à tester leurs propres capacités cognitives\, à observer comment leur cerveau réagit aux illusions ou encore à découvrir les incroyables facultés d’adaptation du cerveau face à l’environnement. \nAdulte (du 15/04/2025 au 02/11/2025)	6€\nEnfant (du 15/04/2025 au 02/11/2025)	4€\nForfait famille (du 15/04/2025 au 02/11/2025)\n2 adultes\, 2 enfants + 2€ par enfant supplémentaire\n18€
URL:https://crocoule.org/notre-evenement/le-cheylard-cervorama-lexpo/
CATEGORIES:06 ans +,Activité du week-end,Activité en semaine,Activité pendant les vacances,Adultes,En famille,Expo,Tous les événements
ATTACH;FMTTYPE=image/png:https://crocoule.org/wp-content/uploads/2025/05/30110376-diaporama-365x255-kPZk0O.png
END:VEVENT
BEGIN:VEVENT
DTSTART;TZID=Europe/Paris:20250906T140000
DTEND;TZID=Europe/Paris:20251206T140000
DTSTAMP:20260423T131915
CREATED:20250826T150203Z
LAST-MODIFIED:20250826T150212Z
UID:10011794-1757167200-1765029600@crocoule.org
SUMMARY:Retournac | Escape game Vol à la manufacture de Dentelles : à la recherche de la dentelle disparue
DESCRIPTION:Drame à la célèbre manufacture de dentelles de Retournac ! La pièce de dentelle créée spécialement pour l’Exposition Universelle a disparu ! Un escape game d’une heure et demi pour tester en famille votre esprit d’équipe et de réflexion. Tous les samedis à 14h du 6 septembre au 6 décembre\, uniquement sur réservation au 04.71.59.41.63 ou à musee@ville-retournac.fr
URL:https://crocoule.org/notre-evenement/retournac-escape-game-vol-a-la-manufacture-de-dentelles-a-la-recherche-de-la-dentelle-disparue/
CATEGORIES:09 ans +,Activité du week-end,Intérieur,Tous les événements
ATTACH;FMTTYPE=image/png:https://crocoule.org/wp-content/uploads/2025/08/Nuit-europeenne-des-musees-17-mai-2025-de-14h-a-22h-Musee-des-Manufactures-de-Dentelles-1-724x1024-LG7IDm.png
END:VEVENT
BEGIN:VEVENT
DTSTART;TZID=Europe/Paris:20251018T140000
DTEND;TZID=Europe/Paris:20251102T170000
DTSTAMP:20260423T131915
CREATED:20250826T143023Z
LAST-MODIFIED:20250826T143031Z
UID:10011610-1760796000-1762102800@crocoule.org
SUMMARY:Andrezieux | Atelier_stage
DESCRIPTION:Les Stages se déroulent tous les après-midi des vacances de 14h à 17h\, pendant 3 heures et par groupes de 12 enfants maximum\, vos enfants vont construire nos modèles exclusifs sur la thématique « le monde des sorciers. » \nEncadrés par nos animateurs\, la première heure et demie sera dédiée à la construction de modèles motorisés sur la thématique des vacances (araignées qui se déplacent\, sorcière sur son balai qui tourne\, chaudron animé\, etc). En plus de travailler leur dextérité et de les sensibiliser à l’ingénierie avec l’utilisation de rouages et d’essieux\, nous profiterons de leurs constructions pour leur apporter quelques connaissances\, anecdotes sur les sorciers et leurs univers. \nAprès ce premier temps « imposé »\, nous nous adapterons aux enfants et au groupe du jour afin de leur proposer d’autres activités. Ils pourront par exemple construire d’autres modèles de notre crue sur un sujet qui les passionne ou alors faire du jeu libre et bâtir le décor de leur choix en lien avec les modèles précédemment construit\, mais encore mettre en scène leurs créations et réaliser une BD ou un court-métrage.\nSelon la dynamique du groupe et la volonté des enfants. Aussi\, nous les métrons au défi avec des challenges collaboratifs (construction d’un mur avec des contraintes\, challenge comme l’émission brick master etc) \nNous sommes impatients de recevoir vos enfants !\nLe tarif à la demi-journée est initialement à 35 euros\, mais il revient à 29 euros avec le code promo CROCOULE`
URL:https://crocoule.org/notre-evenement/andrezieux-atelier_stage-4/
LOCATION:BRICK4KIDZS ST ETIENNE\, 242 Rue Pierre-Georges Latécoère\, ANDREZIEUX\, 42160
CATEGORIES:05 ans +,06 ans +,07 ans +,08 ans +,09 ans +,10 ans +,11 ans +,12 ans +,Activité du week-end,Activité pendant les vacances,Intérieur,Tous les événements
ATTACH;FMTTYPE=image/jpeg:https://crocoule.org/wp-content/uploads/2025/02/DSC00718-1024x683-d6rzTS.tmp_.jpg
END:VEVENT
BEGIN:VEVENT
DTSTART;TZID=Europe/Paris:20251107T200000
DTEND;TZID=Europe/Paris:20251107T200000
DTSTAMP:20260423T131915
CREATED:20250826T150218Z
LAST-MODIFIED:20250826T150222Z
UID:10011797-1762545600-1762545600@crocoule.org
SUMMARY:Retournac | Mythes et légendes dans l'art
DESCRIPTION:A partir des oeuvres du musée et de la Micro-Folies\, laissez-vous emporter par le récit des contes et légendes du monde\, racontés par les médiatrices du musée et de la médiathèque de Retournac\,
URL:https://crocoule.org/notre-evenement/retournac-mythes-et-legendes-dans-lart/
CATEGORIES:08 ans +,Activité du week-end,Intérieur,Tous les événements
END:VEVENT
BEGIN:VEVENT
DTSTART;TZID=Europe/Paris:20251108T140000
DTEND;TZID=Europe/Paris:20251108T160000
DTSTAMP:20260423T131915
CREATED:20250826T143239Z
LAST-MODIFIED:20251010T133004Z
UID:10011659-1762610400-1762617600@crocoule.org
SUMMARY:Saint-Étienne | À vos bombes\, prêts\, plantez !
DESCRIPTION:Enfilez votre tablier et mettez les mains dans la terre ! En tribu\, fabriquez vos bombes à graines et apprenez les trucs et astuces pour bien les faire pousser. Un atelier simple et joyeux pour semer un peu de nature… tout autour de nous !
URL:https://crocoule.org/notre-evenement/saint-etienne-a-vos-bombes-prets-plantez-2/
CATEGORIES:07 ans +,Activité du week-end,En famille,Tous les événements
ATTACH;FMTTYPE=image/jpeg:https://crocoule.org/wp-content/uploads/2025/08/graines-750x600-Exviy8.jpg
END:VEVENT
BEGIN:VEVENT
DTSTART;TZID=Europe/Paris:20251108T160000
DTEND;TZID=Europe/Paris:20260315T171500
DTSTAMP:20260423T131915
CREATED:20260228T145648Z
LAST-MODIFIED:20260228T145648Z
UID:10012825-1762617600-1773594900@crocoule.org
SUMMARY:Saint-Priest-en-Jarez | Jeu d'enquête au musée - Sixième sens
DESCRIPTION:Et si l’art lui-même était une énigme ? En équipe\, menez l’enquête dans les expositions du musée : résolvez les énigmes\, suivez les indices… et questionnez ce qui fait oeuvre.
URL:https://crocoule.org/notre-evenement/saint-priest-en-jarez-jeu-denquete-au-musee-sixieme-sens-3/
LOCATION:MAMC\, Saint Priest en Jarez
CATEGORIES:11 ans +,Activité du week-end,Tous les événements
ATTACH;FMTTYPE=image/jpeg:https://crocoule.org/wp-content/uploads/2025/11/Jeu_Sixieme_Sens_Hubert-Genouilhac-gwl0ch.jpg
END:VEVENT
BEGIN:VEVENT
DTSTART;TZID=Europe/Paris:20251112T140000
DTEND;TZID=Europe/Paris:20260221T160000
DTSTAMP:20260423T131915
CREATED:20251114T110454Z
LAST-MODIFIED:20251114T142335Z
UID:10012347-1762956000-1771689600@crocoule.org
SUMMARY:Saint-Étienne | GRAINES
DESCRIPTION:Embarquez pour une odyssée interactive et colorée où les secrets des plantes vous seront dévoilés. Lors de notre show de médiation\, expérimentez\, manipulez et découvrez quel est le meilleur pollinisateur.  Puis\, parcourez librement plus de 30 manipulations ludiques. On touche\, on joue\, on observe… et on apprend sans s’en rendre compte. Le saviez-vous ? Une graine de lotus peut rester viable… plus de 1000 ans avant de germer. Sacrée longévité !
URL:https://crocoule.org/notre-evenement/saint-etienne-graines-2/
LOCATION:Soucoupe\, 158 CR Fauriel\, Saint Etienne\, 42100
CATEGORIES:08 ans +,Activité du week-end,Activité en semaine,Adultes,Tous les événements,Tout public
ATTACH;FMTTYPE=image/jpeg:https://crocoule.org/wp-content/uploads/2025/11/la-rotonde-exposition-graines-5-hRfguW.jpg
END:VEVENT
BEGIN:VEVENT
DTSTART;TZID=Europe/Paris:20251115T100000
DTEND;TZID=Europe/Paris:20251115T113000
DTSTAMP:20260423T131915
CREATED:20250826T144238Z
LAST-MODIFIED:20250828T142149Z
UID:10011692-1763200800-1763206200@crocoule.org
SUMMARY:Saint etienne | Atelier Créatif Parent/Enfant Carrousel des rennes
DESCRIPTION:nous allons créer et monter un caroussel en cartion ainsi que les rennes en mousse eva
URL:https://crocoule.org/notre-evenement/saint-etienne-atelier-creatif-parent-enfant-carrousel-des-rennes/
LOCATION:Kit Création\, 4 Rue Philippon\, St Etienne\, 42000\, France
CATEGORIES:04 ans +,Activité du week-end,En famille,Intérieur,Tous les événements
END:VEVENT
BEGIN:VEVENT
DTSTART;TZID=Europe/Paris:20251115T100000
DTEND;TZID=Europe/Paris:20251115T120000
DTSTAMP:20260423T131915
CREATED:20250826T143244Z
LAST-MODIFIED:20251010T133005Z
UID:10011660-1763200800-1763208000@crocoule.org
SUMMARY:Saint-Étienne | À vos bombes\, prêts\, plantez !
DESCRIPTION:Enfilez votre tablier et mettez les mains dans la terre ! En tribu\, fabriquez vos bombes à graines et apprenez les trucs et astuces pour bien les faire pousser. Un atelier simple et joyeux pour semer un peu de nature… tout autour de nous !
URL:https://crocoule.org/notre-evenement/saint-etienne-a-vos-bombes-prets-plantez-3/
CATEGORIES:07 ans +,Activité du week-end,En famille,Tous les événements
ATTACH;FMTTYPE=image/jpeg:https://crocoule.org/wp-content/uploads/2025/08/graines-750x600-Exviy8.jpg
END:VEVENT
BEGIN:VEVENT
DTSTART;TZID=Europe/Paris:20251115T130000
DTEND;TZID=Europe/Paris:20251115T150000
DTSTAMP:20260423T131915
CREATED:20250904T134414Z
LAST-MODIFIED:20250904T134414Z
UID:10012113-1763211600-1763218800@crocoule.org
SUMMARY:Saint-etienne | Atelier illustration parents / Enfants
DESCRIPTION:Partagez un moment créatif avec votre enfant\, cousin\, nièce\, … Lâcher prise autour de l’encre\, s’amuser avec les couleurs et s’enrichir l’un l’autre autour d’une réalisation en commun. Avec les encres colorées la création n’a pas de limite tout comme le bonheur de créer et d’apprendre. Pas de base en dessin nécessaire. Vous serez guidé et accompagné dans tout le processus pour créer en binôme une œuvre personnelle et originale qui vous ressemble. Matériel professionnel mis à disposition et bien sûr vous repartez avec vos créations.
URL:https://crocoule.org/notre-evenement/saint-etienne-atelier-illustration-parents-enfants-2/
LOCATION:Chez les voisines\, 30 Rue Pnte Cadet\,\, SAINT ÉTIENNE\, Rhône-Alpes\, 42000\, France
CATEGORIES:06 ans +,07 ans +,08 ans +,09 ans +,10 ans +,11 ans +,12 ans +,Activité du week-end,Adultes,En famille,Intérieur,Tous les événements
ORGANIZER;CN="Sel illustratrice":MAILTO:grainesdesel@gmail.com
END:VEVENT
BEGIN:VEVENT
DTSTART;TZID=Europe/Paris:20251115T140000
DTEND;TZID=Europe/Paris:20251115T140000
DTSTAMP:20260423T131915
CREATED:20250826T143245Z
LAST-MODIFIED:20251010T133007Z
UID:10011661-1763215200-1763215200@crocoule.org
SUMMARY:Saint-Étienne | À vos bombes\, prêts\, plantez !
DESCRIPTION:Enfilez votre tablier et mettez les mains dans la terre ! En tribu\, fabriquez vos bombes à graines et apprenez les trucs et astuces pour bien les faire pousser. Un atelier simple et joyeux pour semer un peu de nature… tout autour de nous !
URL:https://crocoule.org/notre-evenement/saint-etienne-a-vos-bombes-prets-plantez-4/
CATEGORIES:07 ans +,Activité du week-end,En famille,Tous les événements
ATTACH;FMTTYPE=image/jpeg:https://crocoule.org/wp-content/uploads/2025/08/graines-750x600-Exviy8.jpg
END:VEVENT
BEGIN:VEVENT
DTSTART;TZID=Europe/Paris:20251115T150000
DTEND;TZID=Europe/Paris:20251115T150000
DTSTAMP:20260423T131915
CREATED:20250828T142345Z
LAST-MODIFIED:20250828T142345Z
UID:10012054-1763218800-1763218800@crocoule.org
SUMMARY:Saint etienne | Atelier Créatif Enfant Minis lanternes suspendus animaux de la forêt
DESCRIPTION:Nous allons créer des petites lanternes suspendues representant des animaux de la fôret
URL:https://crocoule.org/notre-evenement/saint-etienne-atelier-creatif-enfant-minis-lanternes-suspendus-animaux-de-la-foret-2/
LOCATION:Kit Création\, 4 Rue Philippon\, St Etienne\, 42000\, France
CATEGORIES:04 ans +,Activité du week-end,Intérieur,Tous les événements
END:VEVENT
BEGIN:VEVENT
DTSTART;TZID=Europe/Paris:20251119T160000
DTEND;TZID=Europe/Paris:20251119T171500
DTSTAMP:20260423T131915
CREATED:20251127T140903Z
LAST-MODIFIED:20260228T145645Z
UID:10012487-1763568000-1763572500@crocoule.org
SUMMARY:Saint-Priest-en-Jarez | Ensemble !
DESCRIPTION:Venez en famille explorer les expositions lors d’une visite ludique et participative\, pensée pour petits et grands
URL:https://crocoule.org/notre-evenement/saint-priest-en-jarez-ensemble/
LOCATION:MAMC\, Saint Priest en Jarez
CATEGORIES:06 ans +,Activité du week-end,Activité en semaine,Tous les événements
ATTACH;FMTTYPE=image/jpeg:https://crocoule.org/wp-content/uploads/2025/11/VISITE_Ensemble-UqJYQv.jpg
END:VEVENT
BEGIN:VEVENT
DTSTART;TZID=Europe/Paris:20251122T100000
DTEND;TZID=Europe/Paris:20251122T120000
DTSTAMP:20260423T131915
CREATED:20250826T143248Z
LAST-MODIFIED:20251009T094324Z
UID:10011663-1763805600-1763812800@crocoule.org
SUMMARY:Saint-Étienne | A toute allure !
DESCRIPTION:Attention\, atelier qui décoiffe ! Construis ta voiture à propulsion avec des objets du quotidien et découvre comment l’air peut devenir une source d’énergie ! En équipe\, assemble\, ajuste et teste ta boîte roulante… franchira-t-elle la ligne d’arrivée ?
URL:https://crocoule.org/notre-evenement/saint-etienne-a-toute-allure-5/
CATEGORIES:09 ans +,Activité du week-end,Tous les événements
ATTACH;FMTTYPE=image/jpeg:https://crocoule.org/wp-content/uploads/2025/08/a-tout-allure-750x600-yFazaN.jpg
END:VEVENT
BEGIN:VEVENT
DTSTART;TZID=Europe/Paris:20251122T140000
DTEND;TZID=Europe/Paris:20251122T160000
DTSTAMP:20260423T131915
CREATED:20250826T143249Z
LAST-MODIFIED:20251009T094325Z
UID:10011664-1763820000-1763827200@crocoule.org
SUMMARY:Saint-Étienne | A l’assaut du ciel !
DESCRIPTION:Remonte le temps avec les frères Montgolfier et deviens\, toi aussi\, un pro de l’air chaud ! Au programme : expériences gonflées\, constructions aériennes et défis en équipe. Te voilà devenu\, avec ta bande\, un équipage de choc\, alors pour finir en beauté\, accroche ta photo de groupe dans notre tableau souvenir !
URL:https://crocoule.org/notre-evenement/saint-etienne-a-lassaut-du-ciel-6/
CATEGORIES:07 ans +,Activité du week-end,Tous les événements
ATTACH;FMTTYPE=image/jpeg:https://crocoule.org/wp-content/uploads/2025/08/mongolfiere-750x600-AGiRRz.jpg
END:VEVENT
BEGIN:VEVENT
DTSTART;TZID=Europe/Paris:20251122T143000
DTEND;TZID=Europe/Paris:20251122T143000
DTSTAMP:20260423T131915
CREATED:20251127T140905Z
LAST-MODIFIED:20260228T145646Z
UID:10012488-1763821800-1763821800@crocoule.org
SUMMARY:Saint-Priest-en-Jarez | Dans tous les sens
DESCRIPTION:Une visite où les enfants de 5 à 11 ans découvrent les trois expositions à travers des activités variées : jeu de construction\, activation de performance\, lecture de conte\, et plus encore. Bonne idée : profitez-en pour participer à la visite découverte du musée pour adultes (tous les samedis et dimanches à 14h30) !
URL:https://crocoule.org/notre-evenement/saint-priest-en-jarez-dans-tous-les-sens/
LOCATION:MAMC\, Saint Priest en Jarez
CATEGORIES:05 ans +,Activité du week-end,Tous les événements
ATTACH;FMTTYPE=image/jpeg:https://crocoule.org/wp-content/uploads/2025/11/VISITE_Dans_tous_les_sens-2e2O7S.jpg
END:VEVENT
BEGIN:VEVENT
DTSTART;TZID=Europe/Paris:20251122T150000
DTEND;TZID=Europe/Paris:20251122T163000
DTSTAMP:20260423T131915
CREATED:20250826T144241Z
LAST-MODIFIED:20250828T142346Z
UID:10011694-1763823600-1763829000@crocoule.org
SUMMARY:Saint etienne | Atelier Créatif Enfants Petit train de Noël
DESCRIPTION:Nous allons créer un petit train miniature transportant des cadeaux de Noël
URL:https://crocoule.org/notre-evenement/saint-etienne-atelier-creatif-enfants-petit-train-de-noel/
LOCATION:Kit Création\, 4 Rue Philippon\, St Etienne\, 42000\, France
CATEGORIES:04 ans +,Activité du week-end,Intérieur,Tous les événements
END:VEVENT
BEGIN:VEVENT
DTSTART;TZID=Europe/Paris:20251127T183000
DTEND;TZID=Europe/Paris:20251127T203000
DTSTAMP:20260423T131915
CREATED:20250904T134049Z
LAST-MODIFIED:20250908T135733Z
UID:10012086-1764268200-1764275400@crocoule.org
SUMMARY:Montbrison | Conférence avec Jean Fontaine
DESCRIPTION:le musée vous invite à une rencontre exceptionnelle avec l’artiste Jean Fontaine\, à l’occasion de son exposition “Histoire SURnaturelle”.\nSculpteur singulier\, Jean Fontaine peuple son univers de créatures hybrides\, mi-humaines\, mi-machines\, mi-animales\, qui interrogent notre rapport au vivant\, à la métamorphose et aux frontières du réel. Son travail s’inscrit dans une tradition artistique nourrie de mythologie\, de science-fiction\, d’histoire naturelle et de surréalisme. Il revendique l’héritage de Jérôme Bosch\, d’Arcimboldo ou encore des cabinets de curiosités\, tout en ancrant ses sculptures dans une vision résolument contemporaine du monde.\nLors de cet échange\, Jean Fontaine reviendra sur ses inspirations\, ses processus de création\, les symboles cachés dans ses œuvres et le regard qu’il porte sur notre époque à travers ses figures hybrides.\nUne occasion rare de plonger dans l’imaginaire foisonnant d’un artiste dont les œuvres interrogent la frontière entre le naturel… et le surnaturel. Tarif Adulte : 5 € – gratuit pour les enfants
URL:https://crocoule.org/notre-evenement/montbrison-conference-avec-jean-fontaine/
CATEGORIES:12 ans +,Activité du week-end,Adultes,En famille,Expo,Intérieur,Tous les événements
END:VEVENT
BEGIN:VEVENT
DTSTART;TZID=Europe/Paris:20251129T100000
DTEND;TZID=Europe/Paris:20251129T113000
DTSTAMP:20260423T131915
CREATED:20250826T143317Z
LAST-MODIFIED:20251009T094326Z
UID:10011665-1764410400-1764415800@crocoule.org
SUMMARY:Saint-Étienne | 1001 nids
DESCRIPTION:Mais où va se cacher le martinet la nuit ? Et le termite ? Et la guêpe ? Découvrons ensemble les abris des animaux et leurs petits secrets. Puis\, en tribu\, fabriquez une mangeoire pour oiseaux.
URL:https://crocoule.org/notre-evenement/saint-etienne-1001-nids-6/
CATEGORIES:03 ans +,Activité du week-end,En famille,Tous les événements
ATTACH;FMTTYPE=image/jpeg:https://crocoule.org/wp-content/uploads/2025/08/mille-et-un-nids-750x600-6mXevc.jpg
END:VEVENT
BEGIN:VEVENT
DTSTART;TZID=Europe/Paris:20251129T100000
DTEND;TZID=Europe/Paris:20251129T113000
DTSTAMP:20260423T131915
CREATED:20250826T144246Z
LAST-MODIFIED:20250828T142349Z
UID:10011696-1764410400-1764415800@crocoule.org
SUMMARY:Saint-Etienne | Atelier Créatif Parent/Enfant Décors pour le sapin en mousse EVA
DESCRIPTION:Nous créer des suspensions pour le sapin en mousse EVA
URL:https://crocoule.org/notre-evenement/saint-etienne-atelier-creatif-parent-enfant-decors-pour-le-sapin-en-mousse-eva/
LOCATION:Kit Création\, 4 Rue Philippon\, St Etienne\, 42000\, France
CATEGORIES:04 ans +,Activité du week-end,En famille,Intérieur,Tous les événements
END:VEVENT
BEGIN:VEVENT
DTSTART;TZID=Europe/Paris:20251129T140000
DTEND;TZID=Europe/Paris:20251129T160000
DTSTAMP:20260423T131915
CREATED:20250826T143318Z
LAST-MODIFIED:20251009T094328Z
UID:10011666-1764424800-1764432000@crocoule.org
SUMMARY:Saint-Étienne | A toute allure !
DESCRIPTION:Attention\, atelier qui décoiffe ! Construis ta voiture à propulsion avec des objets du quotidien et découvre comment l’air peut devenir une source d’énergie ! En équipe\, assemble\, ajuste et teste ta boîte roulante… franchira-t-elle la ligne d’arrivée ?
URL:https://crocoule.org/notre-evenement/saint-etienne-a-toute-allure-6/
CATEGORIES:09 ans +,Activité du week-end,Tous les événements
ATTACH;FMTTYPE=image/jpeg:https://crocoule.org/wp-content/uploads/2025/08/a-tout-allure-750x600-yFazaN.jpg
END:VEVENT
BEGIN:VEVENT
DTSTART;TZID=Europe/Paris:20251129T150000
DTEND;TZID=Europe/Paris:20251129T163000
DTSTAMP:20260423T131915
CREATED:20250826T144248Z
LAST-MODIFIED:20250828T142350Z
UID:10011697-1764428400-1764433800@crocoule.org
SUMMARY:Saint-Etienne | Atelier Créatif Enfant Fleurs de Noël en chenilles et perles
DESCRIPTION:Nous allons créer des fleurs en chenille incrustant des perles
URL:https://crocoule.org/notre-evenement/saint-etienne-atelier-creatif-enfant-fleurs-de-noel-en-chenilles-et-perles/
LOCATION:Kit Création\, 4 Rue Philippon\, St Etienne\, 42000\, France
CATEGORIES:04 ans +,Activité du week-end,Intérieur,Tous les événements
END:VEVENT
BEGIN:VEVENT
DTSTART;TZID=Europe/Paris:20251130T100000
DTEND;TZID=Europe/Paris:20251130T120000
DTSTAMP:20260423T131915
CREATED:20250826T144311Z
LAST-MODIFIED:20250826T145012Z
UID:10011709-1764496800-1764504000@crocoule.org
SUMMARY:Le Puy-en-Velay | Pause tétée A Lait'coute
DESCRIPTION:Par l’association A Lait’Coute. Rendez-vous d’échanges autour de l’allaitement maternel.\nRens: 07 81 29 96 73 alaitcoute@gmail.com.
URL:https://crocoule.org/notre-evenement/le-puy-en-velay-pause-tetee-a-laitcoute-3/
CATEGORIES:Activité du week-end,Adultes,Avec bébé dès la naissance,Intérieur,Tous les événements
END:VEVENT
END:VCALENDAR