BEGIN:VCALENDAR
VERSION:2.0
PRODID:-//Crocoule - ECPv6.15.20//NONSGML v1.0//EN
CALSCALE:GREGORIAN
METHOD:PUBLISH
X-WR-CALNAME:Crocoule
X-ORIGINAL-URL:https://crocoule.org
X-WR-CALDESC:Évènements pour Crocoule
REFRESH-INTERVAL;VALUE=DURATION:PT1H
X-Robots-Tag:noindex
X-PUBLISHED-TTL:PT1H
BEGIN:VTIMEZONE
TZID:Europe/Paris
BEGIN:DAYLIGHT
TZOFFSETFROM:+0100
TZOFFSETTO:+0200
TZNAME:CEST
DTSTART:20240331T010000
END:DAYLIGHT
BEGIN:STANDARD
TZOFFSETFROM:+0200
TZOFFSETTO:+0100
TZNAME:CET
DTSTART:20241027T010000
END:STANDARD
BEGIN:DAYLIGHT
TZOFFSETFROM:+0100
TZOFFSETTO:+0200
TZNAME:CEST
DTSTART:20250330T010000
END:DAYLIGHT
BEGIN:STANDARD
TZOFFSETFROM:+0200
TZOFFSETTO:+0100
TZNAME:CET
DTSTART:20251026T010000
END:STANDARD
BEGIN:DAYLIGHT
TZOFFSETFROM:+0100
TZOFFSETTO:+0200
TZNAME:CEST
DTSTART:20260329T010000
END:DAYLIGHT
BEGIN:STANDARD
TZOFFSETFROM:+0200
TZOFFSETTO:+0100
TZNAME:CET
DTSTART:20261025T010000
END:STANDARD
END:VTIMEZONE
BEGIN:VEVENT
DTSTART;TZID=Europe/Paris:20250415T100000
DTEND;TZID=Europe/Paris:20251102T180000
DTSTAMP:20260423T131810
CREATED:20250530T114612Z
LAST-MODIFIED:20250530T115727Z
UID:10011142-1744711200-1762106400@crocoule.org
SUMMARY:LE CHEYLARD | CERVORAMA : l'expo !
DESCRIPTION:Durée de visite : 1h30 environ \nL’exposition « Cervorama » propose une immersion fascinante dans le monde du cerveau humain et animal\, offrant aux visiteurs une approche interactive et scientifique pour mieux comprendre cet organe complexe. Grâce à des expériences ludiques et pédagogiques\, les participants découvrent le rôle du cerveau dans la perception\, l’apprentissage et les émotions. Adaptée à tous les âges\, cette exposition permet d’explorer les grandes questions neuroscientifiques de manière sensorielle et engageante. \nÀ travers des installations interactives et des expériences participatives\, les visiteurs seront amenés à tester leurs propres capacités cognitives\, à observer comment leur cerveau réagit aux illusions ou encore à découvrir les incroyables facultés d’adaptation du cerveau face à l’environnement. \nAdulte (du 15/04/2025 au 02/11/2025)	6€\nEnfant (du 15/04/2025 au 02/11/2025)	4€\nForfait famille (du 15/04/2025 au 02/11/2025)\n2 adultes\, 2 enfants + 2€ par enfant supplémentaire\n18€
URL:https://crocoule.org/notre-evenement/le-cheylard-cervorama-lexpo/
CATEGORIES:06 ans +,Activité du week-end,Activité en semaine,Activité pendant les vacances,Adultes,En famille,Expo,Tous les événements
ATTACH;FMTTYPE=image/png:https://crocoule.org/wp-content/uploads/2025/05/30110376-diaporama-365x255-kPZk0O.png
END:VEVENT
BEGIN:VEVENT
DTSTART;TZID=Europe/Paris:20250906T140000
DTEND;TZID=Europe/Paris:20251206T140000
DTSTAMP:20260423T131810
CREATED:20250826T150203Z
LAST-MODIFIED:20250826T150212Z
UID:10011794-1757167200-1765029600@crocoule.org
SUMMARY:Retournac | Escape game Vol à la manufacture de Dentelles : à la recherche de la dentelle disparue
DESCRIPTION:Drame à la célèbre manufacture de dentelles de Retournac ! La pièce de dentelle créée spécialement pour l’Exposition Universelle a disparu ! Un escape game d’une heure et demi pour tester en famille votre esprit d’équipe et de réflexion. Tous les samedis à 14h du 6 septembre au 6 décembre\, uniquement sur réservation au 04.71.59.41.63 ou à musee@ville-retournac.fr
URL:https://crocoule.org/notre-evenement/retournac-escape-game-vol-a-la-manufacture-de-dentelles-a-la-recherche-de-la-dentelle-disparue/
CATEGORIES:09 ans +,Activité du week-end,Intérieur,Tous les événements
ATTACH;FMTTYPE=image/png:https://crocoule.org/wp-content/uploads/2025/08/Nuit-europeenne-des-musees-17-mai-2025-de-14h-a-22h-Musee-des-Manufactures-de-Dentelles-1-724x1024-LG7IDm.png
END:VEVENT
BEGIN:VEVENT
DTSTART;TZID=Europe/Paris:20250928T140000
DTEND;TZID=Europe/Paris:20251008T180000
DTSTAMP:20260423T131810
CREATED:20250904T133804Z
LAST-MODIFIED:20250908T135710Z
UID:10012077-1759068000-1759946400@crocoule.org
SUMMARY:Montbrison | Enquête et jeux
DESCRIPTION:Une affaire incroyable secoue le musée d’Allard! Gustave Saittout\, un personnage un peu farfelu venu tout droit de l’année 2132 diffuse de fausses informations. On vous attends pour démasquer les mensonges de Gustave et sauver l’histoire du musée d’Allard (dès 8 ans). Et en plus des jeux géants en bois pour tous ! A vous de jouer ! Entrée gratuite pour les enfants.
URL:https://crocoule.org/notre-evenement/montbrison-enquete-et-jeux-2/
CATEGORIES:04 ans +,05 ans +,06 ans +,07 ans +,08 ans +,09 ans +,10 ans +,11 ans +,12 ans +,Activité du week-end,Adultes,En famille,Intérieur,Jeune Public,Tous les événements,Tout public
ATTACH;FMTTYPE=image/jpeg:https://crocoule.org/wp-content/uploads/2025/09/518957247_1326426566157194_4259595764217904694_n-WIXAbG.jpg
END:VEVENT
BEGIN:VEVENT
DTSTART;TZID=Europe/Paris:20251003T180000
DTEND;TZID=Europe/Paris:20251003T230000
DTSTAMP:20260423T131810
CREATED:20250826T143140Z
LAST-MODIFIED:20251009T093127Z
UID:10011634-1759514400-1759532400@crocoule.org
SUMMARY:Saint-Étienne | La Nuit de la Recherche
DESCRIPTION:Le temps d’une soirée\, la Nuit de la Recherche fait son grand retour pour vous plonger au cœur d’un lieu énigmatique… Bienvenue au Manoir de la Recherche !\nPartez à la rencontre des acteurs et actrices de la recherche d’aujourd’hui – enseignants-chercheurs\, doctorants\, étudiants\, start-ups…- qui viendront échanger avec vous sur leur quotidien et leur domaine d’expertise de manière décalée et conviviale. Au programme : mathématiques\, neurosciences\, géologie\, biologie végétale ou encore sciences du sport\, il y en aura pour tous les goûts ! Du laboratoire au Manoir\, préparez-vous à une Nuit riche en échanges et en découvertes. Un  événement organisé par La Rotonde.
URL:https://crocoule.org/notre-evenement/saint-etienne-la-nuit-de-la-recherche/
CATEGORIES:Activité du week-end,Gratuit,Tous les événements,Tout public
ATTACH;FMTTYPE=image/jpeg:https://crocoule.org/wp-content/uploads/2025/08/2021-NEDC2019_C2A9AtelierCerfVolant-bPJuZ6.jpg
END:VEVENT
BEGIN:VEVENT
DTSTART;TZID=Europe/Paris:20251004T093000
DTEND;TZID=Europe/Paris:20251004T123000
DTSTAMP:20260423T131810
CREATED:20250826T150219Z
LAST-MODIFIED:20250826T150223Z
UID:10011799-1759570200-1759581000@crocoule.org
SUMMARY:Retournac | Biblis en folie : portes grandes ouvertes à la médiathèque !
DESCRIPTION:La médiathèque ouvre grand ses portes pour cette matinée de rentrée : venez (re)découvrir ses locaux\, services et activités de l’année. Petit plus ! Atelier d’origami avec Azacraft : plier\, créer et vous émerveiller ! Lancement de l’édition de Lire en fête « Papier\, cailloux\, ciseaux… Drôles de matières ! »
URL:https://crocoule.org/notre-evenement/retournac-biblis-en-folie-portes-grandes-ouvertes-a-la-mediatheque/
CATEGORIES:Activité du week-end,En famille,Gratuit,Intérieur,Tous les événements,Tout public
END:VEVENT
BEGIN:VEVENT
DTSTART;TZID=Europe/Paris:20251004T100000
DTEND;TZID=Europe/Paris:20251004T104500
DTSTAMP:20260423T131810
CREATED:20250826T144312Z
LAST-MODIFIED:20250826T145013Z
UID:10011712-1759572000-1759574700@crocoule.org
SUMMARY:Le Puy-en-Velay | « C’est pas moi\, c’est mes réflexes !! » Atelier parents/enfants 2/5 ans.
DESCRIPTION:Je peux déglutir sans m’étouffer ? Mettre mes mains en avant quand je tombe ? C’est grâce aux mouvements réflexes ! Mais quand je tourne ma tête et que tout mon corps suit le mouvement ? Et que je mordille tout le temps quelque chose alors que je ne suis plus un bébé ? C’est encore un coup des mouvements réflexes !\nUn atelier ludique et tout en douceur\, à base de jeux réflexes et d’outils Montessori\, pour explorer avec votre enfant ces mouvements innés et inconscients qui gèrent – ou qui gênent ! – nos apprentissages\, nos émotions\, notre corps en équilibre et en mouvement.Atelier animé par Agnès Lafouge\, éducatrice et formatrice en mouvements réflexes et pédagogie Montessori. Sur inscription\, prix libre.
URL:https://crocoule.org/notre-evenement/le-puy-en-velay-cest-pas-moi-cest-mes-reflexes-atelier-parents-enfants-2-5-ans-2/
CATEGORIES:02 ans +,Activité du week-end,Adultes,Intérieur,Tous les événements
END:VEVENT
BEGIN:VEVENT
DTSTART;TZID=Europe/Paris:20251004T110000
DTEND;TZID=Europe/Paris:20251004T120000
DTSTAMP:20260423T131810
CREATED:20250826T144313Z
LAST-MODIFIED:20250826T145013Z
UID:10011713-1759575600-1759579200@crocoule.org
SUMMARY:Le Puy-en-Velay | « C’est pas moi\, c’est mes réflexes !! » Atelier parents/enfants + de 5 ans.
DESCRIPTION:Je peux déglutir sans m’étouffer ? Mettre mes mains en avant quand je tombe ? C’est grâce aux mouvements réflexes ! Mais quand je tourne ma tête et que tout mon corps suit le mouvement ? Et que je mordille tout le temps quelque chose alors que je ne suis plus un bébé ? C’est encore un coup des mouvements réflexes !\nUn atelier ludique et tout en douceur\, à base de jeux réflexes et d’outils Montessori\, pour explorer avec votre enfant ces mouvements innés et inconscients qui gèrent – ou qui gênent ! – nos apprentissages\, nos émotions\, notre corps en équilibre et en mouvement.Atelier animé par Agnès Lafouge\, éducatrice et formatrice en mouvements réflexes et pédagogie Montessori. Sur inscription\, prix libre.
URL:https://crocoule.org/notre-evenement/le-puy-en-velay-cest-pas-moi-cest-mes-reflexes-atelier-parents-enfants-de-5-ans-2/
CATEGORIES:05 ans +,Activité du week-end,Adultes,Intérieur,Tous les événements
END:VEVENT
BEGIN:VEVENT
DTSTART;TZID=Europe/Paris:20251004T150000
DTEND;TZID=Europe/Paris:20251004T163000
DTSTAMP:20260423T131810
CREATED:20250826T144211Z
LAST-MODIFIED:20250828T141742Z
UID:10011680-1759590000-1759595400@crocoule.org
SUMMARY:Saint etienne | Atelier Créatif Enfant Le champignon et sa fleur féérique
DESCRIPTION:Nous allons créer un petit champignon et un fleur féerique décoratif
URL:https://crocoule.org/notre-evenement/saint-etienne-atelier-creatif-enfant-le-champignon-et-sa-fleur-feerique/
LOCATION:Kit Création\, 4 Rue Philippon\, St Etienne\, 42000\, France
CATEGORIES:04 ans +,Activité du week-end,Intérieur,Tous les événements
END:VEVENT
BEGIN:VEVENT
DTSTART;TZID=Europe/Paris:20251011T100000
DTEND;TZID=Europe/Paris:20251011T113000
DTSTAMP:20260423T131810
CREATED:20250826T144214Z
LAST-MODIFIED:20250828T141744Z
UID:10011682-1760176800-1760182200@crocoule.org
SUMMARY:Saint etienne | Atelier Créatif Parent/Enfant Jeu morpion spécial halloween
DESCRIPTION:Nous allons créer un jeu morpion spécial Halloween tapis de jeu et pions
URL:https://crocoule.org/notre-evenement/saint-etienne-atelier-creatif-parent-enfant-jeu-morpion-special-halloween/
LOCATION:Kit Création\, 4 Rue Philippon\, St Etienne\, 42000\, France
CATEGORIES:04 ans +,Activité du week-end,En famille,Intérieur,Tous les événements
END:VEVENT
BEGIN:VEVENT
DTSTART;TZID=Europe/Paris:20251018T090000
DTEND;TZID=Europe/Paris:20251018T110000
DTSTAMP:20260423T131810
CREATED:20250904T134210Z
LAST-MODIFIED:20250904T134222Z
UID:10012112-1760778000-1760785200@crocoule.org
SUMMARY:Saint-etienne | Atelier illustration parents / Enfants
DESCRIPTION:Partagez un moment créatif avec votre enfant\, cousin\, nièce\, … Lâcher prise autour de l’encre\, s’amuser avec les couleurs et s’enrichir l’un l’autre autour d’une réalisation en commun. Avec les encres colorées la création n’a pas de limite tout comme le bonheur de créer et d’apprendre. Pas de base en dessin nécessaire. Vous serez guidé et accompagné dans tout le processus pour créer en binôme une œuvre personnelle et originale qui vous ressemble. Matériel professionnel mis à disposition et bien sûr vous repartez avec vos créations.
URL:https://crocoule.org/notre-evenement/saint-etienne-atelier-illustration-parents-enfants/
LOCATION:Chez les voisines\, 30 Rue Pnte Cadet\,\, SAINT ÉTIENNE\, Rhône-Alpes\, 42000\, France
CATEGORIES:06 ans +,07 ans +,08 ans +,09 ans +,10 ans +,11 ans +,12 ans +,Activité du week-end,Adultes,En famille,Intérieur,Tous les événements
ORGANIZER;CN="Sel illustratrice":MAILTO:grainesdesel@gmail.com
END:VEVENT
BEGIN:VEVENT
DTSTART;TZID=Europe/Paris:20251018T140000
DTEND;TZID=Europe/Paris:20251102T170000
DTSTAMP:20260423T131810
CREATED:20250826T143023Z
LAST-MODIFIED:20250826T143031Z
UID:10011610-1760796000-1762102800@crocoule.org
SUMMARY:Andrezieux | Atelier_stage
DESCRIPTION:Les Stages se déroulent tous les après-midi des vacances de 14h à 17h\, pendant 3 heures et par groupes de 12 enfants maximum\, vos enfants vont construire nos modèles exclusifs sur la thématique « le monde des sorciers. » \nEncadrés par nos animateurs\, la première heure et demie sera dédiée à la construction de modèles motorisés sur la thématique des vacances (araignées qui se déplacent\, sorcière sur son balai qui tourne\, chaudron animé\, etc). En plus de travailler leur dextérité et de les sensibiliser à l’ingénierie avec l’utilisation de rouages et d’essieux\, nous profiterons de leurs constructions pour leur apporter quelques connaissances\, anecdotes sur les sorciers et leurs univers. \nAprès ce premier temps « imposé »\, nous nous adapterons aux enfants et au groupe du jour afin de leur proposer d’autres activités. Ils pourront par exemple construire d’autres modèles de notre crue sur un sujet qui les passionne ou alors faire du jeu libre et bâtir le décor de leur choix en lien avec les modèles précédemment construit\, mais encore mettre en scène leurs créations et réaliser une BD ou un court-métrage.\nSelon la dynamique du groupe et la volonté des enfants. Aussi\, nous les métrons au défi avec des challenges collaboratifs (construction d’un mur avec des contraintes\, challenge comme l’émission brick master etc) \nNous sommes impatients de recevoir vos enfants !\nLe tarif à la demi-journée est initialement à 35 euros\, mais il revient à 29 euros avec le code promo CROCOULE`
URL:https://crocoule.org/notre-evenement/andrezieux-atelier_stage-4/
LOCATION:BRICK4KIDZS ST ETIENNE\, 242 Rue Pierre-Georges Latécoère\, ANDREZIEUX\, 42160
CATEGORIES:05 ans +,06 ans +,07 ans +,08 ans +,09 ans +,10 ans +,11 ans +,12 ans +,Activité du week-end,Activité pendant les vacances,Intérieur,Tous les événements
ATTACH;FMTTYPE=image/jpeg:https://crocoule.org/wp-content/uploads/2025/02/DSC00718-1024x683-d6rzTS.tmp_.jpg
END:VEVENT
BEGIN:VEVENT
DTSTART;TZID=Europe/Paris:20251018T150000
DTEND;TZID=Europe/Paris:20251018T163000
DTSTAMP:20260423T131810
CREATED:20250826T144216Z
LAST-MODIFIED:20250828T141943Z
UID:10011683-1760799600-1760805000@crocoule.org
SUMMARY:Saint etienne | Atelier Créatif Enfant Baguette Magique
DESCRIPTION:Nous allons créer une baguette magique et la décorer
URL:https://crocoule.org/notre-evenement/saint-etienne-atelier-creatif-enfant-baguette-magique/
LOCATION:Kit Création\, 4 Rue Philippon\, St Etienne\, 42000\, France
CATEGORIES:04 ans +,Activité du week-end,Intérieur,Tous les événements
END:VEVENT
BEGIN:VEVENT
DTSTART;TZID=Europe/Paris:20251019T100000
DTEND;TZID=Europe/Paris:20251019T180000
DTSTAMP:20260423T131810
CREATED:20250826T154417Z
LAST-MODIFIED:20250826T154417Z
UID:10012041-1760868000-1760896800@crocoule.org
SUMMARY:Saint-Etienne-le-Molard | Jeu de piste connecté
DESCRIPTION:À la croisée d’un Escape Game et d’une chasse au Trésor\, constituez votre équipe de 2 à 6 joueurs pour relever les défis et résoudre le maximum d’énigmes à la Bâtie d’urfé. Vous avez 60 minutes pour récolter le plus de points. Que la meilleure équipe gagne ! Créez votre équipe de 2 à 5 joueurs ⏱️ 60 min de jeu Réalisez des défis et énigmes au cœur du château Récoltez le plus de points possible Jouez en direct contre d’autres équipes 60 € par équipe Départ : de 10h à 16h
URL:https://crocoule.org/notre-evenement/saint-etienne-le-molard-jeu-de-piste-connecte-3/
CATEGORIES:10 ans +,Activité du week-end,En famille,Jeune Public,Tous les événements
END:VEVENT
BEGIN:VEVENT
DTSTART;TZID=Europe/Paris:20251025T100000
DTEND;TZID=Europe/Paris:20251025T113000
DTSTAMP:20260423T131810
CREATED:20250826T144227Z
LAST-MODIFIED:20250828T141947Z
UID:10011686-1761386400-1761391800@crocoule.org
SUMMARY:Saint etienne | Atelier Créatif Parent/Enfant Attrapre rêve d'Halloween
DESCRIPTION:Nous allons créer un attrape rêve autour du thème d’Halloween
URL:https://crocoule.org/notre-evenement/saint-etienne-atelier-creatif-parent-enfant-attrapre-reve-dhalloween/
LOCATION:Kit Création\, 4 Rue Philippon\, St Etienne\, 42000\, France
CATEGORIES:04 ans +,Activité du week-end,Activité pendant les vacances,En famille,Intérieur,Tous les événements
END:VEVENT
BEGIN:VEVENT
DTSTART;TZID=Europe/Paris:20251025T100000
DTEND;TZID=Europe/Paris:20251025T180000
DTSTAMP:20260423T131810
CREATED:20250826T154437Z
LAST-MODIFIED:20250826T154437Z
UID:10012045-1761386400-1761415200@crocoule.org
SUMMARY:Charlieu | Jeu de piste connecté
DESCRIPTION:Comment se déroule une partie ? Votre aventure commence avec le briefing de notre Game Master (maître du jeu). Il vous donnera instructions\, règles et astuces pour profiter pleinement de votre rallye d’énigmes à l’abbaye. Il vous distribuera ensuite votre kit de jeu. Choisissez un nom d’équipe et c’est parti pour 60 minutes d’enquête. Observez les fondations des trois églises\, admirez les chapiteaux romans et réalisez vos propres photos ! Chacune des étapes de notre jeu vous met au défi. Servez-vous du smartphone pour répondre aux énigmes. Vous traverserez plus d’une trentaine de points d’intérêt. Ouvrez donc l’œil et profitez du patrimoine de l’abbaye. Mais n’oubliez pas l’enjeu ! Au bout de 60 minutes\, le gong retentit : rendez-vous au point de départ pour découvrir votre classement dans cette chasse aux énigmes. Notre Game Master vous débriefera la partie et avec un peu de chance\, et de talent\, vous serez sacrés champion parmi tous les participants !
URL:https://crocoule.org/notre-evenement/charlieu-jeu-de-piste-connecte-3/
LOCATION:Abbaye de Charlieu\, place de l'Abbaye\, Charlieu\, 42052\, France
CATEGORIES:10 ans +,Activité du week-end,En famille,Tous les événements
END:VEVENT
BEGIN:VEVENT
DTSTART;TZID=Europe/Paris:20251025T150000
DTEND;TZID=Europe/Paris:20251025T163000
DTSTAMP:20260423T131810
CREATED:20250826T144228Z
LAST-MODIFIED:20250828T141949Z
UID:10011687-1761404400-1761409800@crocoule.org
SUMMARY:Saint etienne | Atelier Créatif Enfant Sac à bonbons monstres
DESCRIPTION:Nous allons créer un sac representant un monstre pour aller récolter les bonbons le jour d’Halloween
URL:https://crocoule.org/notre-evenement/saint-etienne-atelier-creatif-enfant-sac-a-bonbons-monstres/
LOCATION:Kit Création\, 4 Rue Philippon\, St Etienne\, 42000\, France
CATEGORIES:04 ans +,Activité du week-end,Activité pendant les vacances,En famille,Tous les événements
END:VEVENT
END:VCALENDAR