BEGIN:VCALENDAR
VERSION:2.0
PRODID:-//Crocoule - ECPv6.15.20//NONSGML v1.0//EN
CALSCALE:GREGORIAN
METHOD:PUBLISH
X-WR-CALNAME:Crocoule
X-ORIGINAL-URL:https://crocoule.org
X-WR-CALDESC:Évènements pour Crocoule
REFRESH-INTERVAL;VALUE=DURATION:PT1H
X-Robots-Tag:noindex
X-PUBLISHED-TTL:PT1H
BEGIN:VTIMEZONE
TZID:Europe/Paris
BEGIN:DAYLIGHT
TZOFFSETFROM:+0100
TZOFFSETTO:+0200
TZNAME:CEST
DTSTART:20220327T010000
END:DAYLIGHT
BEGIN:STANDARD
TZOFFSETFROM:+0200
TZOFFSETTO:+0100
TZNAME:CET
DTSTART:20221030T010000
END:STANDARD
BEGIN:DAYLIGHT
TZOFFSETFROM:+0100
TZOFFSETTO:+0200
TZNAME:CEST
DTSTART:20230326T010000
END:DAYLIGHT
BEGIN:STANDARD
TZOFFSETFROM:+0200
TZOFFSETTO:+0100
TZNAME:CET
DTSTART:20231029T010000
END:STANDARD
BEGIN:DAYLIGHT
TZOFFSETFROM:+0100
TZOFFSETTO:+0200
TZNAME:CEST
DTSTART:20240331T010000
END:DAYLIGHT
BEGIN:STANDARD
TZOFFSETFROM:+0200
TZOFFSETTO:+0100
TZNAME:CET
DTSTART:20241027T010000
END:STANDARD
END:VTIMEZONE
BEGIN:VEVENT
DTSTART;VALUE=DATE:20230828
DTEND;VALUE=DATE:20230829
DTSTAMP:20260424T103022
CREATED:20230728T143058Z
LAST-MODIFIED:20230728T143058Z
UID:10002117-1693180800-1693267199@crocoule.org
SUMMARY:Musée Mobile
DESCRIPTION:Le Musée Mobile (MuMo) – Exposition temporaire\nEn tournée dans la Loire avec l’exposition Le Premier soleil\, le Musée Mobile (MuMo) fait étape au Violay. \nÀ l’image d’un cirque qui arrive sur la place du village\, le camion-musée s’ouvre comme par magie et nous invite à une expérience inédite d’art contemporain. Viens découvrir les oeuvres d’une dizaine d’artistes internationaux et participer à un atelier de pratique artistique. \nEn effet\, le Musée Mobile prend la forme d’un container. Il se transforme en un musée\, ouvrant sur quatre espaces distincts. Chacun plongeant les enfants dans un univers différent : peinture\, sculpture\, installation\, vidéo\, design. A travers la découverte d’œuvres créées spécialement par une vingtaine d’artistes de la scène internationale les enfants de 6 à 12 ans pourront explorer la thématique sociale du « Vivre ensemble ». \nLES ORIGINES DU MUMO \nTout d’abord\, il est né de la conviction que l’art est un outil d’ouverture\, de partage et d’éveil au monde. En effet\, MuMo est un musée mobile destiné à aller à la rencontre des enfants. En particulier ceux qui se trouvent éloignés de l’accès à la culture\, en se rendant directement sur leur lieu de vie : cour d’école\, centre de loisirs\, parking d’un quartier… \nEnfin\, lancé sur les routes entre 2011 et 2016\, ce musée itinérant a parcouru 7 pays d’Europe et d’Afrique pour proposer aux enfants de 6 à 12 ans une expérience inédite de l’art contemporain\, à travers la découverte d’oeuvres créées spécialement par une vingtaine d’artistes de la scène internationale\, qui explorent la thématique sociale du «Vivre ensemble». \n\n\n	Similaire
URL:https://crocoule.org/notre-evenement/musee-mobile-11/
LOCATION:Violay
CATEGORIES:06 ans +
END:VEVENT
BEGIN:VEVENT
DTSTART;TZID=Europe/Paris:20230413T143000
DTEND;TZID=Europe/Paris:20230413T160000
DTSTAMP:20260424T103022
CREATED:20230327T090606Z
LAST-MODIFIED:20230327T090606Z
UID:10001132-1681396200-1681401600@crocoule.org
SUMMARY:ANIMATION LAND'ART
DESCRIPTION:ANIMATION LAND’ART\nLes enfants seront initiés au ANIMATION LAND’ART\, art naturel éphémère\, qui consiste à créer avec des matériaux trouvés dans la nature … Faites jouer votre créativité et développez vos 5 sens\, inspirés par les formes et couleurs donnés par la nature ! \nAnimation dans le cadre des « Détours de Forez-Est » : \nRéservation obligatoire  \nContact\nRDV devant la Tour Matagrin – Réservation obligatoire\nMont Boussuivre 42780 Violay\nTéléphone : 04 77 28 67 70 \nVIOLAY – LOIRE\nSitué dans le département de la Loire en région Auvergne-Rhône-Alpes. Violay est un petit village pittoresque niché au cœur des montagnes. \nTout d’abord\, on peut y admirer la beauté de la nature environnante. Les collines verdoyantes offrent des vues spectaculaires sur les alentours et sont idéales pour les randonnées. Les sentiers de randonnée offrent également la possibilité de découvrir la faune et la flore de la région. \nLe village lui-même est charmant avec ses maisons en pierre\, ses ruelles étroites et ses fontaines anciennes. Il y a une église pittoresque datant du 19ème siècle qui est un véritable joyau architectural. \nLes habitants sont chaleureux et accueillants\, et il y a une ambiance paisible qui règne dans le village. Il y a des petits commerces de proximité pour répondre aux besoins quotidiens des habitants. \nEn somme\, Violay est un petit village plein de charme\, qui offre une belle échappée dans la nature\, idéal pour une escapade de week-end ou une visite en journée. \n  \n\n\n	Similaire
URL:https://crocoule.org/notre-evenement/animation-landart/
LOCATION:Violay
CATEGORIES:04 ans +
END:VEVENT
END:VCALENDAR