BEGIN:VCALENDAR
VERSION:2.0
PRODID:-//Crocoule - ECPv6.15.15//NONSGML v1.0//EN
CALSCALE:GREGORIAN
METHOD:PUBLISH
X-WR-CALNAME:Crocoule
X-ORIGINAL-URL:https://crocoule.org
X-WR-CALDESC:Évènements pour Crocoule
REFRESH-INTERVAL;VALUE=DURATION:PT1H
X-Robots-Tag:noindex
X-PUBLISHED-TTL:PT1H
BEGIN:VTIMEZONE
TZID:Europe/Paris
BEGIN:DAYLIGHT
TZOFFSETFROM:+0100
TZOFFSETTO:+0200
TZNAME:CEST
DTSTART:20220327T010000
END:DAYLIGHT
BEGIN:STANDARD
TZOFFSETFROM:+0200
TZOFFSETTO:+0100
TZNAME:CET
DTSTART:20221030T010000
END:STANDARD
BEGIN:DAYLIGHT
TZOFFSETFROM:+0100
TZOFFSETTO:+0200
TZNAME:CEST
DTSTART:20230326T010000
END:DAYLIGHT
BEGIN:STANDARD
TZOFFSETFROM:+0200
TZOFFSETTO:+0100
TZNAME:CET
DTSTART:20231029T010000
END:STANDARD
BEGIN:DAYLIGHT
TZOFFSETFROM:+0100
TZOFFSETTO:+0200
TZNAME:CEST
DTSTART:20240331T010000
END:DAYLIGHT
BEGIN:STANDARD
TZOFFSETFROM:+0200
TZOFFSETTO:+0100
TZNAME:CET
DTSTART:20241027T010000
END:STANDARD
END:VTIMEZONE
BEGIN:VEVENT
DTSTART;TZID=Europe/Paris:20230823T150000
DTEND;TZID=Europe/Paris:20230823T150000
DTSTAMP:20260421T142826
CREATED:20230726T103754Z
LAST-MODIFIED:20230726T103754Z
UID:10001978-1692802800-1692802800@crocoule.org
SUMMARY:A la ferme Vach'Mont Bio
DESCRIPTION:A la ferme Vach’Mont Bio\nVisite de la ferme avec tous ses animaux a la ferme Vach’Mont Bio. Démonstration de chien de troupeau. Dégustation vente. \n\n\n\nNotre Histoire\nEn 2017\, Aline reprends l’exploitation laitière familiale de son arrière grand-père. Avec la volonté de faire perdurer la qualité du lait produit et de transformer\, elle-même\, une partie de la production. Cette envie de « produire mieux » et non de suivre le « produire toujours  plus » de la société actuelle. Lui fait entamer les démarches pour passer toute la production en Bio. Son mari\, Julien quitte sont emploi de contrôleur laitier et c’est en famille qu’ils créent Vach’Mont Bio. Aujourd’hui\, la ferme produit et vend du lait\, des yaourts. Mais aussi des desserts lactés\, divers fromages frais\, du beurre et de la crème. Les recettes sont crées à la ferme\, testés en famille et approuvés par les consom’acteurs. \n\n\n\nNotre engagement bio\n\n\nNous faisons quelque chose qui nous correspond ! » En sortant du système de production habituel et en misant sur la vente directe. Nous pouvons proposer un produit local et de qualité. Les techniques de productions pour respecter l’équilibre de la nature et le bien-être animal. Nous cherchons à nous améliorer\, jour après jour. Actuellement\, nous cherchons à remplacer nos pots de yaourt\, par des pots en carton.  \nAutres activités sur la haute loire.  \n\n\n\n\n\n\n	Similaire
URL:https://crocoule.org/notre-evenement/a-la-ferme-vachmont-bio-5/
LOCATION:Vach’Mont Bio – Tence\, Blanc\, Tence\, 43190
CATEGORIES:01 an +
END:VEVENT
BEGIN:VEVENT
DTSTART;TZID=Europe/Paris:20230816T150000
DTEND;TZID=Europe/Paris:20230816T150000
DTSTAMP:20260421T142826
CREATED:20230726T103605Z
LAST-MODIFIED:20230726T103605Z
UID:10001977-1692198000-1692198000@crocoule.org
SUMMARY:A la ferme Vach'Mont Bio
DESCRIPTION:A la ferme Vach’Mont Bio\nVisite de la ferme avec tous ses animaux a la ferme Vach’Mont Bio. Démonstration de chien de troupeau. Dégustation vente. \n\n\n\nNotre Histoire\nEn 2017\, Aline reprends l’exploitation laitière familiale de son arrière grand-père. Avec la volonté de faire perdurer la qualité du lait produit et de transformer\, elle-même\, une partie de la production. Cette envie de « produire mieux » et non de suivre le « produire toujours  plus » de la société actuelle. Lui fait entamer les démarches pour passer toute la production en Bio. Son mari\, Julien quitte sont emploi de contrôleur laitier et c’est en famille qu’ils créent Vach’Mont Bio. Aujourd’hui\, la ferme produit et vend du lait\, des yaourts. Mais aussi des desserts lactés\, divers fromages frais\, du beurre et de la crème. Les recettes sont crées à la ferme\, testés en famille et approuvés par les consom’acteurs. \n\n\n\nNotre engagement bio\n\n\nNous faisons quelque chose qui nous correspond ! » En sortant du système de production habituel et en misant sur la vente directe. Nous pouvons proposer un produit local et de qualité. Les techniques de productions pour respecter l’équilibre de la nature et le bien-être animal. Nous cherchons à nous améliorer\, jour après jour. Actuellement\, nous cherchons à remplacer nos pots de yaourt\, par des pots en carton.  \n\n\n\n\n\n\n	Similaire
URL:https://crocoule.org/notre-evenement/a-la-ferme-vachmont-bio-4/
LOCATION:Vach’Mont Bio – Tence\, Blanc\, Tence\, 43190
CATEGORIES:01 an +
END:VEVENT
BEGIN:VEVENT
DTSTART;TZID=Europe/Paris:20230809T150000
DTEND;TZID=Europe/Paris:20230809T150000
DTSTAMP:20260421T142826
CREATED:20230726T103448Z
LAST-MODIFIED:20230726T103448Z
UID:10001976-1691593200-1691593200@crocoule.org
SUMMARY:A la ferme Vach'Mont Bio
DESCRIPTION:A la ferme Vach’Mont Bio\nVisite de la ferme avec tous ses animaux a la ferme Vach’Mont Bio. Démonstration de chien de troupeau. Dégustation vente. \n\n\n\nNotre Histoire\nEn 2017\, Aline reprends l’exploitation laitière familiale de son arrière grand-père. Avec la volonté de faire perdurer la qualité du lait produit et de transformer\, elle-même\, une partie de la production. Cette envie de « produire mieux » et non de suivre le « produire toujours  plus » de la société actuelle. Lui fait entamer les démarches pour passer toute la production en Bio. Son mari\, Julien quitte sont emploi de contrôleur laitier et c’est en famille qu’ils créent Vach’Mont Bio. Aujourd’hui\, la ferme produit et vend du lait\, des yaourts. Mais aussi des desserts lactés\, divers fromages frais\, du beurre et de la crème. Les recettes sont crées à la ferme\, testés en famille et approuvés par les consom’acteurs. \n\n\n\nNotre engagement bio\n\n\nNous faisons quelque chose qui nous correspond ! » En sortant du système de production habituel et en misant sur la vente directe. Nous pouvons proposer un produit local et de qualité. Les techniques de productions pour respecter l’équilibre de la nature et le bien-être animal. Nous cherchons à nous améliorer\, jour après jour. Actuellement\, nous cherchons à remplacer nos pots de yaourt\, par des pots en carton.  \n\n\n\n\n\n\n	Similaire
URL:https://crocoule.org/notre-evenement/a-la-ferme-vachmont-bio-3/
LOCATION:Vach’Mont Bio – Tence\, Blanc\, Tence\, 43190
CATEGORIES:01 an +
END:VEVENT
BEGIN:VEVENT
DTSTART;TZID=Europe/Paris:20230802T150000
DTEND;TZID=Europe/Paris:20230802T150000
DTSTAMP:20260421T142826
CREATED:20230726T102546Z
LAST-MODIFIED:20230726T102546Z
UID:10001975-1690988400-1690988400@crocoule.org
SUMMARY:A la ferme Vach'Mont Bio
DESCRIPTION:A la ferme Vach’Mont Bio\nVisite de la ferme avec tous ses animaux a la ferme Vach’Mont Bio. Démonstration de chien de troupeau. Dégustation vente. \n\n\n\nNotre Histoire\nEn 2017\, Aline reprends l’exploitation laitière familiale de son arrière grand-père. Avec la volonté de faire perdurer la qualité du lait produit et de transformer\, elle-même\, une partie de la production. Cette envie de « produire mieux » et non de suivre le « produire toujours  plus » de la société actuelle. Lui fait entamer les démarches pour passer toute la production en Bio. Son mari\, Julien quitte sont emploi de contrôleur laitier et c’est en famille qu’ils créent Vach’Mont Bio. Aujourd’hui\, la ferme produit et vend du lait\, des yaourts. Mais aussi des desserts lactés\, divers fromages frais\, du beurre et de la crème. Les recettes sont crées à la ferme\, testés en famille et approuvés par les consom’acteurs. \n\n\n\nNotre engagement bio\n\n\nNous faisons quelque chose qui nous correspond ! » En sortant du système de production habituel et en misant sur la vente directe. Nous pouvons proposer un produit local et de qualité. Les techniques de productions pour respecter l’équilibre de la nature et le bien-être animal. Nous cherchons à nous améliorer\, jour après jour. Actuellement\, nous cherchons à remplacer nos pots de yaourt\, par des pots en carton.  \n\n\n\n\n\n\n	Similaire
URL:https://crocoule.org/notre-evenement/a-la-ferme-vachmont-bio-2/
LOCATION:Vach’Mont Bio – Tence\, Blanc\, Tence\, 43190
CATEGORIES:01 an +
END:VEVENT
BEGIN:VEVENT
DTSTART;TZID=Europe/Paris:20230705T150000
DTEND;TZID=Europe/Paris:20230705T150000
DTSTAMP:20260421T142826
CREATED:20230622T115041Z
LAST-MODIFIED:20230622T125959Z
UID:10001667-1688569200-1688569200@crocoule.org
SUMMARY:A la ferme Vach'Mont Bio
DESCRIPTION:A la ferme Vach’Mont Bio\nVisite de la ferme avec tous ses animaux a la ferme Vach’Mont Bio. Démonstration de chien de troupeau. Dégustation vente. \n\n\n\nNotre Histoire\nEn 2017\, Aline reprends l’exploitation laitière familiale de son arrière grand-père. Avec la volonté de faire perdurer la qualité du lait produit et de transformer\, elle-même\, une partie de la production.  \n\n\nCette envie de « produire mieux » et non de suivre le « produire toujours  plus » de la société actuelle. Lui fait entamer les démarches pour passer toute la production en Bio. \nSon mari\, Julien quitte sont emploi de contrôleur laitier et c’est en famille qu’ils créent Vach’Mont Bio. \nAujourd’hui\, la ferme produit et vend du lait\, des yaourts. Mais aussi des desserts lactés\, divers fromages frais\, du beurre et de la crème.Les recettes sont crées à la ferme\, testés en famille et approuvés par les consom’acteurs. \n\nNotre engagement bio\n\n\n« Nous faisons quelque chose qui nous correspond ! » En sortant du système de production habituel et en misant sur la vente directe\, nous pouvons proposer un produit local et de qualité. Nous adaptons les techniques de productions pour respecter l’équilibre de la nature et le bien-être animal. Nous cherchons à nous améliorer\, jour après jour. Actuellement\, nous cherchons à remplacer nos pots de yaourt\, par des pots en carton.  \n\n\n\n\n\n\n	Similaire
URL:https://crocoule.org/notre-evenement/a-la-ferme-vachmont-bio/
LOCATION:Vach’Mont Bio – Tence\, Blanc\, Tence\, 43190
END:VEVENT
END:VCALENDAR