BEGIN:VCALENDAR
VERSION:2.0
PRODID:-//Crocoule - ECPv6.15.15//NONSGML v1.0//EN
CALSCALE:GREGORIAN
METHOD:PUBLISH
X-WR-CALNAME:Crocoule
X-ORIGINAL-URL:https://crocoule.org
X-WR-CALDESC:Évènements pour Crocoule
REFRESH-INTERVAL;VALUE=DURATION:PT1H
X-Robots-Tag:noindex
X-PUBLISHED-TTL:PT1H
BEGIN:VTIMEZONE
TZID:Europe/Paris
BEGIN:DAYLIGHT
TZOFFSETFROM:+0100
TZOFFSETTO:+0200
TZNAME:CEST
DTSTART:20220327T010000
END:DAYLIGHT
BEGIN:STANDARD
TZOFFSETFROM:+0200
TZOFFSETTO:+0100
TZNAME:CET
DTSTART:20221030T010000
END:STANDARD
BEGIN:DAYLIGHT
TZOFFSETFROM:+0100
TZOFFSETTO:+0200
TZNAME:CEST
DTSTART:20230326T010000
END:DAYLIGHT
BEGIN:STANDARD
TZOFFSETFROM:+0200
TZOFFSETTO:+0100
TZNAME:CET
DTSTART:20231029T010000
END:STANDARD
BEGIN:DAYLIGHT
TZOFFSETFROM:+0100
TZOFFSETTO:+0200
TZNAME:CEST
DTSTART:20240331T010000
END:DAYLIGHT
BEGIN:STANDARD
TZOFFSETFROM:+0200
TZOFFSETTO:+0100
TZNAME:CET
DTSTART:20241027T010000
END:STANDARD
BEGIN:DAYLIGHT
TZOFFSETFROM:+0100
TZOFFSETTO:+0200
TZNAME:CEST
DTSTART:20250330T010000
END:DAYLIGHT
BEGIN:STANDARD
TZOFFSETFROM:+0200
TZOFFSETTO:+0100
TZNAME:CET
DTSTART:20251026T010000
END:STANDARD
BEGIN:DAYLIGHT
TZOFFSETFROM:+0100
TZOFFSETTO:+0200
TZNAME:CEST
DTSTART:20260329T010000
END:DAYLIGHT
BEGIN:STANDARD
TZOFFSETFROM:+0200
TZOFFSETTO:+0100
TZNAME:CET
DTSTART:20261025T010000
END:STANDARD
BEGIN:DAYLIGHT
TZOFFSETFROM:+0100
TZOFFSETTO:+0200
TZNAME:CEST
DTSTART:20270328T010000
END:DAYLIGHT
BEGIN:STANDARD
TZOFFSETFROM:+0200
TZOFFSETTO:+0100
TZNAME:CET
DTSTART:20271031T010000
END:STANDARD
END:VTIMEZONE
BEGIN:VEVENT
DTSTART;TZID=Europe/Paris:20260409T143000
DTEND;TZID=Europe/Paris:20260409T143000
DTSTAMP:20260421T135538
CREATED:20260302T110135Z
LAST-MODIFIED:20260302T110135Z
UID:10013195-1775745000-1775745000@crocoule.org
SUMMARY:Usson-en-Forez | Opération sabotage
DESCRIPTION:Vous êtes résistants pendant la\nSeconde Guerre Mondiale. Les\nAllemands arrivent à\nUsson-en-Forez et vous devez\nsauver votre village. Votre\nobjectif : saboter le bon pont\npour les ralentir. Bonne chance\nsoldat ! \n\n\n	Similaire
URL:https://crocoule.org/notre-evenement/usson-en-forez-operation-sabotage-7/
LOCATION:Usson-en-Forez
END:VEVENT
BEGIN:VEVENT
DTSTART;TZID=Europe/Paris:20250822T140000
DTEND;TZID=Europe/Paris:20250822T153000
DTSTAMP:20260421T135538
CREATED:20250603T094914Z
LAST-MODIFIED:20250603T094914Z
UID:10011502-1755871200-1755876600@crocoule.org
SUMMARY:Usson-en Forez  | Itinitiation à la pêche
DESCRIPTION:Initiez-vous à la pêche en\nfamille et découvrir la pêche\nau coup. Une canne\, un fil et\nun flotteur… Activité encadrée par la\nFédération départementale de la pêche \n\n\n	Similaire
URL:https://crocoule.org/notre-evenement/usson-en-forez-itinitiation-a-la-peche-2/
LOCATION:Usson-en-Forez
CATEGORIES:08 ans +,Tous les événements
END:VEVENT
BEGIN:VEVENT
DTSTART;TZID=Europe/Paris:20250821T150000
DTEND;TZID=Europe/Paris:20250821T163000
DTSTAMP:20260421T135538
CREATED:20250603T094943Z
LAST-MODIFIED:20250603T094943Z
UID:10011511-1755788400-1755793800@crocoule.org
SUMMARY:Usson-en Forez  | Opération sabotage
DESCRIPTION:Vous êtes résistants pendant la\nSeconde Guerre Mondiale. Les\nAllemands arrivent à\nUsson-en-Forez et vous devez\nsauver votre village. Votre\nobjectif : saboter le bon pont\npour les ralentir. Bonne chance\nsoldat ! \n\n\n	Similaire
URL:https://crocoule.org/notre-evenement/usson-en-forez-operation-sabotage-6/
LOCATION:Usson-en-Forez
CATEGORIES:08 ans +,Tous les événements
END:VEVENT
BEGIN:VEVENT
DTSTART;TZID=Europe/Paris:20250820T140000
DTEND;TZID=Europe/Paris:20250820T163000
DTSTAMP:20260421T135538
CREATED:20250603T094948Z
LAST-MODIFIED:20250603T094948Z
UID:10011514-1755698400-1755707400@crocoule.org
SUMMARY:Usson-en Forez  | Les mégalithes de Daniecq
DESCRIPTION:Venez découvrir les mégalithes\nde Daniecq\, ces drôles de pierres\ncreusées et utilisées par les\nhommes préhistoriques.\nMême si le mystère reste entier\,\nnous remonterons le temps\npour profiter d’une belle balade\nponctuée d’un petit conte. \n\n\n	Similaire
URL:https://crocoule.org/notre-evenement/usson-en-forez-les-megalithes-de-daniecq-3/
LOCATION:Usson-en-Forez
CATEGORIES:05 ans +,Tous les événements
END:VEVENT
BEGIN:VEVENT
DTSTART;TZID=Europe/Paris:20250820T140000
DTEND;TZID=Europe/Paris:20250820T140000
DTSTAMP:20260421T135538
CREATED:20250603T094930Z
LAST-MODIFIED:20250603T094930Z
UID:10011508-1755698400-1755698400@crocoule.org
SUMMARY:Usson-en Forez  | Les mégalithes de Daniecq
DESCRIPTION:Venez découvrir les mégalithes\nde Daniecq\, ces drôles de pierres\ncreusées et utilisées par les\nhommes préhistoriques.\nMême si le mystère reste entier\,\nnous remonterons le temps\npour profiter d’une belle balade\nponctuée d’un petit conte. \n\n\n	Similaire
URL:https://crocoule.org/notre-evenement/usson-en-forez-les-megalithes-de-daniecq-2/
LOCATION:Usson-en-Forez
CATEGORIES:05 ans +,Tous les événements
END:VEVENT
BEGIN:VEVENT
DTSTART;TZID=Europe/Paris:20250814T150000
DTEND;TZID=Europe/Paris:20250814T163000
DTSTAMP:20260421T135538
CREATED:20250603T094933Z
LAST-MODIFIED:20250603T094933Z
UID:10011510-1755183600-1755189000@crocoule.org
SUMMARY:Usson-en Forez  | Opération sabotage
DESCRIPTION:Vous êtes résistants pendant la\nSeconde Guerre Mondiale. Les\nAllemands arrivent à\nUsson-en-Forez et vous devez\nsauver votre village. Votre\nobjectif : saboter le bon pont\npour les ralentir. Bonne chance\nsoldat ! \n\n\n	Similaire
URL:https://crocoule.org/notre-evenement/usson-en-forez-operation-sabotage-5/
LOCATION:Usson-en-Forez
CATEGORIES:08 ans +,Tous les événements
END:VEVENT
BEGIN:VEVENT
DTSTART;TZID=Europe/Paris:20250812T150000
DTEND;TZID=Europe/Paris:20250812T170000
DTSTAMP:20260421T135538
CREATED:20250603T094929Z
LAST-MODIFIED:20250603T094929Z
UID:10011507-1755010800-1755018000@crocoule.org
SUMMARY:Usson-en Forez  | Plongez dans la nature
DESCRIPTION:Avec Aurélie\, offrez à vos\nenfants une pause magique\nen nature : des jeux sensoriels\npour découvrir la forêt\nautrement et éveiller leurs sens. \n\n\n	Similaire
URL:https://crocoule.org/notre-evenement/usson-en-forez-plongez-dans-la-nature-2/
LOCATION:Usson-en-Forez
CATEGORIES:05 ans +,Tous les événements
END:VEVENT
BEGIN:VEVENT
DTSTART;TZID=Europe/Paris:20250807T150000
DTEND;TZID=Europe/Paris:20250807T163000
DTSTAMP:20260421T135538
CREATED:20250603T094931Z
LAST-MODIFIED:20250603T094931Z
UID:10011509-1754578800-1754584200@crocoule.org
SUMMARY:Usson-en Forez  | Opération sabotage
DESCRIPTION:Vous êtes résistants pendant la\nSeconde Guerre Mondiale. Les\nAllemands arrivent à\nUsson-en-Forez et vous devez\nsauver votre village. Votre\nobjectif : saboter le bon pont\npour les ralentir. Bonne chance\nsoldat ! \n\n\n	Similaire
URL:https://crocoule.org/notre-evenement/usson-en-forez-operation-sabotage-4/
LOCATION:Usson-en-Forez
CATEGORIES:08 ans +,Tous les événements
END:VEVENT
BEGIN:VEVENT
DTSTART;TZID=Europe/Paris:20250806T153000
DTEND;TZID=Europe/Paris:20250806T170000
DTSTAMP:20260421T135538
CREATED:20250603T094917Z
LAST-MODIFIED:20250603T094917Z
UID:10011505-1754494200-1754499600@crocoule.org
SUMMARY:Usson-en Forez  | Ferme des chemins de Saint-Jacques
DESCRIPTION:Christian Chandy nous ouvre les\nportes de son exploitation de\nvolailles et de lapins\, et partage\navec enthousiasme son\nquotidien auprès des animaux. \n\n\n	Similaire
URL:https://crocoule.org/notre-evenement/usson-en-forez-ferme-des-chemins-de-saint-jacques-2/
LOCATION:Usson-en-Forez
CATEGORIES:06 ans +,Tous les événements
END:VEVENT
BEGIN:VEVENT
DTSTART;TZID=Europe/Paris:20250731T150000
DTEND;TZID=Europe/Paris:20250731T163000
DTSTAMP:20260421T135538
CREATED:20250603T094844Z
LAST-MODIFIED:20250603T094844Z
UID:10011492-1753974000-1753979400@crocoule.org
SUMMARY:Usson-en Forez  | Opération sabotage
DESCRIPTION:Vous êtes résistants pendant la\nSeconde Guerre Mondiale. Les\nAllemands arrivent à\nUsson-en-Forez et vous devez\nsauver votre village. Votre\nobjectif : saboter le bon pont\npour les ralentir. Bonne chance\nsoldat ! \n\n\n	Similaire
URL:https://crocoule.org/notre-evenement/usson-en-forez-operation-sabotage-3/
LOCATION:Usson-en-Forez
CATEGORIES:08 ans +,Tous les événements
END:VEVENT
BEGIN:VEVENT
DTSTART;TZID=Europe/Paris:20250729T140000
DTEND;TZID=Europe/Paris:20250729T153000
DTSTAMP:20260421T135538
CREATED:20250603T094913Z
LAST-MODIFIED:20250603T094913Z
UID:10011501-1753797600-1753803000@crocoule.org
SUMMARY:Usson-en Forez  | Itinitiation à la pêche
DESCRIPTION:Initiez-vous à la pêche en\nfamille et découvrir la pêche\nau coup. Une canne\, un fil et\nun flotteur… Activité encadrée par la\nFédération départementale de la pêche \n\n\n	Similaire
URL:https://crocoule.org/notre-evenement/usson-en-forez-itinitiation-a-la-peche/
LOCATION:Usson-en-Forez
CATEGORIES:08 ans +,Tous les événements
END:VEVENT
BEGIN:VEVENT
DTSTART;TZID=Europe/Paris:20250724T150000
DTEND;TZID=Europe/Paris:20250724T163000
DTSTAMP:20260421T135538
CREATED:20250603T094842Z
LAST-MODIFIED:20250603T094842Z
UID:10011491-1753369200-1753374600@crocoule.org
SUMMARY:Usson-en Forez  | Opération sabotage
DESCRIPTION:Vous êtes résistants pendant la\nSeconde Guerre Mondiale. Les\nAllemands arrivent à\nUsson-en-Forez et vous devez\nsauver votre village. Votre\nobjectif : saboter le bon pont\npour les ralentir. Bonne chance\nsoldat ! \n\n\n	Similaire
URL:https://crocoule.org/notre-evenement/usson-en-forez-operation-sabotage-2/
LOCATION:Usson-en-Forez
CATEGORIES:08 ans +,Tous les événements
END:VEVENT
BEGIN:VEVENT
DTSTART;TZID=Europe/Paris:20250723T150000
DTEND;TZID=Europe/Paris:20250723T170000
DTSTAMP:20260421T135538
CREATED:20250603T094929Z
LAST-MODIFIED:20250603T094929Z
UID:10011506-1753282800-1753290000@crocoule.org
SUMMARY:Usson-en Forez  | Plongez dans la nature
DESCRIPTION:Avec Aurélie\, offrez à vos\nenfants une pause magique\nen nature : des jeux sensoriels\npour découvrir la forêt\nautrement et éveiller leurs sens. \n\n\n	Similaire
URL:https://crocoule.org/notre-evenement/usson-en-forez-plongez-dans-la-nature/
LOCATION:Usson-en-Forez
CATEGORIES:05 ans +,Tous les événements
END:VEVENT
BEGIN:VEVENT
DTSTART;TZID=Europe/Paris:20250722T153000
DTEND;TZID=Europe/Paris:20250722T170000
DTSTAMP:20260421T135538
CREATED:20250603T094917Z
LAST-MODIFIED:20250603T094917Z
UID:10011504-1753198200-1753203600@crocoule.org
SUMMARY:Usson-en Forez  | Ferme des chemins de Saint-Jacques
DESCRIPTION:Christian Chandy nous ouvre les\nportes de son exploitation de\nvolailles et de lapins\, et partage\navec enthousiasme son\nquotidien auprès des animaux. \n\n\n	Similaire
URL:https://crocoule.org/notre-evenement/usson-en-forez-ferme-des-chemins-de-saint-jacques/
LOCATION:Usson-en-Forez
CATEGORIES:06 ans +,Tous les événements
END:VEVENT
BEGIN:VEVENT
DTSTART;TZID=Europe/Paris:20250718T100000
DTEND;TZID=Europe/Paris:20250718T113000
DTSTAMP:20260421T135538
CREATED:20250603T094915Z
LAST-MODIFIED:20250603T094915Z
UID:10011503-1752832800-1752838200@crocoule.org
SUMMARY:Usson-en Forez  | Les mégalithes de Daniecq
DESCRIPTION:Venez découvrir les mégalithes\nde Daniecq\, ces drôles de pierres\ncreusées et utilisées par les\nhommes préhistoriques.\nMême si le mystère reste entier\,\nnous remonterons le temps\npour profiter d’une belle balade\nponctuée d’un petit conte. \n\n\n	Similaire
URL:https://crocoule.org/notre-evenement/usson-en-forez-les-megalithes-de-daniecq/
LOCATION:Usson-en-Forez
CATEGORIES:05 ans +,Tous les événements
END:VEVENT
BEGIN:VEVENT
DTSTART;TZID=Europe/Paris:20250717T150000
DTEND;TZID=Europe/Paris:20250717T163000
DTSTAMP:20260421T135538
CREATED:20250603T094807Z
LAST-MODIFIED:20250603T094807Z
UID:10011490-1752764400-1752769800@crocoule.org
SUMMARY:Usson-en Forez  | Opération sabotage
DESCRIPTION:Vous êtes résistants pendant la\nSeconde Guerre Mondiale. Les\nAllemands arrivent à\nUsson-en-Forez et vous devez\nsauver votre village. Votre\nobjectif : saboter le bon pont\npour les ralentir. Bonne chance\nsoldat ! \n\n\n	Similaire
URL:https://crocoule.org/notre-evenement/usson-en-forez-operation-sabotage/
LOCATION:Usson-en-Forez
CATEGORIES:08 ans +,Tous les événements
END:VEVENT
BEGIN:VEVENT
DTSTART;TZID=Europe/Paris:20250607T143000
DTEND;TZID=Europe/Paris:20250608T163000
DTSTAMP:20260421T135538
CREATED:20250603T094950Z
LAST-MODIFIED:20250603T094950Z
UID:10011515-1749306600-1749400200@crocoule.org
SUMMARY:Usson-en Forez  | Fabrique ton empreintoscope
DESCRIPTION:Avec Anne\, viens créer ton\nempreintoscope ! Cet objet te\nservira ensuite à reconnaître\nles empreintes laissées par les\nanimaux lors de tes balades.\nAtelier organisé dans le cadre de la Fête de\nl’Ecotourisme avec différentes animations\ntout au long du weekend ! \n\n\n	Similaire
URL:https://crocoule.org/notre-evenement/usson-en-forez-fabrique-ton-empreintoscope/
LOCATION:Usson-en-Forez
CATEGORIES:05 ans +,Tous les événements
END:VEVENT
BEGIN:VEVENT
DTSTART;TZID=Europe/Paris:20240814T140000
DTEND;TZID=Europe/Paris:20240814T170000
DTSTAMP:20260421T135538
CREATED:20240613T213543Z
LAST-MODIFIED:20240613T215503Z
UID:10008249-1723644000-1723654800@crocoule.org
SUMMARY:Initiation à la pêche
DESCRIPTION:Initiation à la pêche\nVenez vous initier à la pêche en famille et découvrir la pêche au coup. Une canne\, un fil et un flotteur … Idéal pour débuter et découvrir les joies de la pêche en famille. Activité encadrée par des professionnels de la pêche. Réservation obligatoire. \nDès 8 ans – 15 euros.\nSi ton regard se pose sur ces mots c’est que toi aussi tu fais partie de la Haute Congrégation des Super Parents (HCSP : rien que ça !  ????) investis en quête d’idées de sorties familiales dans la Loire et la Haute-Loire pour son/ses bambin(s) ! \nTu ne me crois pas ? Si si\, promis Bienvenue et toutes mes Félicitations ! Tu es sur la bonne page … Et je vais te le prouver ! Tu es prêt ? Allez\, viens je t’emmène au fil des pages du Crocoule ! \nTout d’abord\, Le Crocoule Magazine c’est quoi ? Le Crocoule\, papier ou web\, c’est LE magazine qui porte en lui la douceur et la bienveillance dont tu as besoin en tant que parent et qui facilite tes recherches d’activités loisirs\, culturelles\, nature pour tous les budgets et tous les goûts ! Et ça c’est une promesse ? Tu veux en savoir +\, suis moi par ici ! \nEt ce n’est pas tout … Si tu as soif d’aventure Le Crocoule Express est fait pour toi !\n  \n\n\n	Similaire
URL:https://crocoule.org/notre-evenement/initiation-a-la-peche-4/2024-08-14/
LOCATION:Usson-en-Forez
CATEGORIES:08 ans +,Activité pendant les vacances,En famille,Exterieur,Tous les événements
END:VEVENT
BEGIN:VEVENT
DTSTART;TZID=Europe/Paris:20240807T140000
DTEND;TZID=Europe/Paris:20240807T170000
DTSTAMP:20260421T135538
CREATED:20240613T213543Z
LAST-MODIFIED:20240613T215503Z
UID:10008248-1723039200-1723050000@crocoule.org
SUMMARY:Initiation à la pêche
DESCRIPTION:Initiation à la pêche\nVenez vous initier à la pêche en famille et découvrir la pêche au coup. Une canne\, un fil et un flotteur … Idéal pour débuter et découvrir les joies de la pêche en famille. Activité encadrée par des professionnels de la pêche. Réservation obligatoire. \nDès 8 ans – 15 euros.\nSi ton regard se pose sur ces mots c’est que toi aussi tu fais partie de la Haute Congrégation des Super Parents (HCSP : rien que ça !  ????) investis en quête d’idées de sorties familiales dans la Loire et la Haute-Loire pour son/ses bambin(s) ! \nTu ne me crois pas ? Si si\, promis Bienvenue et toutes mes Félicitations ! Tu es sur la bonne page … Et je vais te le prouver ! Tu es prêt ? Allez\, viens je t’emmène au fil des pages du Crocoule ! \nTout d’abord\, Le Crocoule Magazine c’est quoi ? Le Crocoule\, papier ou web\, c’est LE magazine qui porte en lui la douceur et la bienveillance dont tu as besoin en tant que parent et qui facilite tes recherches d’activités loisirs\, culturelles\, nature pour tous les budgets et tous les goûts ! Et ça c’est une promesse ? Tu veux en savoir +\, suis moi par ici ! \nEt ce n’est pas tout … Si tu as soif d’aventure Le Crocoule Express est fait pour toi !\n  \n\n\n	Similaire
URL:https://crocoule.org/notre-evenement/initiation-a-la-peche-4/2024-08-07/
LOCATION:Usson-en-Forez
CATEGORIES:08 ans +,Activité pendant les vacances,En famille,Exterieur,Tous les événements
END:VEVENT
BEGIN:VEVENT
DTSTART;TZID=Europe/Paris:20240731T140000
DTEND;TZID=Europe/Paris:20240731T170000
DTSTAMP:20260421T135538
CREATED:20240613T213543Z
LAST-MODIFIED:20240613T215503Z
UID:10008236-1722434400-1722445200@crocoule.org
SUMMARY:Initiation à la pêche
DESCRIPTION:Initiation à la pêche\nVenez vous initier à la pêche en famille et découvrir la pêche au coup. Une canne\, un fil et un flotteur … Idéal pour débuter et découvrir les joies de la pêche en famille. Activité encadrée par des professionnels de la pêche. Réservation obligatoire. \nDès 8 ans – 15 euros.\nSi ton regard se pose sur ces mots c’est que toi aussi tu fais partie de la Haute Congrégation des Super Parents (HCSP : rien que ça !  ????) investis en quête d’idées de sorties familiales dans la Loire et la Haute-Loire pour son/ses bambin(s) ! \nTu ne me crois pas ? Si si\, promis Bienvenue et toutes mes Félicitations ! Tu es sur la bonne page … Et je vais te le prouver ! Tu es prêt ? Allez\, viens je t’emmène au fil des pages du Crocoule ! \nTout d’abord\, Le Crocoule Magazine c’est quoi ? Le Crocoule\, papier ou web\, c’est LE magazine qui porte en lui la douceur et la bienveillance dont tu as besoin en tant que parent et qui facilite tes recherches d’activités loisirs\, culturelles\, nature pour tous les budgets et tous les goûts ! Et ça c’est une promesse ? Tu veux en savoir +\, suis moi par ici ! \nEt ce n’est pas tout … Si tu as soif d’aventure Le Crocoule Express est fait pour toi !\n  \n\n\n	Similaire
URL:https://crocoule.org/notre-evenement/initiation-a-la-peche-4/2024-07-31/
LOCATION:Usson-en-Forez
CATEGORIES:08 ans +,Activité pendant les vacances,En famille,Exterieur,Tous les événements
END:VEVENT
BEGIN:VEVENT
DTSTART;TZID=Europe/Paris:20230817T140000
DTEND;TZID=Europe/Paris:20230817T163000
DTSTAMP:20260421T135538
CREATED:20230512T140924Z
LAST-MODIFIED:20230512T140924Z
UID:10001301-1692280800-1692289800@crocoule.org
SUMMARY:INITIATION À LA PÊCHE
DESCRIPTION:INITIATION À LA PÊCHE\nPendant les enfants\, faite une initiation à la pêche ! \nVenez vous initier à la pêche en famille et découvrir la pêche au coup. Une canne\, un fil et un flotteur … Idéal pour débuter et découvrir les joies de la pêche en famille. Activité encadrée par des professionnels de la pêche. Réservation obligatoire. \nLa pêche \nTout d’abord\, la pêche est une activité millénaire qui fascine les hommes depuis des générations. En effet\, que ce soit en eau douce ou en mer\, la pêche offre une opportunité unique de se connecter à la nature et de se plonger dans un environnement paisible. Armé d’une canne à pêche et d’une patience infinie\, le pêcheur recherche l’excitation d’une prise. Mais trouve également la tranquillité dans le rythme apaisant de lancer et de ramener sa ligne. \nLa pêche est bien plus qu’un simple loisir\, c’est un art qui demande de la connaissance\, de la technique et un profond respect pour l’équilibre fragile des écosystèmes aquatiques. C’est un moyen de s’évader du tumulte de la vie quotidienne\, de se reconnecter à soi-même et de savourer l’instant présent. Que l’on pratique la pêche sportive ou la pêche traditionnelle\, c’est une activité qui unit les passionnés\, transmettant des valeurs de patience\, de persévérance et de respect de la nature. \nLocalisation \n\nLocation : Plan d’eau\nMunicipality : Usson-en-Forez\n\n\nContact\n\nTéléphone : 04 77 96 08 69\nMél : contact@loireforez.com\nSite web (URL) : http://www.loireforez.com\nSite web (URL) : https://loire.live/BilletterieLoire-Forez\n\n\n\n	Similaire
URL:https://crocoule.org/notre-evenement/initiation-a-la-peche-2/
LOCATION:Usson-en-Forez
END:VEVENT
BEGIN:VEVENT
DTSTART;TZID=Europe/Paris:20230713T140000
DTEND;TZID=Europe/Paris:20230713T163000
DTSTAMP:20260421T135538
CREATED:20230512T140638Z
LAST-MODIFIED:20230627T134805Z
UID:10001300-1689256800-1689265800@crocoule.org
SUMMARY:INITIATION À LA PÊCHE
DESCRIPTION:INITIATION À LA PÊCHE\nPendant les enfants\, faite une initiation à la pêche ! \nVenez vous initier à la pêche en famille et découvrir la pêche au coup. Une canne\, un fil et un flotteur … Idéal pour débuter et découvrir les joies de la pêche en famille. Activité encadrée par des professionnels de la pêche. Réservation obligatoire. \nLa pêche \nTout d’abord\, la pêche est une activité millénaire qui fascine les Hommes depuis des générations. En effet\, que ce soit en eau douce ou en mer\, la pêche offre une opportunité unique de se connecter à la nature et de se plonger dans un environnement paisible. Armé d’une canne à pêche et d’une patience infinie\, le pêcheur recherche l’excitation d’une prise. Mais trouve également la tranquillité dans le rythme apaisant de lancer et de ramener sa ligne. \nLa pêche est bien plus qu’un simple loisir\, c’est un art qui demande de la connaissance\, de la technique et un profond respect pour l’équilibre fragile des écosystèmes aquatiques. C’est un moyen de s’évader du tumulte de la vie quotidienne\, de se reconnecter à soi-même et de savourer l’instant présent. Que l’on pratique la pêche sportive ou la pêche traditionnelle\, c’est une activité qui unit les passionnés\, transmettant des valeurs de patience\, de persévérance et de respect de la nature. \nLocalisation \n\nLocation : Plan d’eau\nMunicipality : Usson-en-Forez\n\n\nContact\n\nTéléphone : 04 77 96 08 69\nMél : contact@loireforez.com\nSite web (URL) : http://www.loireforez.com\nSite web (URL) : https://loire.live/BilletterieLoire-Forez\n\n\n\n	Similaire
URL:https://crocoule.org/notre-evenement/initiation-a-la-peche/
LOCATION:Usson-en-Forez
CATEGORIES:En famille
END:VEVENT
BEGIN:VEVENT
DTSTART;TZID=Europe/Paris:20230603T093000
DTEND;TZID=Europe/Paris:20230604T173000
DTSTAMP:20260421T135538
CREATED:20230512T075922Z
LAST-MODIFIED:20230512T075922Z
UID:10001265-1685784600-1685899800@crocoule.org
SUMMARY:Fête de l'écotourisme
DESCRIPTION:Fête de l’écotourisme\nLe Village d’Usson-en-Forez présente la fête de l’écotourisme.  \nVenez découvrir le patrimoine et la nature avec les Randoland®\, la course d’orientation\, les Rendez-vous aux jardins de l’écomusée avec atelier le dimanche. Le grand marché estival dans les rues d’Usson en Forez avec producteurs locaux\, vente de fleurs .. \n\nDescription\nSamedi 3 juin :\n– Parcours d’orientation\, rando-land\, coloriages … au Bureau d’information touristique. \nDimanche 4 juin :\n– Grand Marché le matin dans les rues d’Usson-en-Forez (producteurs locaux\, vente de légumes\, ventes de fleurs\, fromages\, pains …)\n– Rendez-vous aux jardins à l’Ecomusée des Monts du Forez et atelier sur les plantes l’après midi à 14h30. \nProfitez-en pour découvrir les sites alentours : le Moulin de Vignal à Apinac\, Le Musée du XXème à Estivareilles ou encore la Grange aux Abeilles. \nTarifs\nRandoland® : 2€\nCarte course orientation : 2€\nInitiation à la sarbacane et combat d’arc : 3\,50€. \nPériode d’ouverture\nDu samedi 3 au dimanche 4 juin 2023 de 9h30 à 17h30. \n\nInformations\n\nFête de l’écotourisme\nBureau d’information touristique\, Ecomusée et plan d’eau\nCentre village\n42550 Usson-en-Forez\n04 77 96 08 69\n\n\nC’est quoi l’éco tourisme ? \nL’écotourisme\, également connu sous le nom de tourisme durable\, est une forme de tourisme qui met l’accent sur la préservation de l’environnement et sur le soutien des communautés locales. Il vise à minimiser l’impact négatif du tourisme sur les écosystèmes naturels et culturels\, tout en favorisant des expériences enrichissantes pour les voyageurs. \n\n\n	Similaire
URL:https://crocoule.org/notre-evenement/fete-de-lecotourisme/
LOCATION:Usson-en-Forez
CATEGORIES:02 ans +,Activité du week-end
END:VEVENT
END:VCALENDAR