BEGIN:VCALENDAR
VERSION:2.0
PRODID:-//Crocoule - ECPv6.15.15//NONSGML v1.0//EN
CALSCALE:GREGORIAN
METHOD:PUBLISH
X-WR-CALNAME:Crocoule
X-ORIGINAL-URL:https://crocoule.org
X-WR-CALDESC:Évènements pour Crocoule
REFRESH-INTERVAL;VALUE=DURATION:PT1H
X-Robots-Tag:noindex
X-PUBLISHED-TTL:PT1H
BEGIN:VTIMEZONE
TZID:Europe/Paris
BEGIN:DAYLIGHT
TZOFFSETFROM:+0100
TZOFFSETTO:+0200
TZNAME:CEST
DTSTART:20220327T010000
END:DAYLIGHT
BEGIN:STANDARD
TZOFFSETFROM:+0200
TZOFFSETTO:+0100
TZNAME:CET
DTSTART:20221030T010000
END:STANDARD
BEGIN:DAYLIGHT
TZOFFSETFROM:+0100
TZOFFSETTO:+0200
TZNAME:CEST
DTSTART:20230326T010000
END:DAYLIGHT
BEGIN:STANDARD
TZOFFSETFROM:+0200
TZOFFSETTO:+0100
TZNAME:CET
DTSTART:20231029T010000
END:STANDARD
BEGIN:DAYLIGHT
TZOFFSETFROM:+0100
TZOFFSETTO:+0200
TZNAME:CEST
DTSTART:20240331T010000
END:DAYLIGHT
BEGIN:STANDARD
TZOFFSETFROM:+0200
TZOFFSETTO:+0100
TZNAME:CET
DTSTART:20241027T010000
END:STANDARD
END:VTIMEZONE
BEGIN:VEVENT
DTSTART;TZID=Europe/Paris:20230711T203000
DTEND;TZID=Europe/Paris:20230711T220000
DTSTAMP:20260420T041153
CREATED:20230629T125140Z
LAST-MODIFIED:20230629T125140Z
UID:10001797-1689107400-1689112800@crocoule.org
SUMMARY:VISITE GUIDÉE CONTÉE
DESCRIPTION:// VISITE GUIDÉE CONTÉE // CONTES EN SCÈNE\nLe théâtre du Puy-en-Velay vous invite à une visite guidée contée dès 8 ans. \nPar Florence Pays\, conteuse \nLa journée se termine\, une artiste oubliée se réveille et révèle l’histoire des lieux. Elle vous conduit des dédales de la scène au salon fumoir\, en passant par la boite à sel… \nRendez-vous Théâtre du Puy-en-Velay \nThéâtre du Puy-En-Velay\, Place du Breuil\, Le Puy-en-Velay\, France \nINSCRIPTION   \nLes territoires de l’agglomération du Puy-en-Velay vous dévoilent leurs saisons culturelles. Théâtre\, concerts\, humour sont au rendez-vous toute l’année pour profiter de belles émotions et de belles soirées en Velay.\nLa Communauté d’agglomération du Puy-en-Velay et ses différentes communes proposent diverses saisons culturelles toute l’année. La saison culturelle Spectacles en Velay accueille de très grands artistes au sein du Théâtre du Puy-en-Velay ainsi que le Palais des Spectacles. \nMais ce n’est pas tout ! De nombreuses communes proposent également à leur public des pièces de théâtre\, des concerts et des animations dans leurs centres culturels ! C’est le cas par exemple de Blavozy\, Saint-Germain-Laprade\, Saint-Paulien\, Vorey-sur-Arzon… \nSans oublier la saison culturelle de La Chaise-Dieu qui compte chaque année des spectacles variés \n\n\n	Similaire
URL:https://crocoule.org/notre-evenement/visite-guidee-contee/
LOCATION:Théâtre du Puy-en-Velay\, Place du Breuil\, Le Puy-en-Velay
CATEGORIES:08 ans +
END:VEVENT
END:VCALENDAR