BEGIN:VCALENDAR
VERSION:2.0
PRODID:-//Crocoule - ECPv6.15.15//NONSGML v1.0//EN
CALSCALE:GREGORIAN
METHOD:PUBLISH
X-WR-CALNAME:Crocoule
X-ORIGINAL-URL:https://crocoule.org
X-WR-CALDESC:Évènements pour Crocoule
REFRESH-INTERVAL;VALUE=DURATION:PT1H
X-Robots-Tag:noindex
X-PUBLISHED-TTL:PT1H
BEGIN:VTIMEZONE
TZID:Europe/Paris
BEGIN:DAYLIGHT
TZOFFSETFROM:+0100
TZOFFSETTO:+0200
TZNAME:CEST
DTSTART:20220327T010000
END:DAYLIGHT
BEGIN:STANDARD
TZOFFSETFROM:+0200
TZOFFSETTO:+0100
TZNAME:CET
DTSTART:20221030T010000
END:STANDARD
BEGIN:DAYLIGHT
TZOFFSETFROM:+0100
TZOFFSETTO:+0200
TZNAME:CEST
DTSTART:20230326T010000
END:DAYLIGHT
BEGIN:STANDARD
TZOFFSETFROM:+0200
TZOFFSETTO:+0100
TZNAME:CET
DTSTART:20231029T010000
END:STANDARD
BEGIN:DAYLIGHT
TZOFFSETFROM:+0100
TZOFFSETTO:+0200
TZNAME:CEST
DTSTART:20240331T010000
END:DAYLIGHT
BEGIN:STANDARD
TZOFFSETFROM:+0200
TZOFFSETTO:+0100
TZNAME:CET
DTSTART:20241027T010000
END:STANDARD
BEGIN:DAYLIGHT
TZOFFSETFROM:+0100
TZOFFSETTO:+0200
TZNAME:CEST
DTSTART:20250330T010000
END:DAYLIGHT
BEGIN:STANDARD
TZOFFSETFROM:+0200
TZOFFSETTO:+0100
TZNAME:CET
DTSTART:20251026T010000
END:STANDARD
END:VTIMEZONE
BEGIN:VEVENT
DTSTART;TZID=Europe/Paris:20241018T203000
DTEND;TZID=Europe/Paris:20241018T220000
DTSTAMP:20260421T054803
CREATED:20240814T114852Z
LAST-MODIFIED:20240923T203239Z
UID:10008411-1729283400-1729288800@crocoule.org
SUMMARY:Scarlett et Novak - Cie Vladimit Steyaert / Théâtre - Arts numériques
DESCRIPTION:Scarlett et Novak – Cie Vladimit Steyaert / Théâtre – Arts numériques\nQue vous resterait-il si votre smartphone disparaissait ? Que vous resterait-il si votre smartphone disparaissait ? Toute sa vie est là-dedans. Novak court. Il est poursuivi par deux hommes qui veulent lui voler son téléphone. Son précieux téléphone abrite Scarlett\, une Intelligence Artificielle qui sait tout de sa vie. Elle connaît ses moindres secrets\, elle répond à chacune de ses demandes. Mais les deux assaillants le rattrapent et lui volent le téléphone. Exit Scarlett. Le voilà seul\, désemparé\, complètement perdu… Aidé d’une jeune hackeuse\, Novak va découvrir qu’il existe d’autres réalités en dehors des écrans. La nouvelle création de Vladimir Steyaert adapte le texte percutant d’Alain Damasio\, qui met en scène la dépendance d’un adolescent au monde numérique. Ce spectacle parle de notre relation aux nouvelles technologies et nous renvoie à notre quotidien tout en nous alertant avec force. Mais au-delà de l’aliénation numérique\, ce conte d’aujourd’hui nous invite surtout à interroger nos désirs d’avenirs. “Scarlett et Novak est une pièce poignante qui vous fera revoir votre rapport aux nouvelles technologies” Théâtre Magazine \nDès 12 ans – 5 euros\nSi ton regard se pose sur ces mots c’est que toi aussi tu fais partie de la Haute Congrégation des Super Parents (HCSP : rien que ça !  ????) investis en quête d’idées de sorties familiales dans la Loire et la Haute-Loire pour son/ses bambin(s) ! \nTu ne me crois pas ? Si si\, promis Bienvenue et toutes mes Félicitations ! Tu es sur la bonne page … Et je vais te le prouver ! Tu es prêt ? Allez\, viens je t’emmène au fil des pages du Crocoule ! \nTout d’abord\, Le Crocoule Magazine c’est quoi ? Le Crocoule\, papier ou web\, c’est LE magazine qui porte en lui la douceur et la bienveillance dont tu as besoin en tant que parent et qui facilite tes recherches d’activités loisirs\, culturelles\, nature pour tous les budgets et tous les goûts ! Et ça c’est une promesse ? Tu veux en savoir +\, suis moi par ici ! \nEt ce n’est pas tout … Si tu as soif d’aventure Le Crocoule Express est fait pour toi !\n  \n  \n\n\n	Similaire
URL:https://crocoule.org/notre-evenement/scarlett-et-novak-cie-vladimit-steyaert-theatre-arts-numeriques/
LOCATION:Théâtre des Pénitents – Montbrison\, 4 Pl. des Pénitents\, Montbrison\, 42600
CATEGORIES:12 ans +,Activité du week-end,Intérieur,Tous les événements
END:VEVENT
BEGIN:VEVENT
DTSTART;TZID=Europe/Paris:20240920T203000
DTEND;TZID=Europe/Paris:20240920T233000
DTSTAMP:20260421T054803
CREATED:20240814T114214Z
LAST-MODIFIED:20240923T193951Z
UID:10008410-1726864200-1726875000@crocoule.org
SUMMARY:Undergroud - Cie suprême Legacy / Breakdance
DESCRIPTION:Undergroud – Cie suprême Legacy / Breakdance\nBienvenue dans l’univers du breaking ! Apparu dans les quartiers du Bronx à New-York dans les 70’s\, le breaking est l’un des piliers de la culture hip-hop. Au fil du temps\, cette danse a su se développer\, voyager et s’inspirer pour forger sa propre identité. Cette année\, elle devient\, pour la première fois de son histoire\, discipline olympique. Plongez\, avec Underground\, au cœur de la culture urbaine. Sur scène\, cinq danseurs athlètes de générations différentes\, dévoilent des corps modelés\, abîmés et des mouvements qu’ils ont façonnés dans leur discipline. Cette dernière est rythmée par les entraînements intensifs\, entre expression artistique et performance sportive\, où les sacrifices sont nombreux pour atteindre le plus haut niveau. De l’individu au groupe\, ces identités racontent leur histoire\, incarnent leurs confrontations mais aussi leur communion. À travers ce spectacle\, Mickaël Pecaud et ses danseurs\, figures du breaking français\, retranscrivent ces émotions et abordent le thème de l’héritage et de la passion. Immersion et intensité au rendez-vous. “Underground est une ode à la pratique qui appelle le meilleur de soi” La Montagne \nDès 8 ans – 5 euro\nSi ton regard se pose sur ces mots c’est que toi aussi tu fais partie de la Haute Congrégation des Super Parents (HCSP : rien que ça !  ????) investis en quête d’idées de sorties familiales dans la Loire et la Haute-Loire pour son/ses bambin(s) ! \nTu ne me crois pas ? Si si\, promis Bienvenue et toutes mes Félicitations ! Tu es sur la bonne page … Et je vais te le prouver ! Tu es prêt ? Allez\, viens je t’emmène au fil des pages du Crocoule ! \nTout d’abord\, Le Crocoule Magazine c’est quoi ? Le Crocoule\, papier ou web\, c’est LE magazine qui porte en lui la douceur et la bienveillance dont tu as besoin en tant que parent et qui facilite tes recherches d’activités loisirs\, culturelles\, nature pour tous les budgets et tous les goûts ! Et ça c’est une promesse ? Tu veux en savoir +\, suis moi par ici ! \nEt ce n’est pas tout … Si tu as soif d’aventure Le Crocoule Express est fait pour toi !\n  \n  \n\n\n	Similaire
URL:https://crocoule.org/notre-evenement/undergroud-cie-supreme-legacy-breakdance/
LOCATION:Théâtre des Pénitents – Montbrison\, 4 Pl. des Pénitents\, Montbrison\, 42600
CATEGORIES:08 ans +,Activité du week-end,Intérieur,Tous les événements
END:VEVENT
BEGIN:VEVENT
DTSTART;TZID=Europe/Paris:20240410T203000
DTEND;TZID=Europe/Paris:20240410T203000
DTSTAMP:20260421T054803
CREATED:20240314T225017Z
LAST-MODIFIED:20240416T171004Z
UID:10004538-1712781000-1712781000@crocoule.org
SUMMARY:L'infâme
DESCRIPTION:L’infâme\nL’Infâme est une pièce d’émancipation. Elle débute dans la honte de soi et s’achève avec la victoire d’une guerrière\, ferme dans la volonté de se construire un avenir. Entre les deux\, des histoires de brodeuses\, de couturières\, des histoires de fils noués et de fils coupés. L’Infâme est une histoire de liens\, ceux qui nous brisent et ceux dont on se libère. \nTana débute une formation en couture. Elle a quitté le domicile maternel\, fuyant une mère qui la rendait malade. Avec l’aide de sa patronne et de son amie Apolline Tana va quitter les terreurs de l’enfance pour affronter sa vie\, affronter sa mère. \n \nSi ton regard se pose sur ces mots c’est que toi aussi tu fais partie de la Haute Congrégation des Super Parents (HCSP : rien que ça !  ????) investis en quête d’idées de sorties familiales dans la Loire et la Haute-Loire pour son/ses bambin(s) ! \nTu ne me crois pas ? Si si\, promis Bienvenue et toutes mes Félicitations ! Tu es sur la bonne page … Et je vais te le prouver ! Tu es prêt ? Allez\, viens je t’emmène au fil des pages du Crocoule ! \nTout d’abord\, Le Crocoule Magazine c’est quoi ? Le Crocoule\, papier ou web\, c’est LE magazine qui porte en lui la douceur et la bienveillance dont tu as besoin en tant que parent et qui facilite tes recherches d’activités loisirs\, culturelles\, nature pour tous les budgets et tous les goûts ! Et ça c’est une promesse ? Tu veux en savoir +\, suis moi par ici ! \nAgenda / Sorties en famille / Loire / Haute-Loire \nIci\, c’est l’agenda web Crocoule\, sur lequel tu peux retrouver idées de sorties\, ateliers\, festivals\, salons\, randonnées\, expositions et autres pépites en intérieur ou en extérieur ! C’est le genre de mine d’or pour les orpailleurs que vous êtes ou LE SUPER guide des parents à court d’idées ! Pour toujours + de sorties familiales\, d’aventures culturelles & de nature dans la Loire\, la Haute-Loire\, le Mezenc\, le Pilat … \nL’équipe du Crocoule prend plaisir à vous dénicher de chouettes instants de vie à partager en famille et s’engage à recenser et à lister pour vous toutes les pépites d’activités de nos si belles régions ! \nAttends un peu\, le Crocoule te réserve bien d’autres surprises … \nLe Crocoule Express !\nDans la rubrique événements\, tu découvriras la version ligérienne du Pékin Express avec le Crocoule Express tant apprécié de nos supers parents lecteurs ! Il s’agit d’une découverte en voiture à sillonner plusieurs endroits dûment sélectionnés rien que pour vous ! Petits & grands partez à la découverte de la Loire\, le Pays du roannais et tout bientôt du Pilat à travers différentes étapes et énigmes à résoudre pour accéder\, grâce à l’emblématique enveloppe\, au lieu suivant ! \nRigolade\, moments de partage et moments épiques assurés en famille ou entre amis ! \nNe manquez pas la programmation juste ici & ici ! \nLe Crocoule Day !\nLe Crocoule Day saura vous ravir également puisqu’il est l’occasion de partenariats avec des associations\, créateurs ou encore offices de tourisme\, pour mettre à l’honneur les trésors de notre région et vous proposer toujours plus de découvertes d’activités ou d’ateliers tout près de chez vous ! Ne manquez pas la programmation juste ici  & ici ! \nBlog / Pépites / Mise à l’honneur / Collab …\nLe Blog Crocoule\, c’est l’endroit où l’on vous présente en détails nos pépites\, nos tests d’activités pour vous en donner un visuel le plus honnête et fiable ! C’est ici où l’on met à l’honneur nos partenaires et où l’on vous transmet notre passion du partage ! N’hésitez pas à aller y faire un tour et à laisser vos retours et vos envies ???? On met du coeur à l’ouvrage et on adore vous lire ! \nLe magazine\nLe Crocoule magazine existe en dématerialisé ici mais aussi et surtout en format papier que vous pouvez retrouver dans + de 450 points de distributions à travers la Loire\, la Haute-Loire\, l’Ondaine\, Loire-Forez et le Pilat … Venez découvrir nos points de distribution juste ici (rubrique « où le trouver ») De quoi le dénicher non loin de chez vous … Et si on vous disait que vous pourriez le recevoir directement dans votre boite aux lettres\, ça vous dirait ? Et bien\, surprise ! C’est possible : ça vous tente ? Rendez vous juste ici pour le recevoir ! \nPour les curieux\, (non non ce n’est plus un vilain défaut !) une liste des 52 couvertures du magasine sont condensés juste ici (rubrique « les magasines ») ! Un grand merci à l’illustratrice : Carole Crouzet\, qui fait un travail de grande qualité pour vous régaler les yeux et vous faire rire le coeur ! \nEn bref\, tu l’auras compris\, ce magazine\, cet endroit\, c’est l’endroit qui se veut bienveillant\, ressourçant\, accompagnant dans cette grande aventure qu’est la parentalité ! Et merci d’être là pour le faire vivre et partager nos si belles missions ! \n  \n  \n\n\n	Similaire
URL:https://crocoule.org/notre-evenement/linfame/
LOCATION:Théâtre des Pénitents – Montbrison\, 4 Pl. des Pénitents\, Montbrison\, 42600
CATEGORIES:11 ans +,Activité en semaine,Intérieur,Tous les événements
END:VEVENT
BEGIN:VEVENT
DTSTART;TZID=Europe/Paris:20230118T203000
DTEND;TZID=Europe/Paris:20230118T220000
DTSTAMP:20260421T054803
CREATED:20221221T084043Z
LAST-MODIFIED:20221221T084043Z
UID:10000585-1674073800-1674079200@crocoule.org
SUMMARY:POLY'SONS : PELOUSE
DESCRIPTION:Pelouse dessine un pont entre le rock indépendant et la chanson contemporaine. Dans le cadre d’un atelier\, les élèves de la Maîtrise de la Loire ont travaillé avec Pelouse\, et ils le rejoindront sur scène pour présenter le fruit de leur rencontre. \nTarifs de 5€ à 21€.  \nInscriptions : theatredespenitents.fr \n\n\n	Similaire
URL:https://crocoule.org/notre-evenement/polysons-pelouse/
LOCATION:Théâtre des Pénitents – Montbrison\, 4 Pl. des Pénitents\, Montbrison\, 42600
CATEGORIES:Activité en semaine,Tout public
END:VEVENT
END:VCALENDAR