BEGIN:VCALENDAR
VERSION:2.0
PRODID:-//Crocoule - ECPv6.15.15//NONSGML v1.0//EN
CALSCALE:GREGORIAN
METHOD:PUBLISH
X-WR-CALNAME:Crocoule
X-ORIGINAL-URL:https://crocoule.org
X-WR-CALDESC:Évènements pour Crocoule
REFRESH-INTERVAL;VALUE=DURATION:PT1H
X-Robots-Tag:noindex
X-PUBLISHED-TTL:PT1H
BEGIN:VTIMEZONE
TZID:Europe/Paris
BEGIN:DAYLIGHT
TZOFFSETFROM:+0100
TZOFFSETTO:+0200
TZNAME:CEST
DTSTART:20220327T010000
END:DAYLIGHT
BEGIN:STANDARD
TZOFFSETFROM:+0200
TZOFFSETTO:+0100
TZNAME:CET
DTSTART:20221030T010000
END:STANDARD
BEGIN:DAYLIGHT
TZOFFSETFROM:+0100
TZOFFSETTO:+0200
TZNAME:CEST
DTSTART:20230326T010000
END:DAYLIGHT
BEGIN:STANDARD
TZOFFSETFROM:+0200
TZOFFSETTO:+0100
TZNAME:CET
DTSTART:20231029T010000
END:STANDARD
BEGIN:DAYLIGHT
TZOFFSETFROM:+0100
TZOFFSETTO:+0200
TZNAME:CEST
DTSTART:20240331T010000
END:DAYLIGHT
BEGIN:STANDARD
TZOFFSETFROM:+0200
TZOFFSETTO:+0100
TZNAME:CET
DTSTART:20241027T010000
END:STANDARD
END:VTIMEZONE
BEGIN:VEVENT
DTSTART;TZID=Europe/Paris:20230715T143000
DTEND;TZID=Europe/Paris:20230715T143000
DTSTAMP:20260422T134449
CREATED:20230629T095915Z
LAST-MODIFIED:20230629T100258Z
UID:10001772-1689431400-1689431400@crocoule.org
SUMMARY:L'ODYSSÉE D'AÏGA...
DESCRIPTION:L’ODYSSÉE D’AÏGA…\nLa Compagnie La Sauvage vous propose un concept original : une tournée théâtrale à vélo ! ???? \nUn atelier d’initiation au théâtre jeune public dès 8 ans (inscriptions en Mairie) \nsuivi d’une représentation de leur spectacle « L’Odyssée d’Aïga » ???? \n???? Place du Chatiague – 43190 TENCE \n???? Samedi 15 juillet 2023 \n???? 14h30 : atelier théâtre ???? \n???? 18h00 : représentation « L’Odyssée d’Aïga » \nL’Histoire : \nAïga est dans la panade ! Elle\, minuscule molécule d’eau\, dormait tranquillement\, gelée sur son glacier. \nMais la chaleur est arrivée\, et avec elle la fonte… À travers le torrent\, la rivière puis le fleuve\, Aïga va faire de bien étranges rencontres. \nEt\, qui sait ? Peut-être rejoindre la mer ! \nL’Odyssée d’Aïga est l’histoire de notre lien à la nature\, de nos glaciers\, de nos torrents\, de nos rivières et de nos fleuves. \nC’est l’histoire d’une humanité récente qui perturbe l’équilibre ancestral du monde sauvage\, \nl’histoire de notre espèce qui prend conscience de son lien à la Terre et de sa responsabilité environnementale. \nC’est aussi l’histoire des liens qui se tissent lors d’une rencontre\, et de leur évolution durant le \ncheminement d’une vie. \nPour les petits comme pour les grands\, La Sauvage propose une fable écologique teintée de \npoésie et surtout… d’humour ! Les comédien.ne.s tourbillonnent avec joie et virtuosité\, \nembarquant ainsi les jeunes et moins jeunes dans notre histoire commune : celle d’un monde qui \ndisparaît et où\, pourtant\, survivent et se déploient des rires\, des luttes et des espoirs. \n\n\n	Similaire
URL:https://crocoule.org/notre-evenement/lodyssee-daiga/
LOCATION:Tence
CATEGORIES:04 ans +
END:VEVENT
END:VCALENDAR