BEGIN:VCALENDAR
VERSION:2.0
PRODID:-//Crocoule - ECPv6.15.15//NONSGML v1.0//EN
CALSCALE:GREGORIAN
METHOD:PUBLISH
X-WR-CALNAME:Crocoule
X-ORIGINAL-URL:https://crocoule.org
X-WR-CALDESC:Évènements pour Crocoule
REFRESH-INTERVAL;VALUE=DURATION:PT1H
X-Robots-Tag:noindex
X-PUBLISHED-TTL:PT1H
BEGIN:VTIMEZONE
TZID:Europe/Paris
BEGIN:DAYLIGHT
TZOFFSETFROM:+0100
TZOFFSETTO:+0200
TZNAME:CEST
DTSTART:20220327T010000
END:DAYLIGHT
BEGIN:STANDARD
TZOFFSETFROM:+0200
TZOFFSETTO:+0100
TZNAME:CET
DTSTART:20221030T010000
END:STANDARD
BEGIN:DAYLIGHT
TZOFFSETFROM:+0100
TZOFFSETTO:+0200
TZNAME:CEST
DTSTART:20230326T010000
END:DAYLIGHT
BEGIN:STANDARD
TZOFFSETFROM:+0200
TZOFFSETTO:+0100
TZNAME:CET
DTSTART:20231029T010000
END:STANDARD
BEGIN:DAYLIGHT
TZOFFSETFROM:+0100
TZOFFSETTO:+0200
TZNAME:CEST
DTSTART:20240331T010000
END:DAYLIGHT
BEGIN:STANDARD
TZOFFSETFROM:+0200
TZOFFSETTO:+0100
TZNAME:CET
DTSTART:20241027T010000
END:STANDARD
END:VTIMEZONE
BEGIN:VEVENT
DTSTART;VALUE=DATE:20231023
DTEND;VALUE=DATE:20231024
DTSTAMP:20260422T010452
CREATED:20230811T111752Z
LAST-MODIFIED:20230811T111752Z
UID:10002287-1698019200-1698105599@crocoule.org
SUMMARY:Ticket Loisirs
DESCRIPTION:Ticket Loisirs\nDécouvrez les ticket Loisirs ! \nPendant la période des vacances scolaires de la Toussaint des activités d’initiations sont proposées dans les commues des Sucs aux Bords de Loire (ex : poney\, baby-poney\, tennis trampoline\, ect) \n\n\n\n\nMode de règlement : \n\n\n– Chèque bancaire à l’ordre du Trésor Public – Espèces\n– Chèques vacances \nPas de Carte Bleue \nConditions pour les ticket loisirs :\n\n\n\n\n– 2 inscriptions maxi/activité/enfant/an\n– Adhésion annuelle de 4€ pour hors CCDS (à présenterà chaque inscription suivante)\n– Fournir une attestation de responsabilité civile en format numérique à contact@ot-des-sucs.fr.\n– Pas de remboursement des tickets sauf raison de santé (fournir un certificat médical). Ou annulation Communauté de Communes des Sucs (CCDS)\n– La CCDS se réserve le droit d’annuler l’activité s’il n’y a pas 4 inscrits (Les annulations par manque d’effectif se feront au plus tard la veille de l’activité)\n– Le remboursement aux familles sera effectué sur présentation d’un RIB dans les 2 semaines à compter de la date d’annulation.\nPour faciliter l’accueil des enfants en situation de handicap vous pouvez prendre contact avec le dispositif DAHLIR* : 04 43 07 36 46 *Dispositif d’Accompagnement du Handicap vers des Loisirs Intégrés et Réguliers \n\n\n\n\nSÉANCES de DÉCOUVERTE : SPORT – CULTURE – PATRIMOINE – JEUX… Pour les 3 à 15 ans organisées par la Communauté de Communes des Sucs en partenariat avec les associations du territoire. \n\n\n\n\nInscriptions et renseignements :\nOffice de Tourisme des Sucs aux Bords de Loire à Yssingeaux : 04 71 59 10 76 \nRetournac : 04 71 65 20 50 \nMairie de Lapte : 0471593745\nMairie de St Maurice de Lignon : 04 71 65 31 32 \n\n\n\n\n\n\n\n\n\n\n\n\n\n\n	Similaire
URL:https://crocoule.org/notre-evenement/ticket-loisirs/
LOCATION:Sucs aux bords de Loire
CATEGORIES:02 ans +
END:VEVENT
END:VCALENDAR