BEGIN:VCALENDAR
VERSION:2.0
PRODID:-//Crocoule - ECPv6.15.15//NONSGML v1.0//EN
CALSCALE:GREGORIAN
METHOD:PUBLISH
X-WR-CALNAME:Crocoule
X-ORIGINAL-URL:https://crocoule.org
X-WR-CALDESC:Évènements pour Crocoule
REFRESH-INTERVAL;VALUE=DURATION:PT1H
X-Robots-Tag:noindex
X-PUBLISHED-TTL:PT1H
BEGIN:VTIMEZONE
TZID:Europe/Paris
BEGIN:DAYLIGHT
TZOFFSETFROM:+0100
TZOFFSETTO:+0200
TZNAME:CEST
DTSTART:20210328T010000
END:DAYLIGHT
BEGIN:STANDARD
TZOFFSETFROM:+0200
TZOFFSETTO:+0100
TZNAME:CET
DTSTART:20211031T010000
END:STANDARD
BEGIN:DAYLIGHT
TZOFFSETFROM:+0100
TZOFFSETTO:+0200
TZNAME:CEST
DTSTART:20220327T010000
END:DAYLIGHT
BEGIN:STANDARD
TZOFFSETFROM:+0200
TZOFFSETTO:+0100
TZNAME:CET
DTSTART:20221030T010000
END:STANDARD
BEGIN:DAYLIGHT
TZOFFSETFROM:+0100
TZOFFSETTO:+0200
TZNAME:CEST
DTSTART:20230326T010000
END:DAYLIGHT
BEGIN:STANDARD
TZOFFSETFROM:+0200
TZOFFSETTO:+0100
TZNAME:CET
DTSTART:20231029T010000
END:STANDARD
BEGIN:DAYLIGHT
TZOFFSETFROM:+0100
TZOFFSETTO:+0200
TZNAME:CEST
DTSTART:20240331T010000
END:DAYLIGHT
BEGIN:STANDARD
TZOFFSETFROM:+0200
TZOFFSETTO:+0100
TZNAME:CET
DTSTART:20241027T010000
END:STANDARD
END:VTIMEZONE
BEGIN:VEVENT
DTSTART;TZID=Europe/Paris:20230708T070000
DTEND;TZID=Europe/Paris:20230709T200000
DTSTAMP:20260420T192343
CREATED:20230512T115846Z
LAST-MODIFIED:20230512T115846Z
UID:10001281-1688799600-1688932800@crocoule.org
SUMMARY:BIKE AND FOURME FESTIVAL
DESCRIPTION:BIKE AND FOURME FESTIVAL\nBike and fourme festival est un week-end 100% festif\, gourmand et sportif ! En effet\, profitez de randos VTT Concerts gratuits Trottinette électrique\, tir à l’arc\, mini-golf\, cerf-volant\, pétanque\, championnat de barbecue\, marché de produits locaux\, randonnées…\n\nTout d’abord\, le samedi 8 juillet est dédié au vélo pour tous niveaux : rando VTT de 20 à 65 km à partir du sommet. Le télésiège est gratuit pour tous les concurrents inscrits. En effet\, découvrez sur nos stands les nouveaux VTT électriques et tous les accessoires 2023. Notamment\, la course de draisienne pour les enfants\, atelier de réparation\, tests et prêts de vélos.\n\nEnsuite\, le dimanche 9 juillet\, place aux randonneurs et aux parcours sportifs et ludiques. Le télésiège est gratuit pour tous les participants qui viennent s’inscrire aux marches et randonnées\, y compris à la dernière minute. En effet\, les animations toute la journée pour les enfants : jeux gonflables\, trampoline\, draisienne\, grimpe d’arbre. Cependant\, et pour tous\, une olympiade d’activités et de jeux de 10h à 18h : tir à l’arc\, pétanque\, cerf volant\, trottinette électrique\, VTT…\n\nConcerts \n\n13 concerts gratuits :\n\nSamedi 8 juillet à partir de 18h\, vous aurez le choix entre la grande scène et la petite scène. JOUBe – Technobrass – Human Pattern – Babylon Circus – JJ Lova – Bagarre – Cactus & Mammuth L’affiche est urbaine\, rap\, rock et électro. Pour les noctambules\, un camping gratuit avec gardiennage est proposé à ceux qui veulent passer la nuit sur place.\nDimanche 9 juillet\, le show continue sur les deux scènes. 3 concerts gratuits pour tout public à partir de 17h. L’ambiance est familiale\, amicale et humoristique. La programmation : variété\, intimiste\, rock et chanson française. Chez Remômes – R.Can – Vanille – Broken Back – Lou Muguet – Oldelaf Fourme et circuits courts Tout le week-end\, c’est le Syndicat de la Fourme de Montbrison AOP qui mène le bal ! Samedi 8 juillet\, ouverture des stands et buvettes à midi. Le championnat du monde de la Loire de barbecue démarre à 13h30. Finale à 17h. Inscription obligatoire et… dégustation gratuite.\nDimanche 9 juillet\, grande fête de la fourme. Un pique-nique géant est proposé à tous les participants. Chacun peut venir avec ses victuailles\, acheter sur place auprès des producteurs (stands) ou réserver un panier repas en ligne. Les buvettes et le restaurant des Épilobes sont ouverts jusqu’à 22h.\n\n\nUne navette gratuite vous permet de rejoindre le village. Elle fonctionne de 11h à 20h en continue. Faites signe au chauffeur\, s’il y a de la place il s’arrêtera pour vous amener au pied des pistes ou au bourg de Chalmazel selon son sens de circulation.\n\n\n	Similaire
URL:https://crocoule.org/notre-evenement/bike-and-fourme-festival/
LOCATION:Station Chalmazel
CATEGORIES:Activité du week-end,Tout public
END:VEVENT
BEGIN:VEVENT
DTSTART;TZID=Europe/Paris:20230624T093000
DTEND;TZID=Europe/Paris:20230624T173000
DTSTAMP:20260420T192343
CREATED:20230519T125541Z
LAST-MODIFIED:20230519T125541Z
UID:10001450-1687599000-1687627800@crocoule.org
SUMMARY:ASSE LOIRE KIDS TOUR
DESCRIPTION:ASSE LOIRE KIDS TOUR\nAsse Loire Kids Tour débarque à Commelle Vernay ! \nChaque année\, l’ASSE Loire Kids’Tour fait étape dans des communes ligériennes. Et propose\, aux enfants de 4 à 12 ans\, des jeux\, activités sportives et de nombreuses animations sur une aire de près de 2 000 m². \nEn effet\, le tout gratuitement et en présence de Pantéo. La célèbre mascotte des Verts. Ces rendez-vous ont pour but de promouvoir la pratique du sport auprès des plus jeunes et pour l’ASSE\, d’aller à la rencontre de ses jeunes supporters à travers le Département. \nASSE KIDS C’EST QUOI ?\n\n\nTout d’abord\, L’ASSE Kids’ Club est un club d’animation créé par l’AS Saint-Étienne. En effet\, son but est de faire vivre des moments magiques et exceptionnels aux enfants supporters des Verts ! \nDes actualités\, des jeux et concours sont proposés sur le site internet tout au long de la saison. Dans le but de divertir les enfants tout en restant pédagogique. \nÀ ça s’ajoute de nombreux événements privés\, réservés aux seuls enfants membres de l’ASSE Kids’ Club\, qui sont organisés pour faire rêver les enfants. Notamment\, des expérience match avec Pantéo\, entrée avec les joueurs sur le terrain\, visite du musée avec les Kids\, chasse aux œufs de Pâques au centre d’entrainement et bien d’autres. \nEnfin\, Le Kids’Club propose un site internet : \n\n100 % sécurisé\nqui propose des contenus adaptés à vos enfants\nqui respecte les informations personnelles de vos enfants et ne les dévoile pas\n\nPlus qu’un site communautaire\, l’ASSE Kids’ Club s’engage à développer des valeurs qui lui sont chères : respect\, partage\, éducation\, citoyenneté etc… \nLe Kids’ Club désire\, via le football\, guider ses membres dans la vie en communauté. Par ses actions le Kids’ Club entend faire de ses membres de jeunes citoyens actifs et concernés. \nLe sport\, et le football en particulier\, se doit de donner l’exemple à ses plus jeunes supporters. Au sein du Kids’ Club et d’un point de vue football\, la notion de respect de l’autre\, de l’adversaire et du corps arbitral est fondamentale. \n\n\n\n\n	Similaire
URL:https://crocoule.org/notre-evenement/asse-loire-kids-tour-5/
LOCATION:Station Chalmazel
CATEGORIES:Activité du week-end
END:VEVENT
BEGIN:VEVENT
DTSTART;TZID=Europe/Paris:20230302T170000
DTEND;TZID=Europe/Paris:20230302T170000
DTSTAMP:20260420T192343
CREATED:20230221T084453Z
LAST-MODIFIED:20230221T084453Z
UID:10000874-1677776400-1677776400@crocoule.org
SUMMARY:DESCENTE AUX FLAMBEAUX
DESCRIPTION:DESCENTE AUX FLAMBEAUX \nDescente aux flambeaux organisée par l’école de ski français précédée d’un vin chaud au bar/restaurant les Epilobes. Les enfants doivent être accompagnés d’un adulte. \nChaussez vos botes\, mettez bien vos gants\, écharpe\, bonnet et anorak\, et venez découvrir la montagne autrement\, ce jeudi soir à Chalmazel. Équipé d’un flambeau\, arpentez les sentiers recouverts de neige\, le temps d’une balade à la nuit tombée. À faire en famille ou entre amis\, pour un excellent début de soirée d’hiver. Réservation sur place. Un rendez-vous ouvert à tous. \n\nContact\n\nTéléphone : 06 78 70 16 35\nMél : esf.chalmazel@gmail.com\nPage facebook : https://www.facebook.com/esfchalmazel/\nSite web (URL) : https://esf.chalmazel.net/\n\n\nTarif(s)\n\nTarif unique : 5 € (le flambeau).\nRéservation\n\nEcole de ski français\nTéléphone : 06 78 70 16 35\nMél : esf.chalmazel@gmail.com\nPage facebook : https://www.facebook.com/esfchalmazel/\n\n\n\nSTATION CHALMAZEL\nCulminant à plus de 1600 mètres d’altitude\, la station de Chalmazel vous offre une gamme d’activités de pleine nature hiver comme été. En famille ou entre amis\, venez prendre un bol d’air frais dans les monts du Forez ! \nA 1 640 m d’altitude\, la station de ski de Chalmazel vous accueille l’hiver\, de décembre à fin mars. En famille ou entre amis\, venez prendre un bol d’air frais. Ski\, luge\, raquettes… des activités pour tous et de bons moments en perspectives ! \nL’unique station de ski de la Loire (1100m-1640 m) est située dans le Haut Forez\, à une heure de Saint-Etienne et de Roanne\, à 1/2 heure de Montbrison et de Feurs. Depuis 2003\, le Conseil général\, propriétaire des installations en a repris l’exploitation. La station connaît alors de grands changements (ouverture d’un espace spécialement dédié aux débutants\, concrétisation de plusieurs projets immobiliers dès l’automne 2006\, efforts importants de communication…). \nAvec ses 15 pistes de ski totalisant 12 kilomètres (ou 40 hectares pour les puristes)\, et ses 8 remontées mécaniques (dont 1 télésiège)\, le domaine skiable de Chalmazel s’échelonne entre 1130 et 1634 mètres d’altitude. \n  \n  \n\n\n\n\n	Similaire
URL:https://crocoule.org/notre-evenement/descente-aux-flambeaux/
LOCATION:Station Chalmazel
END:VEVENT
BEGIN:VEVENT
DTSTART;VALUE=DATE:20221203
DTEND;VALUE=DATE:20230327
DTSTAMP:20260420T192343
CREATED:20221128T100355Z
LAST-MODIFIED:20221128T100359Z
UID:10000480-1670025600-1679875199@crocoule.org
SUMMARY:SAISON HIVER 2022-2023
DESCRIPTION:La station de Chalmazel ouvre son domaine skiable du samedi 3 décembre 2022 au dimanche 26 mars 2023\, sous réserve des conditions d’enneigement. Profitez de nombreuses activités cet hiver : ski de piste\, snowboard\, luge\,raquettes… Cours enfants et adultes avec l’Ecole de ski français (ESF). Forfait journée : 24 € adultes\, 15 € jeunes et étudiants (5-17 ans). Sur place : location de matériel\, restauration aux Épilobes. Infos sur loire-chalmazel.fr ou sur la page FB @stationchalmazel- : loire-chalmazel.fr \n\n\n	Similaire
URL:https://crocoule.org/notre-evenement/saison-hiver-2022-2023/
LOCATION:Station Chalmazel
END:VEVENT
END:VCALENDAR