BEGIN:VCALENDAR
VERSION:2.0
PRODID:-//Crocoule - ECPv6.15.15//NONSGML v1.0//EN
CALSCALE:GREGORIAN
METHOD:PUBLISH
X-ORIGINAL-URL:https://crocoule.org
X-WR-CALDESC:Évènements pour Crocoule
REFRESH-INTERVAL;VALUE=DURATION:PT1H
X-Robots-Tag:noindex
X-PUBLISHED-TTL:PT1H
BEGIN:VTIMEZONE
TZID:Europe/Paris
BEGIN:DAYLIGHT
TZOFFSETFROM:+0100
TZOFFSETTO:+0200
TZNAME:CEST
DTSTART:20220327T010000
END:DAYLIGHT
BEGIN:STANDARD
TZOFFSETFROM:+0200
TZOFFSETTO:+0100
TZNAME:CET
DTSTART:20221030T010000
END:STANDARD
BEGIN:DAYLIGHT
TZOFFSETFROM:+0100
TZOFFSETTO:+0200
TZNAME:CEST
DTSTART:20230326T010000
END:DAYLIGHT
BEGIN:STANDARD
TZOFFSETFROM:+0200
TZOFFSETTO:+0100
TZNAME:CET
DTSTART:20231029T010000
END:STANDARD
BEGIN:DAYLIGHT
TZOFFSETFROM:+0100
TZOFFSETTO:+0200
TZNAME:CEST
DTSTART:20240331T010000
END:DAYLIGHT
BEGIN:STANDARD
TZOFFSETFROM:+0200
TZOFFSETTO:+0100
TZNAME:CET
DTSTART:20241027T010000
END:STANDARD
END:VTIMEZONE
BEGIN:VEVENT
DTSTART;TZID=Europe/Paris:20230418T140000
DTEND;TZID=Europe/Paris:20230418T150000
DTSTAMP:20260421T161131
CREATED:20230327T134811Z
LAST-MODIFIED:20230327T134811Z
UID:10001162-1681826400-1681830000@crocoule.org
SUMMARY:BAUME ANTI-GRATTE
DESCRIPTION:BAUME ANTI-GRATTE \nAtelier fabrication de baume Anti-gratte\, apaisant contre les piqûres d’insectes. Adulte et enfants à partir de 10 ans. \nSavon et Cosmeto BOISSET. \nTarif 8€ par personne\,15€ si 2 personnes du même foyer. \nRéservation obligatoire au 04 71 66 95 44 \nTout d’abord\, le terme « Baume anti-gratte » fait référence à un type de crème topique ou d’onguent. En effet\, conçu pour soulager les démangeaisons et les douleurs causées par une irritation cutanée\, telle que des piqûres d’insectes\, des éruptions cutanées ou des réactions allergiques. \nEnsuite\, ces baumes contiennent généralement des ingrédients apaisants tels que le menthol\, le camphre\, l’aloe vera\, l’avoine ou l’hydrocortisone. Ces baumes aident à réduire l’inflammation et à soulager les démangeaisons. Enfin\, ils sont souvent appliqués directement sur la zone affectée de la peau et peuvent offrir un soulagement temporaire des symptômes. \nSAVON&COSMETO – DESCRIPTION\nTout d’abord\, savon&Cosmeto \, c’est une entreprise artisanale situé en Haute-Loire\, sur le plateau du Haut-Forez. En effet\, nous sommes producteurs de cosmétiques naturels “zéro déchet”. \nEnsuite\, dans une démarche de protection de l’environnement et de l’humain. Nous sélectionnons nos matières premières avec soins. Elles sont majoritairement BIOet/ou local lorsque c’est possible. \nTous nos produits sont fabriqués à la main \,dans notre laboratoire à Boisset.Toutes la gamme de Savon&Cosméto \, ne contient aucun produits issus de la pétrochimie\, aucun perturbateur endocrinien\, ni substances cancérigènes… Aucun test n’a été fait sur les animaux ! \nEnfin aucun plastique n’est utilisés pour les cosmétiques Savon&Cosméto \, rendez-vous sur la page “zéro déchet” pour en savoir plus. \nAvançons ensemble\, dans cette démarche de transition écologique\, STOP à la planète poubelle et aux lobbies de la cosmétique qui nous empoisonnent quotidiennement!!! \nEn utilisant les produits Savon&Cosméto\, vous soutenez l’économie familiale et local. \n\n\n	Similaire
URL:https://crocoule.org/notre-evenement/baume-anti-gratte-2/
LOCATION:Savon&cosméto – Boisset\, La faye\, Boisset\, 43500
CATEGORIES:10 ans +
END:VEVENT
BEGIN:VEVENT
DTSTART;TZID=Europe/Paris:20230412T140000
DTEND;TZID=Europe/Paris:20230412T150000
DTSTAMP:20260421T161131
CREATED:20230327T125938Z
LAST-MODIFIED:20230327T125938Z
UID:10001156-1681308000-1681311600@crocoule.org
SUMMARY:BAUME ANTI-GRATTE
DESCRIPTION:BAUME ANTI-GRATTE \nAtelier fabrication de baume Anti-gratte\, apaisant contre les piqûres d’insectes. Adulte et enfants à partir de 10 ans. \nSavon et Cosmeto BOISSET. \nTarif 8€ par personne\,15€ si 2 personnes du même foyer. \nRéservation obligatoire au 04 71 66 95 44  \nTout d’abord\, le terme « Baume anti-gratte » fait référence à un type de crème topique ou d’onguent. En effet\, conçu pour soulager les démangeaisons et les douleurs causées par une irritation cutanée\, telle que des piqûres d’insectes\, des éruptions cutanées ou des réactions allergiques. \nEnsuite\, ces baumes contiennent généralement des ingrédients apaisants tels que le menthol\, le camphre\, l’aloe vera\, l’avoine ou l’hydrocortisone. Ces baumes aident à réduire l’inflammation et à soulager les démangeaisons. Enfin\, ils sont souvent appliqués directement sur la zone affectée de la peau et peuvent offrir un soulagement temporaire des symptômes. \nSAVON&COSMETO – DESCRIPTION\nTout d’abord\, savon&Cosmeto \, c’est une entreprise artisanale situé en Haute-Loire\, sur le plateau du Haut-Forez. En effet\, nous sommes producteurs de cosmétiques naturels “zéro déchet”. \nEnsuite\, dans une démarche de protection de l’environnement et de l’humain. Nous sélectionnons nos matières premières avec soins. Elles sont majoritairement BIOet/ou local lorsque c’est possible. \nTous nos produits sont fabriqués à la main \,dans notre laboratoire à Boisset.Toutes la gamme de Savon&Cosméto \, ne contient aucun produits issus de la pétrochimie\, aucun perturbateur endocrinien\, ni substances cancérigènes… Aucun test n’a été fait sur les animaux ! \nEnfin aucun plastique n’est utilisés pour les cosmétiques Savon&Cosméto \, rendez-vous sur la page “zéro déchet” pour en savoir plus. \nAvançons ensemble\, dans cette démarche de transition écologique\, STOP à la planète poubelle et aux lobbies de la cosmétique qui nous empoisonnent quotidiennement!!! \nEn utilisant les produits Savon&Cosméto\, vous soutenez l’économie familiale et local. \n\n\n	Similaire
URL:https://crocoule.org/notre-evenement/baume-anti-gratte/
LOCATION:Savon&cosméto – Boisset\, La faye\, Boisset\, 43500
CATEGORIES:Activité en semaine
END:VEVENT
END:VCALENDAR