BEGIN:VCALENDAR
VERSION:2.0
PRODID:-//Crocoule - ECPv6.15.15//NONSGML v1.0//EN
CALSCALE:GREGORIAN
METHOD:PUBLISH
X-ORIGINAL-URL:https://crocoule.org
X-WR-CALDESC:Évènements pour Crocoule
REFRESH-INTERVAL;VALUE=DURATION:PT1H
X-Robots-Tag:noindex
X-PUBLISHED-TTL:PT1H
BEGIN:VTIMEZONE
TZID:Europe/Paris
BEGIN:DAYLIGHT
TZOFFSETFROM:+0100
TZOFFSETTO:+0200
TZNAME:CEST
DTSTART:20220327T010000
END:DAYLIGHT
BEGIN:STANDARD
TZOFFSETFROM:+0200
TZOFFSETTO:+0100
TZNAME:CET
DTSTART:20221030T010000
END:STANDARD
BEGIN:DAYLIGHT
TZOFFSETFROM:+0100
TZOFFSETTO:+0200
TZNAME:CEST
DTSTART:20230326T010000
END:DAYLIGHT
BEGIN:STANDARD
TZOFFSETFROM:+0200
TZOFFSETTO:+0100
TZNAME:CET
DTSTART:20231029T010000
END:STANDARD
BEGIN:DAYLIGHT
TZOFFSETFROM:+0100
TZOFFSETTO:+0200
TZNAME:CEST
DTSTART:20240331T010000
END:DAYLIGHT
BEGIN:STANDARD
TZOFFSETFROM:+0200
TZOFFSETTO:+0100
TZNAME:CET
DTSTART:20241027T010000
END:STANDARD
BEGIN:DAYLIGHT
TZOFFSETFROM:+0100
TZOFFSETTO:+0200
TZNAME:CEST
DTSTART:20250330T010000
END:DAYLIGHT
BEGIN:STANDARD
TZOFFSETFROM:+0200
TZOFFSETTO:+0100
TZNAME:CET
DTSTART:20251026T010000
END:STANDARD
END:VTIMEZONE
BEGIN:VEVENT
DTSTART;TZID=Europe/Paris:20240724T100000
DTEND;TZID=Europe/Paris:20240724T120000
DTSTAMP:20260421T210133
CREATED:20240612T035505Z
LAST-MODIFIED:20240612T035505Z
UID:10007989-1721815200-1721822400@crocoule.org
SUMMARY:Découverte du site et activités sensorielles
DESCRIPTION:Découverte du site et activités sensorielles \nAu sud de Saint-Étienne et à l’entrée du Parc naturel régional du Pilat\, Salvaris ofre des panoramas exceptionnels sur les villes de Saint-Jean Bonnefonds et Saint-Étienne ou encore sur la vallée du Gier et les crêts du Pilat. Les divers environnements présents\, tels que la forêt de hêtres et de sapins\, les prairies\, la lande à callune\, ainsi que les pelouses et zones humides\, créent une richesse écologique remarquable. Pendant la balade\, vous pourrez apprécier les nombreux points de vue le long du sentier\, vous dévoilant les paysages variés du Pilat. Un animateur vous guidera à travers les diférents écosystèmes de Salvaris et vous expliquera l’importance de chaque milieu à préserver. La balade se conclura par un moment convivial d’échange. \nDès 5 ans – Gratuit – Salvaris.\nSi ton regard se pose sur ces mots c’est que toi aussi tu fais partie de la Haute Congrégation des Super Parents (HCSP : rien que ça !  ????) investis en quête d’idées de sorties familiales dans la Loire et la Haute-Loire pour son/ses bambin(s) ! \nTu ne me crois pas ? Si si\, promis Bienvenue et toutes mes Félicitations ! Tu es sur la bonne page … Et je vais te le prouver ! Tu es prêt ? Allez\, viens je t’emmène au fil des pages du Crocoule ! \nTout d’abord\, Le Crocoule Magazine c’est quoi ? Le Crocoule\, papier ou web\, c’est LE magazine qui porte en lui la douceur et la bienveillance dont tu as besoin en tant que parent et qui facilite tes recherches d’activités loisirs\, culturelles\, nature pour tous les budgets et tous les goûts ! Et ça c’est une promesse ? Tu veux en savoir +\, suis moi par ici ! \nEt ce n’est pas tout … Si tu as soif d’aventure Le Crocoule Express est fait pour toi !\n  \n  \n\n\n	Similaire
URL:https://crocoule.org/notre-evenement/decouverte-du-site-et-activites-sensorielles/
LOCATION:Salvaris
CATEGORIES:05 ans +,Activité pendant les vacances,En famille,Gratuit,Tous les événements
END:VEVENT
BEGIN:VEVENT
DTSTART;TZID=Europe/Paris:20240717T150000
DTEND;TZID=Europe/Paris:20240717T170000
DTSTAMP:20260421T210133
CREATED:20240612T032809Z
LAST-MODIFIED:20240612T032809Z
UID:10007976-1721228400-1721235600@crocoule.org
SUMMARY:Activités sensorielles
DESCRIPTION:Activités sensorielles\nLes landes\, les bois et les prairies florissantes s’étendent aux côtés des troupeaux de vaches\, des orchidées et des Alouettes lulu. Suivez-nous sur les sentiers aménagés de Salvaris pour explorer ces paysages\, admirer les panoramas et découvrir cette biodiversité exceptionnelle aux abords de Saint-Étienne. Venez vivre une expérience rare à travers des activités sensorielles. \nDès 6 ans – Gratuit- Salvaris.\nSi ton regard se pose sur ces mots c’est que toi aussi tu fais partie de la Haute Congrégation des Super Parents (HCSP : rien que ça !  ????) investis en quête d’idées de sorties familiales dans la Loire et la Haute-Loire pour son/ses bambin(s) ! \nTu ne me crois pas ? Si si\, promis Bienvenue et toutes mes Félicitations ! Tu es sur la bonne page … Et je vais te le prouver ! Tu es prêt ? Allez\, viens je t’emmène au fil des pages du Crocoule ! \nTout d’abord\, Le Crocoule Magazine c’est quoi ? Le Crocoule\, papier ou web\, c’est LE magazine qui porte en lui la douceur et la bienveillance dont tu as besoin en tant que parent et qui facilite tes recherches d’activités loisirs\, culturelles\, nature pour tous les budgets et tous les goûts ! Et ça c’est une promesse ? Tu veux en savoir +\, suis moi par ici ! \nEt ce n’est pas tout … Si tu as soif d’aventure Le Crocoule Express est fait pour toi !\n  \n  \n\n\n	Similaire
URL:https://crocoule.org/notre-evenement/activites-sensorielles/
LOCATION:Salvaris
CATEGORIES:06 ans +,Activité pendant les vacances,En famille,Exterieur,Tous les événements
END:VEVENT
BEGIN:VEVENT
DTSTART;TZID=Europe/Paris:20231028T140000
DTEND;TZID=Europe/Paris:20231028T153000
DTSTAMP:20260421T210133
CREATED:20230824T130605Z
LAST-MODIFIED:20230824T130605Z
UID:10002443-1698501600-1698507000@crocoule.org
SUMMARY:Découverte sensorielle de Salvaris
DESCRIPTION:Découverte sensorielle de Salvaris\nLa Fédération départementale des chasseurs de la Loire\, part à la découverte sensorielle de Salvaris. \nLors de ce parcours à l’aveugle ! Explorez les sensations offertes par la palette du peintre et la texture des écorces des arbres environnants. À travers une série d’ateliers sensoriels bien conçus\, vous aurez l’occasion unique de vous rapprocher intimement de la nature de ce site exceptionnel. Au doux rythme des pas des plus petits participants. Chaque individu aura la possibilité de découvrir la richesse et la diversité des milieux naturels de Salvaris. En observant de plus près sa faune et sa flore particulières\, vous prendrez conscience de l’importance cruciale de préserver cet écrin naturel précieux. \nUne animation réalisée par : \nLa Fédération départementale des chasseurs de la Loire \nTout public dès 4 ans. \nPrévoir une petite collation\, une gourde d’eau\, de bonnes chaussures et des vêtements adaptées à la météo.  \niNFOS  \nSALVARIS\nTout d’abord\, à partir de Terrenoire (Saint-Étienne)\, vous pouvez vous rendre jusqu’aux stades municipaux\, puis emprunter l’avenue du Pilat RD36 en direction de Rochetaillée. Une fois sur cette avenue\, tournez à gauche sur la route de Salvaris. Pour stationner\, dirigez-vous vers le nouveau parking de l’ENS\, qui se trouve à environ 500 mètres avant l’auberge Les Genêts d’or. Il est important de noter que tous les départs des animations prévues auront lieu à partir de ce parking. \n\n\n	Similaire
URL:https://crocoule.org/notre-evenement/decouverte-sensorielle-de-salvaris/
LOCATION:Salvaris
CATEGORIES:04 ans +
END:VEVENT
BEGIN:VEVENT
DTSTART;TZID=Europe/Paris:20231025T140000
DTEND;TZID=Europe/Paris:20231025T163000
DTSTAMP:20260421T210133
CREATED:20230823T085416Z
LAST-MODIFIED:20230823T085416Z
UID:10002410-1698242400-1698251400@crocoule.org
SUMMARY:Balade commentée
DESCRIPTION:Balade commentée \n\n\n\n\nParticiper à la balade commentée à Salvaris.\n\n\n\nLes landes pittoresques\, les bois luxuriants et les prairies ornées de fleurs s’épanouissent en harmonie\, tandis que les doux mugissements des troupeaux de vaches se mêlent au délicat éclat des orchidées et aux mélodies enjouées des Alouettes lulu. Joignez-vous à nous pour une exploration des sentiers enchanteurs de Salvaris\, où chaque pas vous rapprochera des paysages saisissants et des panoramas à couper le souffle. Vous aurez également l’occasion de plonger au cœur d’une biodiversité exceptionnelle qui épanouit ses merveilles aux portes mêmes de Saint-Étienne.\n\nUne animation réalisée par :\nLe parc naturel régional du Pilat\nTout public dès 6 ans.\nPrévoir une petite collation\, une gourde d’eau\, de bonnes chaussures et des vêtements adaptés à la météo. \n\n\n\n\n\n\n\n\nSALVARIS \n\n\n\n\nÀ partir de Terrenoire\, situé à Saint-Étienne\, il convient de se diriger en direction des stades municipaux\, puis d’emprunter l’avenue du Pilat RD36 en direction de Rochetaillée. En poursuivant le trajet\, tournez à gauche sur la route de Salvaris. Pour stationner\, vous avez la possibilité d’utiliser le nouveau parking de l’ENS\, qui se trouve à environ 500 mètres avant d’atteindre l’auberge des Genêts d’Or. Il est important de noter que tous les départs des animations sont organisés depuis ce parking. \n\n\n\n\n\n\n\n\n\n\n\n\n\n\n	Similaire
URL:https://crocoule.org/notre-evenement/balade-commentee-2/
LOCATION:Salvaris
CATEGORIES:06 ans +
END:VEVENT
BEGIN:VEVENT
DTSTART;TZID=Europe/Paris:20230723T100000
DTEND;TZID=Europe/Paris:20230723T160000
DTSTAMP:20260421T210133
CREATED:20230419T092617Z
LAST-MODIFIED:20230419T113122Z
UID:10001260-1690106400-1690128000@crocoule.org
SUMMARY:Rando quiz
DESCRIPTION:Rando quiz\nLa Fédération français de randonnée de la Loire vous propose une rando quiz. \nParcourez en famille ou entre amis l’un des deux circuits proposés (3\,5 et 9km) au départ du parking de l’espace naturel sensible de Salvaris\, dans le Parc naturel régional du Pilat. \nTout au long du parcours\, en équipe\, vous devrez trouver les balises qui contiennent les questions et tenter d’y répondre ! Par exemple : savez)vous faire la différence entre un chêne rouvre un chêne pédoncule ou encore estimer la hauteur d’un arbre ? \nRassurez-vous\, cette randonnée quiz n’est pas une compétition\, mais une balade ponctuée de découvertes ! Vous parcourrez le circuit spécialement balisé\, à votre rythme et selon vos envies. Au retour\, vous pourrez vérifier vos réponses auprès des animateurs. \nUn animation réalisée par : \nLa Fédération français de randonnée de la Loire \nTOUT PUBLIC \nPrévoir une collation légère\, de l’eau et une tenue adaptée à la marche.  \nRéservation\n\n\n\n\n\n\n\n\nLes animations proposées dans ce guide sont gratuites et ouvertes à tous. Les enfants doivent être accompagnés d’un adulte. \nLes réservations sont obligatoires. Il est possible de s’inscrire jusqu’à la veille de l’animation. \nDans un souci de bonne organisation\, merci de vous présenter sur le lieu de rendez-vous au minimum 15 minutes avant le début de l’activité. \nEn cas de mauvaise météo notamment\, une animation peut être annulée. En cas de doute\, n’hésitez pas à contacter le service environnement du Département. \n\n\n\n\nSALVARIS\nÀ partir de Terrenoire (Saint-Étienne)\, aller jusqu’aux stades municipaux et prendre l’avenue du Pilat RD36 en direction de Rochetaillée. Prendre ensuite à gauche la route de Salvaris. Se garer sur le nouveau parking de l’ENS (500 m avant l’auberge Les Genêts d’or). Tous les départs des animations se font depuis le parking. \nPROGRAMME  \n\n\n\n\n\n\n\n\n\n\n	Similaire
URL:https://crocoule.org/notre-evenement/rando-quiz-2/
LOCATION:Salvaris
CATEGORIES:Tout public
END:VEVENT
BEGIN:VEVENT
DTSTART;TZID=Europe/Paris:20230722T150000
DTEND;TZID=Europe/Paris:20230722T170000
DTSTAMP:20260421T210133
CREATED:20230419T091918Z
LAST-MODIFIED:20230419T091918Z
UID:10001259-1690038000-1690045200@crocoule.org
SUMMARY:Contes absurdes sans queue ni tête
DESCRIPTION:Contes absurdes sans queue ni tête\n\nSolenne Chardon et Fabien Fulchiron animent les contes absurdes sans queue\, ni tête ! \nOn dit souvent qu’on ne peut pas dire n’importe quoi. Pour une fois\, laissons-nous aller… L’infini nous tend les bras. Les contes ne mentent jamais ou presque ! \nAllons joyeusement de menteuses en contes insolites et jouons-nous des conventions et des images des contes de fées. Des histoires en trompe l’oreille ! Entre illusion et rêve éveillé… \nUne séance toute en surprises\, en sourire et en tendresses. De quoi réveiller les oreilles engourdies ! \nContes de et par : \nSolenne Chardon et Fabien Fulchiron du collectif Konsi’Diz \nTOUT PUBLIC DÈS 5 ANS \nRéservation\n\n\n\n\n\n\n\n\nLes animations proposées dans ce guide sont gratuites et ouvertes à tous. Les enfants doivent être accompagnés d’un adulte. \nLes réservations sont obligatoires. Il est possible de s’inscrire jusqu’à la veille de l’animation. \nDans un souci de bonne organisation\, merci de vous présenter sur le lieu de rendez-vous au minimum 15 minutes avant le début de l’activité. \nEn cas de mauvaise météo notamment\, une animation peut être annulée. En cas de doute\, n’hésitez pas à contacter le service environnement du Département. \n\n\n\n\nSALVARIS\nÀ partir de Terrenoire (Saint-Étienne)\, aller jusqu’aux stades municipaux et prendre l’avenue du Pilat RD36 en direction de Rochetaillée. Prendre ensuite à gauche la route de Salvaris. Se garer sur le nouveau parking de l’ENS (500 m avant l’auberge Les Genêts d’or). Tous les départs des animations se font depuis le parking. \nPROGRAMME  \n\n\n\n\n\n\n\n\n\n\n	Similaire
URL:https://crocoule.org/notre-evenement/contes-absurdes-sans-queue-ni-tete/
LOCATION:Salvaris
CATEGORIES:05 ans +,Tout public
END:VEVENT
BEGIN:VEVENT
DTSTART;TZID=Europe/Paris:20230719T140000
DTEND;TZID=Europe/Paris:20230719T160000
DTSTAMP:20260421T210133
CREATED:20230419T091238Z
LAST-MODIFIED:20230419T091238Z
UID:10001258-1689775200-1689782400@crocoule.org
SUMMARY:Les paysages du Pilat
DESCRIPTION:Les paysages du Pilat\nLa Fédération départementale des chasseurs de la Loire vous propose de découvrir les paysages du Pilat. \nSitué au sud de Saint-Étienne\, à l’entrée du Parc naturel régional du Pilat\, Salvaris offre des points de vue remarquables sur la ville\, la vallée du Gier et les crêts du Pilat. Vous y trouverez différents milieux : sa forêt de hêtres et de sapins\, ses prairies\, sa lande à calleuse ou encore ses pelouses et zones humides… \nTout au long d’une balade de 4km\, vous profiterez des nombreux points de vue depuis le sentier et contemplerez les paysages diversifiés du Pilat. Un animateur vous présentera les différents écosystèmes qui abritent les écosystèmes de Salvaris\, la faune et la flore et l’importance de chaque milieu à préserver. \nLa balade se terminera par un moment hachage convival. \nUne animation réalisée par : \nLa Fédération départementale des chasseurs de la Loire \nTOUT PUBLIC DÈS 8 ANS \nBonne condition physique recommandée. Prévoir une collation légère\, de l’eau et une tenue adaptée. \nRéservation\n\n\n\n\n\n\n\n\nLes animations proposées dans ce guide sont gratuites et ouvertes à tous. Les enfants doivent être accompagnés d’un adulte. \nLes réservations sont obligatoires. Il est possible de s’inscrire jusqu’à la veille de l’animation. \nDans un souci de bonne organisation\, merci de vous présenter sur le lieu de rendez-vous au minimum 15 minutes avant le début de l’activité. \nEn cas de mauvaise météo notamment\, une animation peut être annulée. En cas de doute\, n’hésitez pas à contacter le service environnement du Département. \n\n\n\n\nSALVARIS\nÀ partir de Terrenoire (Saint-Étienne)\, aller jusqu’aux stades municipaux et prendre l’avenue du Pilat RD36 en direction de Rochetaillée. Prendre ensuite à gauche la route de Salvaris. Se garer sur le nouveau parking de l’ENS (500 m avant l’auberge Les Genêts d’or). Tous les départs des animations se font depuis le parking. \nPROGRAMME  \n\n\n\n\n\n\n\n\n\n\n	Similaire
URL:https://crocoule.org/notre-evenement/les-paysages-du-pilat/
LOCATION:Salvaris
CATEGORIES:08 ans +,Tout public
END:VEVENT
BEGIN:VEVENT
DTSTART;TZID=Europe/Paris:20230420T210000
DTEND;TZID=Europe/Paris:20230420T230000
DTSTAMP:20260421T210133
CREATED:20230417T125319Z
LAST-MODIFIED:20230417T125319Z
UID:10001215-1682024400-1682031600@crocoule.org
SUMMARY:Observons le ciel au-dessus de Saint-Étienne et dans le Pilat
DESCRIPTION:Observons le ciel au-dessus de Saint-Étienne et dans le Pilat\nLe Planétarium de Saint-Étienne et le Département de la Loire vous propose l’atelier « Observons le ciel au-dessus de Saint-Étienne et dans le Pilat ». \nDès les vacances de printemps\, la forêt départementale de Lespinasse\, le col des Brosses\, Salvaris\, l’Étang David\, les Deux Becs et le sentier des Crêts s’animent pour vous. \nComment la pollution lumineuse affecte notre environnement et comment pouvons-nous la réduire ? Nous explorerons les effets de la lumière artificielle et discuterons des moyens de préserver le ciel nocturne. \nVous pourrez observer le ciel grâce aux instruments du Planétarium de Saint-Étienne\, installés : spécialement pour l’événement. Vous découvrirez ainsi des objets astronomiques tels que les étoiles\, les planètes\, les galaxies et peut-être plus encore ! Vous apprendrez également comment identifier et localiser ces objets dans le ciel nocturne. \nUne animation réalisée par : \nLe Planétarium de Saint-Étienne et le Département de la Loire. \nSALVARIS \n\n\n\n\nÀ partir de Terrenoire (Saint-Étienne)\, aller jusqu’aux stades municipaux et prendre l’avenue du Pilat RD36 en direction de Rochetaillée.\nPrendre ensuite à gauche la route de Salvaris. Se garer sur le nouveau parking de l’ENS (500 m avant l’auberge Les Genêts d’or). Tous les départs des animations se font depuis le parking. \nPROGRAMME  \n\n\n\n\n\n\n	Similaire
URL:https://crocoule.org/notre-evenement/observons-le-ciel-au-dessus-de-saint-etienne-et-dans-le-pilat/
LOCATION:Salvaris
CATEGORIES:Tout public
END:VEVENT
END:VCALENDAR