BEGIN:VCALENDAR
VERSION:2.0
PRODID:-//Crocoule - ECPv6.15.15//NONSGML v1.0//EN
CALSCALE:GREGORIAN
METHOD:PUBLISH
X-ORIGINAL-URL:https://crocoule.org
X-WR-CALDESC:Évènements pour Crocoule
REFRESH-INTERVAL;VALUE=DURATION:PT1H
X-Robots-Tag:noindex
X-PUBLISHED-TTL:PT1H
BEGIN:VTIMEZONE
TZID:Europe/Paris
BEGIN:DAYLIGHT
TZOFFSETFROM:+0100
TZOFFSETTO:+0200
TZNAME:CEST
DTSTART:20220327T010000
END:DAYLIGHT
BEGIN:STANDARD
TZOFFSETFROM:+0200
TZOFFSETTO:+0100
TZNAME:CET
DTSTART:20221030T010000
END:STANDARD
BEGIN:DAYLIGHT
TZOFFSETFROM:+0100
TZOFFSETTO:+0200
TZNAME:CEST
DTSTART:20230326T010000
END:DAYLIGHT
BEGIN:STANDARD
TZOFFSETFROM:+0200
TZOFFSETTO:+0100
TZNAME:CET
DTSTART:20231029T010000
END:STANDARD
BEGIN:DAYLIGHT
TZOFFSETFROM:+0100
TZOFFSETTO:+0200
TZNAME:CEST
DTSTART:20240331T010000
END:DAYLIGHT
BEGIN:STANDARD
TZOFFSETFROM:+0200
TZOFFSETTO:+0100
TZNAME:CET
DTSTART:20241027T010000
END:STANDARD
BEGIN:DAYLIGHT
TZOFFSETFROM:+0100
TZOFFSETTO:+0200
TZNAME:CEST
DTSTART:20250330T010000
END:DAYLIGHT
BEGIN:STANDARD
TZOFFSETFROM:+0200
TZOFFSETTO:+0100
TZNAME:CET
DTSTART:20251026T010000
END:STANDARD
END:VTIMEZONE
BEGIN:VEVENT
DTSTART;TZID=Europe/Paris:20240423T140000
DTEND;TZID=Europe/Paris:20240423T163000
DTSTAMP:20260420T185931
CREATED:20240223T142548Z
LAST-MODIFIED:20240416T170826Z
UID:10004246-1713880800-1713889800@crocoule.org
SUMMARY:A la recherche du trésor de Donzy
DESCRIPTION:A la recherche du trésor de Donzy\nPartez en famille à la conquête du trésor laissé par les derniers occupants du site de Donzy en l’an 1603 ! A l’aide d’énigmes successives\, déambulez sur ce site mystérieux et progressez afin de découvrir le lieu du butin. Animation dans le cadre des « Détours de Forez-Est » : Réservation ! \n  \n  \n \nSi ton regard se pose sur ces mots c’est que toi aussi tu fais partie de la Haute Congrégation des Super Parents (HCSP : rien que ça !  ????) investis en quête d’idées de sorties familiales dans la Loire et la Haute-Loire pour son/ses bambin(s) ! \nTu ne me crois pas ? Si si\, promis Bienvenue et toutes mes Félicitations ! Tu es sur la bonne page … Et je vais te le prouver ! Tu es prêt ? Allez\, viens je t’emmène au fil des pages du Crocoule ! \nTout d’abord\, Le Crocoule Magazine c’est quoi ? Le Crocoule\, papier ou web\, c’est LE magazine qui porte en lui la douceur et la bienveillance dont tu as besoin en tant que parent et qui facilite tes recherches d’activités loisirs\, culturelles\, nature pour tous les budgets et tous les goûts ! Et ça c’est une promesse ? Tu veux en savoir +\, suis moi par ici ! \nAgenda / Sorties en famille / Loire / Haute-Loire \nIci\, c’est l’agenda web Crocoule\, sur lequel tu peux retrouver idées de sorties\, ateliers\, festivals\, salons\, randonnées\, expositions et autres pépites en intérieur ou en extérieur ! C’est le genre de mine d’or pour les orpailleurs que vous êtes ou LE SUPER guide des parents à court d’idées ! Pour toujours + de sorties familiales\, d’aventures culturelles & de nature dans la Loire\, la Haute-Loire\, le Mezenc\, le Pilat … \nL’équipe du Crocoule prend plaisir à vous dénicher de chouettes instants de vie à partager en famille et s’engage à recenser et à lister pour vous toutes les pépites d’activités de nos si belles régions ! \nAttends un peu\, le Crocoule te réserve bien d’autres surprises … \nLe Crocoule Express !\nDans la rubrique événements\, tu découvriras la version ligérienne du Pékin Express avec le Crocoule Express tant apprécié de nos supers parents lecteurs ! Il s’agit d’une découverte en voiture à sillonner plusieurs endroits dûment sélectionnés rien que pour vous ! Petits & grands partez à la découverte de la Loire\, le Pays du roannais et tout bientôt du Pilat à travers différentes étapes et énigmes à résoudre pour accéder\, grâce à l’emblématique enveloppe\, au lieu suivant ! \nRigolade\, moments de partage et moments épiques assurés en famille ou entre amis ! \nNe manquez pas la programmation juste ici & ici ! \nLe Crocoule Day !\nLe Crocoule Day saura vous ravir également puisqu’il est l’occasion de partenariats avec des associations\, créateurs ou encore offices de tourisme\, pour mettre à l’honneur les trésors de notre région et vous proposer toujours plus de découvertes d’activités ou d’ateliers tout près de chez vous ! Ne manquez pas la programmation juste ici  & ici ! \nBlog / Pépites / Mise à l’honneur / Collab …\nLe Blog Crocoule\, c’est l’endroit où l’on vous présente en détails nos pépites\, nos tests d’activités pour vous en donner un visuel le plus honnête et fiable ! C’est ici où l’on met à l’honneur nos partenaires et où l’on vous transmet notre passion du partage ! N’hésitez pas à aller y faire un tour et à laisser vos retours et vos envies ???? On met du coeur à l’ouvrage et on adore vous lire ! \nLe magazine\nLe Crocoule magazine existe en dématerialisé ici mais aussi et surtout en format papier que vous pouvez retrouver dans + de 450 points de distributions à travers la Loire\, la Haute-Loire\, l’Ondaine\, Loire-Forez et le Pilat … Venez découvrir nos points de distribution juste ici (rubrique « où le trouver ») De quoi le dénicher non loin de chez vous … Et si on vous disait que vous pourriez le recevoir directement dans votre boite aux lettres\, ça vous dirait ? Et bien\, surprise ! C’est possible : ça vous tente ? Rendez vous juste ici pour le recevoir ! \nPour les curieux\, (non non ce n’est plus un vilain défaut !) une liste des 52 couvertures du magasine sont condensés juste ici (rubrique « les magasines ») ! Un grand merci à l’illustratrice : Carole Crouzet\, qui fait un travail de grande qualité pour vous régaler les yeux et vous faire rire le coeur ! \nEn bref\, tu l’auras compris\, ce magazine\, cet endroit\, c’est l’endroit qui se veut bienveillant\, ressourçant\, accompagnant dans cette grande aventure qu’est la parentalité ! Et merci d’être là pour le faire vivre et partager nos si belles missions ! \n  \n\n\n	Similaire
URL:https://crocoule.org/notre-evenement/a-la-recherche-du-tresor-de-donzy-5/
LOCATION:salt -en-donzy – site médiéval
CATEGORIES:06 ans +,Activité du week-end,Exterieur,Jeune Public,Tous les événements,Tout public
END:VEVENT
BEGIN:VEVENT
DTSTART;TZID=Europe/Paris:20230823T100000
DTEND;TZID=Europe/Paris:20230823T113000
DTSTAMP:20260420T185931
CREATED:20230728T120506Z
LAST-MODIFIED:20230728T120506Z
UID:10002098-1692784800-1692790200@crocoule.org
SUMMARY:A la recherche du trésor de Donzy
DESCRIPTION:A LA RECHERCHE DU TRÉSOR DE DONZY\n\nPartez en famille à la recherche du trésor de Donzy laissé par les derniers occupants du site de Donzy en l’an 1603 ! A l’aide d’énigmes successives et du guide\, déambulez sur ce site mystérieux et progressez afin de découvrir le lieu du butin. \n\n\nRécompenses garanties ! NOUVELLE FORMULE Animation pour petits et grands version classique sur livret de jeu. Durée : 1h30 environ\, à partir de 6 ans. Animation annulée en cas de neige ou de mauvais temps. \nAdresse \nRDV sur le parking du site de Donzy – Réservation obligatoire \nSite médiéval \nSalt-en-Donzy (42110) \nContact \n04 77 28 67 70 \nEmail\nSite web\n\n\nSite de Donzy – Présentation\nTout d’abord\, le Site Médiéval de Donzy est situé à 1\,9 km du centre bourg de Salt en Donzy\, en bordure d’une petite rivière\, la Charpassonne\, et sur le passage du Monorail\, ligne de chemin de fer à rail unique construite à la fin du 19ème siècle entre Feurs et Panissières\, jamais ouverte au public mais qui aujourd’hui offre un très beau sentier de randonnée pédestre. \n\nDe plus\, Les ruines du château de Donzy lui même s’élèvent sur un mamelon dominant la plaine du Forez. Bâti sur un plan carré flanqué de trois grosses tours\, il était la propriété des Comtes du Forez dès le 12ème siècle\, puis des Bourbons qui le relevèrent au 15ème siècle. En effet\, il fut démoli en 1603 à la demande des habitants sous prétexte qu’il servait de refuge et d’abri à nombre de brigands.\n\nAuparavant\, du 13ème et 15ème siècle\, Donzy fut une cité importante et brillante.\n\nEn effet\, elle perdit peu à peu de son importance lors du ratta­­che­ment du comté du Forez à la couronne de France des Bourbons. Enfin\, il faut s’imaginer une vraie forteresse et la miniature que nous a légué l’Armorial de Guillaume Revel nous y aide grandement.\n\n\n	Similaire
URL:https://crocoule.org/notre-evenement/a-la-recherche-du-tresor-de-donzy-4/
LOCATION:salt -en-donzy – site médiéval
CATEGORIES:06 ans +
END:VEVENT
BEGIN:VEVENT
DTSTART;TZID=Europe/Paris:20230801T100000
DTEND;TZID=Europe/Paris:20230801T113000
DTSTAMP:20260420T185931
CREATED:20230724T115214Z
LAST-MODIFIED:20230724T115214Z
UID:10001855-1690884000-1690889400@crocoule.org
SUMMARY:A la recherche du trésor de Donzy
DESCRIPTION:A LA RECHERCHE DU TRÉSOR DE DONZY\n\nPartez en famille à la recherche du trésor de Donzy laissé par les derniers occupants du site de Donzy en l’an 1603 ! A l’aide d’énigmes successives et du guide\, déambulez sur ce site mystérieux et progressez afin de découvrir le lieu du butin. \n\n\nRécompenses garanties ! NOUVELLE FORMULE Animation pour petits et grands version classique sur livret de jeu. Durée : 1h30 environ\, à partir de 6 ans. Animation annulée en cas de neige ou de mauvais temps. \nAdresse \nRDV sur le parking du site de Donzy – Réservation obligatoire \nSite médiéval \nSalt-en-Donzy (42110) \nContact \n04 77 28 67 70 \nEmail\nSite web\n\n\nSite de Donzy – Présentation\nTout d’abord\, le Site Médiéval de Donzy est situé à 1\,9 km du centre bourg de Salt en Donzy\, en bordure d’une petite rivière\, la Charpassonne\, et sur le passage du Monorail\, ligne de chemin de fer à rail unique construite à la fin du 19ème siècle entre Feurs et Panissières\, jamais ouverte au public mais qui aujourd’hui offre un très beau sentier de randonnée pédestre. \n\nDe plus\, Les ruines du château de Donzy lui même s’élèvent sur un mamelon dominant la plaine du Forez. Bâti sur un plan carré flanqué de trois grosses tours\, il était la propriété des Comtes du Forez dès le 12ème siècle\, puis des Bourbons qui le relevèrent au 15ème siècle. En effet\, il fut démoli en 1603 à la demande des habitants sous prétexte qu’il servait de refuge et d’abri à nombre de brigands.\n\nAuparavant\, du 13ème et 15ème siècle\, Donzy fut une cité importante et brillante.\n\nEn effet\, elle perdit peu à peu de son importance lors du ratta­­che­ment du comté du Forez à la couronne de France des Bourbons. Enfin\, il faut s’imaginer une vraie forteresse et la miniature que nous a légué l’Armorial de Guillaume Revel nous y aide grandement.\n\n\n	Similaire
URL:https://crocoule.org/notre-evenement/a-la-recherche-du-tresor-de-donzy-3/
LOCATION:salt -en-donzy – site médiéval
CATEGORIES:06 ans +
END:VEVENT
BEGIN:VEVENT
DTSTART;TZID=Europe/Paris:20230420T140000
DTEND;TZID=Europe/Paris:20230420T153000
DTSTAMP:20260420T185931
CREATED:20230221T102957Z
LAST-MODIFIED:20230221T102957Z
UID:10000889-1681999200-1682004600@crocoule.org
SUMMARY:A LA RECHERCHE DU TRÉSOR DE DONZY
DESCRIPTION:A LA RECHERCHE DU TRÉSOR DE DONZY\n\nPartez en famille à la recherche du trésor de Donzy laissé par les derniers occupants du site de Donzy en l’an 1603 ! A l’aide d’énigmes successives et du guide\, déambulez sur ce site mystérieux et progressez afin de découvrir le lieu du butin. \n\n\nRécompenses garanties ! NOUVELLE FORMULE Animation pour petits et grands version classique sur livret de jeu. Durée : 1h30 environ\, à partir de 6 ans. Animation annulée en cas de neige ou de mauvais temps. \nAdresse \nRDV sur le parking du site de Donzy – Réservation obligatoire \nSite médiéval \nSalt-en-Donzy (42110) \nContact \n04 77 28 67 70 \nEmail\nSite web\n\n\nSite de Donzy – Présentation\nTout d’abord\, le Site Médiéval de Donzy est situé à 1\,9 km du centre bourg de Salt en Donzy\, en bordure d’une petite rivière\, la Charpassonne\, et sur le passage du Monorail\, ligne de chemin de fer à rail unique construite à la fin du 19ème siècle entre Feurs et Panissières\, jamais ouverte au public mais qui aujourd’hui offre un très beau sentier de randonnée pédestre. \n\nDe plus\, Les ruines du château de Donzy lui même s’élèvent sur un mamelon dominant la plaine du Forez. Bâti sur un plan carré flanqué de trois grosses tours\, il était la propriété des Comtes du Forez dès le 12ème siècle\, puis des Bourbons qui le relevèrent au 15ème siècle. En effet\, il fut démoli en 1603 à la demande des habitants sous prétexte qu’il servait de refuge et d’abri à nombre de brigands.\n\nAuparavant\, du 13ème et 15ème siècle\, Donzy fut une cité importante et brillante.\n\nEn effet\, elle perdit peu à peu de son importance lors du ratta­­che­ment du comté du Forez à la couronne de France des Bourbons. Enfin\, il faut s’imaginer une vraie forteresse et la miniature que nous a légué l’Armorial de Guillaume Revel nous y aide grandement.\n\n\n  \n\n\n\n	Similaire
URL:https://crocoule.org/notre-evenement/a-la-recherche-du-tresor-de-donzy-2/
LOCATION:salt -en-donzy – site médiéval
CATEGORIES:06 ans +
END:VEVENT
BEGIN:VEVENT
DTSTART;TZID=Europe/Paris:20230414T140000
DTEND;TZID=Europe/Paris:20230414T153000
DTSTAMP:20260420T185931
CREATED:20230221T102611Z
LAST-MODIFIED:20230221T102611Z
UID:10000888-1681480800-1681486200@crocoule.org
SUMMARY:A LA RECHERCHE DU TRÉSOR DE DONZY
DESCRIPTION:A LA RECHERCHE DU TRÉSOR DE DONZY\n\nPartez en famille à la recherche du trésor de Donzy laissé par les derniers occupants du site de Donzy en l’an 1603 ! A l’aide d’énigmes successives et du guide\, déambulez sur ce site mystérieux et progressez afin de découvrir le lieu du butin. \n\n\nRécompenses garanties ! NOUVELLE FORMULE Animation pour petits et grands version classique sur livret de jeu. Durée : 1h30 environ\, à partir de 6 ans. Animation annulée en cas de neige ou de mauvais temps. \nAdresse \nRDV sur le parking du site de Donzy – Réservation obligatoire \nSite médiéval \nSalt-en-Donzy (42110) \nContact \n04 77 28 67 70 \nEmail\nSite web\n\n\nSite de Donzy – Présentation\n\nLe Site Médiéval de Donzy est situé à 1\,9 km du centre bourg de Salt en Donzy\, en bordure d’une petite rivière\, la Charpassonne\, et sur le passage du Monorail\, ligne de chemin de fer à rail unique construite à la fin du 19ème siècle entre Feurs et Panissières\, jamais ouverte au public mais qui aujourd’hui offre un très beau sentier de randonnée pédestre.\n\nLes ruines du château de Donzy lui même s’élèvent sur un mamelon dominant la plaine du Forez. Bâti sur un plan carré flanqué de trois grosses tours\, il était la propriété des Comtes du Forez dès le 12ème siècle\, puis des Bourbons qui le relevèrent au 15ème siècle. Il fut démoli en 1603 à la demande des habitants sous prétexte qu’il servait de refuge et d’abri à nombre de brigands.\n\nAuparavant\, du 13ème et 15ème siècle\, Donzy fut une cité importante et brillante.\n\n\n  \n\n\n\n	Similaire
URL:https://crocoule.org/notre-evenement/a-la-recherche-du-tresor-de-donzy/
LOCATION:salt -en-donzy – site médiéval
CATEGORIES:06 ans +
END:VEVENT
BEGIN:VEVENT
DTSTART;TZID=Europe/Paris:20230215T140000
DTEND;TZID=Europe/Paris:20230215T153000
DTSTAMP:20260420T185931
CREATED:20221222T131003Z
LAST-MODIFIED:20230126T080945Z
UID:10000815-1676469600-1676475000@crocoule.org
SUMMARY:A LA RECHERCHE DU TRÉSOR DE DONZY
DESCRIPTION:A LA RECHERCHE DU TRÉSOR DE DONZY \n\nPartez en famille à la recherche du trésor de Donzy laissé par les derniers occupants du site de Donzy en l’an 1603 ! A l’aide d’énigmes successives et du guide\, déambulez sur ce site mystérieux et progressez afin de découvrir le lieu du butin. \n\n\nRécompenses garanties ! NOUVELLE FORMULE Animation pour petits et grands version classique sur livret de jeu. Durée : 1h30 environ\, à partir de 6 ans. Animation annulée en cas de neige ou de mauvais temps. \nAdresse \nRDV sur le parking du site de Donzy – Réservation obligatoire \nSite médiéval \nSalt-en-Donzy (42110) \nContact \n04 77 28 67 70 \nEmail\nSite web\n\n\nSite de Donzy – Présentation\n\nLe Site Médiéval de Donzy est situé à 1\,9 km du centre bourg de Salt en Donzy\, en bordure d’une petite rivière\, la Charpassonne\, et sur le passage du Monorail\, ligne de chemin de fer à rail unique construite à la fin du 19ème siècle entre Feurs et Panissières\, jamais ouverte au public mais qui aujourd’hui offre un très beau sentier de randonnée pédestre.\n\nLes ruines du château de Donzy lui même s’élèvent sur un mamelon dominant la plaine du Forez. Bâti sur un plan carré flanqué de trois grosses tours\, il était la propriété des Comtes du Forez dès le 12ème siècle\, puis des Bourbons qui le relevèrent au 15ème siècle. Il fut démoli en 1603 à la demande des habitants sous prétexte qu’il servait de refuge et d’abri à nombre de brigands.\n\n  \n\n\n\n	Similaire
URL:https://crocoule.org/notre-evenement/tresor-de-donzy-2/
LOCATION:salt -en-donzy – site médiéval
CATEGORIES:06 ans +
END:VEVENT
BEGIN:VEVENT
DTSTART;TZID=Europe/Paris:20230207T140000
DTEND;TZID=Europe/Paris:20230207T153000
DTSTAMP:20260420T185931
CREATED:20221221T143504Z
LAST-MODIFIED:20230126T080433Z
UID:10000660-1675778400-1675783800@crocoule.org
SUMMARY:A LA RECHERCHE DU TRÉSOR DE DONZY
DESCRIPTION:A LA RECHERCHE DU TRÉSOR DE DONZY \n\nPartez en famille à la recherche du trésor de Donzy laissé par les derniers occupants du site de Donzy en l’an 1603 ! A l’aide d’énigmes successives et du guide\, déambulez sur ce site mystérieux et progressez afin de découvrir le lieu du butin. \n\n\nRécompenses garanties ! NOUVELLE FORMULE Animation pour petits et grands version classique sur livret de jeu. Durée : 1h30 environ\, à partir de 6 ans. Animation annulée en cas de neige ou de mauvais temps. \nAdresse \nRDV sur le parking du site de Donzy – Réservation obligatoire \nSite médiéval \nSalt-en-Donzy (42110) \nContact \n04 77 28 67 70 \nEmail\nSite web\n\n\nSite de Donzy – Présentation\n\nLe Site Médiéval de Donzy est situé à 1\,9 km du centre bourg de Salt en Donzy\, en bordure d’une petite rivière\, la Charpassonne\, et sur le passage du Monorail\, ligne de chemin de fer à rail unique construite à la fin du 19ème siècle entre Feurs et Panissières\, jamais ouverte au public mais qui aujourd’hui offre un très beau sentier de randonnée pédestre.\n\nLes ruines du château de Donzy lui même s’élèvent sur un mamelon dominant la plaine du Forez. Bâti sur un plan carré flanqué de trois grosses tours\, il était la propriété des Comtes du Forez dès le 12ème siècle\, puis des Bourbons qui le relevèrent au 15ème siècle. Il fut démoli en 1603 à la demande des habitants sous prétexte qu’il servait de refuge et d’abri à nombre de brigands.\n\n  \n\n\n  \n\n\n\n	Similaire
URL:https://crocoule.org/notre-evenement/tresor-de-donzy/
LOCATION:salt -en-donzy – site médiéval
CATEGORIES:06 ans +
END:VEVENT
END:VCALENDAR