BEGIN:VCALENDAR
VERSION:2.0
PRODID:-//Crocoule - ECPv6.15.15//NONSGML v1.0//EN
CALSCALE:GREGORIAN
METHOD:PUBLISH
X-WR-CALNAME:Crocoule
X-ORIGINAL-URL:https://crocoule.org
X-WR-CALDESC:Évènements pour Crocoule
REFRESH-INTERVAL;VALUE=DURATION:PT1H
X-Robots-Tag:noindex
X-PUBLISHED-TTL:PT1H
BEGIN:VTIMEZONE
TZID:Europe/Paris
BEGIN:DAYLIGHT
TZOFFSETFROM:+0100
TZOFFSETTO:+0200
TZNAME:CEST
DTSTART:20250330T010000
END:DAYLIGHT
BEGIN:STANDARD
TZOFFSETFROM:+0200
TZOFFSETTO:+0100
TZNAME:CET
DTSTART:20251026T010000
END:STANDARD
BEGIN:DAYLIGHT
TZOFFSETFROM:+0100
TZOFFSETTO:+0200
TZNAME:CEST
DTSTART:20260329T010000
END:DAYLIGHT
BEGIN:STANDARD
TZOFFSETFROM:+0200
TZOFFSETTO:+0100
TZNAME:CET
DTSTART:20261025T010000
END:STANDARD
BEGIN:DAYLIGHT
TZOFFSETFROM:+0100
TZOFFSETTO:+0200
TZNAME:CEST
DTSTART:20270328T010000
END:DAYLIGHT
BEGIN:STANDARD
TZOFFSETFROM:+0200
TZOFFSETTO:+0100
TZNAME:CET
DTSTART:20271031T010000
END:STANDARD
END:VTIMEZONE
BEGIN:VEVENT
DTSTART;TZID=Europe/Paris:20260424T200000
DTEND;TZID=Europe/Paris:20260424T220000
DTSTAMP:20260419T205754
CREATED:20250826T154134Z
LAST-MODIFIED:20250826T154144Z
UID:10012003-1777060800-1777068000@crocoule.org
SUMMARY:Saint-Chamond | Concert Diogo Cadaval + Avinavita
DESCRIPTION:Les compositions de Diogo Cadaval sont imprégnées de l’influence de célèbres compositeurs-guitaristes brésiliens. Le trio réunit Diogo Cadaval (guitare\, voix)\, Gilbert Carreras (pandeiro et percussions) et Julien Sarazin (basse) et vous propose une traversée musicale au détour de différents rythmes et sonorités qui caractérisent la musique populaire et actuelle brésilienne\, une exploration immersive au cœur de ses racines.\nAVINAVITA vous embarque pour une traversée sonore où les traditions d’Italie du Sud se réinventent à travers une Tarantella frénétique relevée par un électro-rock chaloupé. Le quatuor est la voix et le pouls d’un héritage musical qui vous obligera à danser\, chanter… ici et maintenant !! \n\n\n	Similaire
URL:https://crocoule.org/notre-evenement/saint-chamond-concert-diogo-cadaval-avinavita/
LOCATION:Salle Roger Planchon\, 54 Bd Waldeck Rousseau\, Saint-Chamond\, 42400\, France
CATEGORIES:07 ans +,Tous les événements
ATTACH;FMTTYPE=image/png:https://crocoule.org/wp-content/uploads/2025/08/Visuel-28-Soiree-Live-local-4-1200x650-BOVDFg.png
END:VEVENT
BEGIN:VEVENT
DTSTART;TZID=Europe/Paris:20260424T200000
DTEND;TZID=Europe/Paris:20260424T220000
DTSTAMP:20260419T205754
CREATED:20260303T171145Z
LAST-MODIFIED:20260303T171145Z
UID:10013316-1777060800-1777068000@crocoule.org
SUMMARY:Saint-Chamond | Live Local Diogo Cadaval et Avinavita
DESCRIPTION:Les compositions du trio mené par Diogo Cadaval sont imprégnées de l’influence de célèbres compositeurs-guitaristes brésiliens. Le quatuor AVINAVITA vous embarque pour une traversée sonore où les traditions d’Italie du Sud se réinventent à travers une Tarantella frénétique relevée par un électro-rock chaloupé\, qui vous obligera à danser et chanter ! \n\n\n	Similaire
URL:https://crocoule.org/notre-evenement/saint-chamond-live-local-diogo-cadaval-et-avinavita/
LOCATION:Salle Roger Planchon\, 54 Bd Waldeck Rousseau\, Saint-Chamond\, 42400\, France
CATEGORIES:Tous les événements,Tout public
ATTACH;FMTTYPE=image/png:https://crocoule.org/wp-content/uploads/2025/08/Visuel-28-Soiree-Live-local-4-1200x650-BOVDFg.png
END:VEVENT
BEGIN:VEVENT
DTSTART;TZID=Europe/Paris:20260506T103000
DTEND;TZID=Europe/Paris:20260506T110500
DTSTAMP:20260419T205754
CREATED:20250721T091657Z
LAST-MODIFIED:20250826T154119Z
UID:10011602-1778063400-1778065500@crocoule.org
SUMMARY:Saint-Chamond | Conciliabule - La Waide Cie
DESCRIPTION:Dans une jolie scénographie jouant avec les formes et les surprises\, deux personnages émergent et découvrent l’air et les matières. Comme dans une bulle d’espace et de temps\, le duo se questionne ou s’amuse de la relation à l’autre et à la nature. Sans mots\, les mouvements\, vibrations et images nous invitent à la création de ce souffle de vie ludique et étonnant. \nCouronné ou non de succès\, communiquer n’est-ce pas d’abord essayer ? \n\n\n	Similaire
URL:https://crocoule.org/notre-evenement/saint-chamond-conciliabule-la-waide-cie/
LOCATION:Salle Roger Planchon\, 54 Bd Waldeck Rousseau\, Saint-Chamond\, 42400\, France
ATTACH;FMTTYPE=image/png:https://crocoule.org/wp-content/uploads/2025/07/Visuel-22-Conciliabule-1200x650-bf1SDx.png
END:VEVENT
BEGIN:VEVENT
DTSTART;TZID=Europe/Paris:20260506T103000
DTEND;TZID=Europe/Paris:20260506T110500
DTSTAMP:20260419T205754
CREATED:20260303T171136Z
LAST-MODIFIED:20260303T171136Z
UID:10013313-1778063400-1778065500@crocoule.org
SUMMARY:Saint-Chamond | Conciliabule
DESCRIPTION:Dans une jolie scénographie jouant avec les formes et les surprises\, deux personnages émergent et découvrent l’air et les matières. Comme dans une bulle d’espace et de temps\, le duo se questionne ou s’amuse de la relation à l’autre et à la nature. Sans mots\, les mouvements\, vibrations et images nous invitent à la création de ce souffle de vie ludique et étonnant.\nCouronné ou non de succès\, communiquer n’est-ce pas d’abord essayer ?\nUn spectacle pour le plaisir d’explorer plusieurs langages : musique\, danse\, visuel et langue des signes ! \n\n\n	Similaire
URL:https://crocoule.org/notre-evenement/saint-chamond-conciliabule/
LOCATION:Salle Roger Planchon\, 54 Bd Waldeck Rousseau\, Saint-Chamond\, 42400\, France
CATEGORIES:03 ans +,Tous les événements
ATTACH;FMTTYPE=image/png:https://crocoule.org/wp-content/uploads/2025/07/Visuel-22-Conciliabule-1200x650-bf1SDx.png
END:VEVENT
BEGIN:VEVENT
DTSTART;TZID=Europe/Paris:20260527T150000
DTEND;TZID=Europe/Paris:20260527T160500
DTSTAMP:20260419T205754
CREATED:20260303T171143Z
LAST-MODIFIED:20260303T171143Z
UID:10013315-1779894000-1779897900@crocoule.org
SUMMARY:Saint-Chamond | Filomène et Félix dans Impromptu
DESCRIPTION:Filomène et Félix\, vous connaissez ? Un jour ou l’autre vous les rencontrerez ici ou là\, bras dessus bras dessous arpentant les jours heureux qui coulent sous leurs petits pas. Impromptu\, c’est la folle histoire de leur rencontre\, l’incroyable épopée de leur petit quotidien. Ne les manquez pas ! \n\n\n	Similaire
URL:https://crocoule.org/notre-evenement/saint-chamond-filomene-et-felix-dans-impromptu/
LOCATION:Salle Roger Planchon\, 54 Bd Waldeck Rousseau\, Saint-Chamond\, 42400\, France
CATEGORIES:06 ans +,Tous les événements
ATTACH;FMTTYPE=image/jpeg:https://crocoule.org/wp-content/uploads/2025/07/Visuel-24-Filomene-et-Felix-1200x650-vlNe1z.jpg
END:VEVENT
END:VCALENDAR