BEGIN:VCALENDAR
VERSION:2.0
PRODID:-//Crocoule - ECPv6.15.15//NONSGML v1.0//EN
CALSCALE:GREGORIAN
METHOD:PUBLISH
X-ORIGINAL-URL:https://crocoule.org
X-WR-CALDESC:Évènements pour Crocoule
REFRESH-INTERVAL;VALUE=DURATION:PT1H
X-Robots-Tag:noindex
X-PUBLISHED-TTL:PT1H
BEGIN:VTIMEZONE
TZID:Europe/Paris
BEGIN:DAYLIGHT
TZOFFSETFROM:+0100
TZOFFSETTO:+0200
TZNAME:CEST
DTSTART:20240331T010000
END:DAYLIGHT
BEGIN:STANDARD
TZOFFSETFROM:+0200
TZOFFSETTO:+0100
TZNAME:CET
DTSTART:20241027T010000
END:STANDARD
BEGIN:DAYLIGHT
TZOFFSETFROM:+0100
TZOFFSETTO:+0200
TZNAME:CEST
DTSTART:20250330T010000
END:DAYLIGHT
BEGIN:STANDARD
TZOFFSETFROM:+0200
TZOFFSETTO:+0100
TZNAME:CET
DTSTART:20251026T010000
END:STANDARD
BEGIN:DAYLIGHT
TZOFFSETFROM:+0100
TZOFFSETTO:+0200
TZNAME:CEST
DTSTART:20260329T010000
END:DAYLIGHT
BEGIN:STANDARD
TZOFFSETFROM:+0200
TZOFFSETTO:+0100
TZNAME:CET
DTSTART:20261025T010000
END:STANDARD
BEGIN:DAYLIGHT
TZOFFSETFROM:+0100
TZOFFSETTO:+0200
TZNAME:CEST
DTSTART:20270328T010000
END:DAYLIGHT
BEGIN:STANDARD
TZOFFSETFROM:+0200
TZOFFSETTO:+0100
TZNAME:CET
DTSTART:20271031T010000
END:STANDARD
END:VTIMEZONE
BEGIN:VEVENT
DTSTART;TZID=Europe/Paris:20260402T190000
DTEND;TZID=Europe/Paris:20260402T202000
DTSTAMP:20260421T135715
CREATED:20260303T171127Z
LAST-MODIFIED:20260303T171127Z
UID:10013311-1775156400-1775161200@crocoule.org
SUMMARY:Saint-chamond | Un mariage
DESCRIPTION:Avec cette comédie douce-amère\, l’auteur et metteur en scène Gilles Granouillet donne vie à une galerie de personnages attachants qui composent le portrait d’un bourg de province\, entre histoires de famille\, mensonges\, dénis et racisme ordinaire. Convié·e à la fête\, chaque spectateur·rice se trouve plongé·e dans l’intimité de ces êtres\, au cœur de situations cocasses et parfois tragiques. \n\n\n	Similaire
URL:https://crocoule.org/notre-evenement/saint-chamond-un-mariage-2/
LOCATION:Salle Aristide Briand\, Parc Nelson Mandela\, avenue Antoine Pinay\, saint chamond\, 42400\, France
CATEGORIES:12 ans +,Tous les événements
ATTACH;FMTTYPE=image/jpeg:https://crocoule.org/wp-content/uploads/2025/07/Visuel-19-Un-mariage-1200x650-9rDtI4.jpg
END:VEVENT
BEGIN:VEVENT
DTSTART;TZID=Europe/Paris:20260402T190000
DTEND;TZID=Europe/Paris:20260402T202000
DTSTAMP:20260421T135715
CREATED:20250721T091654Z
LAST-MODIFIED:20250826T154113Z
UID:10011600-1775156400-1775161200@crocoule.org
SUMMARY:Saint-Chamond | Un mariage - Cie Travelling Théâtre
DESCRIPTION:« Vous voulez vraiment convoquer tout ça ? Moi le père du marié\, moi qui y repense chaque jour\, croyez- moi : je n’ai pas besoin de remettre les pieds ici pour revoir ces nappes et ces guirlandes\, alors je vous pose la question : Voulez-vous vraiment rejouer tout ça ? Ne suffirait-il pas de continuer\, simplement continuer\, que chacun s’arrange avec sa mémoire comme nous le faisons depuis vingt ans ? ». \n\n\n	Similaire
URL:https://crocoule.org/notre-evenement/saint-chamond-un-mariage-cie-travelling-theatre/
LOCATION:Salle Aristide Briand\, Parc Nelson Mandela\, avenue Antoine Pinay\, saint chamond\, 42400\, France
ATTACH;FMTTYPE=image/jpeg:https://crocoule.org/wp-content/uploads/2025/07/Visuel-19-Un-mariage-1200x650-9rDtI4.jpg
END:VEVENT
BEGIN:VEVENT
DTSTART;TZID=Europe/Paris:20260401T190000
DTEND;TZID=Europe/Paris:20260401T202000
DTSTAMP:20260421T135715
CREATED:20260303T171124Z
LAST-MODIFIED:20260303T171124Z
UID:10013310-1775070000-1775074800@crocoule.org
SUMMARY:Saint-chamond | Un mariage
DESCRIPTION:Avec cette comédie douce-amère\, l’auteur et metteur en scène Gilles Granouillet donne vie à une galerie de personnages attachants qui composent le portrait d’un bourg de province\, entre histoires de famille\, mensonges\, dénis et racisme ordinaire. Convié·e à la fête\, chaque spectateur·rice se trouve plongé·e dans l’intimité de ces êtres\, au cœur de situations cocasses et parfois tragiques. \n\n\n	Similaire
URL:https://crocoule.org/notre-evenement/saint-chamond-un-mariage/
LOCATION:Salle Aristide Briand\, Parc Nelson Mandela\, avenue Antoine Pinay\, saint chamond\, 42400\, France
CATEGORIES:12 ans +,Tous les événements
ATTACH;FMTTYPE=image/jpeg:https://crocoule.org/wp-content/uploads/2025/07/Visuel-19-Un-mariage-1200x650-9rDtI4.jpg
END:VEVENT
BEGIN:VEVENT
DTSTART;TZID=Europe/Paris:20260324T190000
DTEND;TZID=Europe/Paris:20260324T200000
DTSTAMP:20260421T135715
CREATED:20260303T171122Z
LAST-MODIFIED:20260303T171122Z
UID:10013309-1774378800-1774382400@crocoule.org
SUMMARY:Saint-chamond | Hip-Hop\, est-ce bien sérieux ?
DESCRIPTION:Ce spectacle à mi-chemin entre la danse et le théâtre trace l’épopée du Hip-Hop\, depuis les rues animées du New York des années 70 jusqu’aux scènes internationales d’aujourd’hui. Ce témoignage jubilatoire d’une pionnière de la culture Hip-Hop en France\, vous offre une vision immersive de l’aventure d’un mouvement à la fois festif et engagé. Une performance vitaminée et décalée pour un sourire contagieux et une bonne dose d’émotions garantie. \n\n\n	Similaire
URL:https://crocoule.org/notre-evenement/saint-chamond-hip-hop-est-ce-bien-serieux/
LOCATION:Salle Aristide Briand\, Parc Nelson Mandela\, avenue Antoine Pinay\, saint chamond\, 42400\, France
CATEGORIES:06 ans +,Tous les événements
ATTACH;FMTTYPE=image/jpeg:https://crocoule.org/wp-content/uploads/2025/07/Visuel-18-Hip-hop-est-ce-bien-serieux-1200x650-KbA9VP.jpg
END:VEVENT
BEGIN:VEVENT
DTSTART;TZID=Europe/Paris:20260324T190000
DTEND;TZID=Europe/Paris:20260324T200000
DTSTAMP:20260421T135715
CREATED:20250721T091653Z
LAST-MODIFIED:20250826T154112Z
UID:10011599-1774378800-1774382400@crocoule.org
SUMMARY:Saint-Chamond | Hip-Hop\, est-ce bien sérieux ? - Cie 6ème Dimension
DESCRIPTION:Ce témoignage jubilatoire d’une pionnière de la culture hip-hop en France\, vous offre une vision immersive de l’aventure d’un mouvement à la fois festif et engagé. Une performance vitaminée et décalée pour un sourire contagieux et une bonne dose d’émotions garantie. \n\n\n	Similaire
URL:https://crocoule.org/notre-evenement/saint-chamond-hip-hop-est-ce-bien-serieux-cie-6eme-dimension/
LOCATION:Salle Aristide Briand\, Parc Nelson Mandela\, avenue Antoine Pinay\, saint chamond\, 42400\, France
ATTACH;FMTTYPE=image/jpeg:https://crocoule.org/wp-content/uploads/2025/07/Visuel-18-Hip-hop-est-ce-bien-serieux-1200x650-KbA9VP.jpg
END:VEVENT
BEGIN:VEVENT
DTSTART;TZID=Europe/Paris:20260318T103000
DTEND;TZID=Europe/Paris:20260318T111000
DTSTAMP:20260421T135715
CREATED:20260303T171121Z
LAST-MODIFIED:20260303T171121Z
UID:10013308-1773829800-1773832200@crocoule.org
SUMMARY:Saint-chamond | Le Mensonge
DESCRIPTION:ce spectacle familial – mêlant danseurs et circassiens – raconte avec grâce et légèreté les tourments d’un combat intérieur entre vérité et mensonge. D’après « Le Mensonge » de Catherine Grive et Frédérique Bertrand\, éd. Rouergue\, 2016. \n\n\n	Similaire
URL:https://crocoule.org/notre-evenement/saint-chamond-le-mensonge/
LOCATION:Salle Aristide Briand\, Parc Nelson Mandela\, avenue Antoine Pinay\, saint chamond\, 42400\, France
CATEGORIES:03 ans +,Tous les événements
ATTACH;FMTTYPE=image/jpeg:https://crocoule.org/wp-content/uploads/2025/07/Visuel-17-Le-mensonge-1200x650-YeaUWs.jpg
END:VEVENT
BEGIN:VEVENT
DTSTART;TZID=Europe/Paris:20260318T103000
DTEND;TZID=Europe/Paris:20260318T111000
DTSTAMP:20260421T135715
CREATED:20250721T091651Z
LAST-MODIFIED:20250826T154110Z
UID:10011598-1773829800-1773832200@crocoule.org
SUMMARY:Saint-Chamond | Le mensonge - Cie Act2
DESCRIPTION:Le Mensonge est l’histoire d’une petite fille qui ment à sa famille\, un soir à table. En retournant dans sa chambre\, elle retrouve son mensonge sous la forme d’un rond rouge. Le lendemain à son réveil\, ce rond est encore là\, insistant et ineffaçable. Le soir au coucher\, il est toujours là. Au fil des jours\, ce rond gonfle\, se multiplie\, envahit son espace\, allant même jusqu’à l’empêcher de bien respirer.\nEn nous faisant visiter les rêves de la petite fille\, la chorégraphe questionne et réenchante le quotidien\, proposant une danse généreuse et un univers empreint d’humour et de poésie\, accessible à tous. \n\n\n	Similaire
URL:https://crocoule.org/notre-evenement/saint-chamond-le-mensonge-cie-act2/
LOCATION:Salle Aristide Briand\, Parc Nelson Mandela\, avenue Antoine Pinay\, saint chamond\, 42400\, France
ATTACH;FMTTYPE=image/jpeg:https://crocoule.org/wp-content/uploads/2025/07/Visuel-17-Le-mensonge-1200x650-YeaUWs.jpg
END:VEVENT
BEGIN:VEVENT
DTSTART;TZID=Europe/Paris:20260307T200000
DTEND;TZID=Europe/Paris:20260307T205000
DTSTAMP:20260421T135715
CREATED:20260303T171119Z
LAST-MODIFIED:20260303T171119Z
UID:10013307-1772913600-1772916600@crocoule.org
SUMMARY:saint-Chamond | Love
DESCRIPTION:La danse contemporaine se mêle aux pas folkloriques et au son de la musique rythmée pour nous proposer un voyage entre le passé et le présent.. Love se dévoile comme une célébration vibrante des émotions humaines\, illustrée par la grâce et l’énergie de 4 danseurs sur scène. Dans le cadre de Matières Vives Festival. \n\n\n	Similaire
URL:https://crocoule.org/notre-evenement/saint-chamond-love/
LOCATION:Salle Aristide Briand\, Parc Nelson Mandela\, avenue Antoine Pinay\, saint chamond\, 42400\, France
CATEGORIES:06 ans +,Tous les événements
ATTACH;FMTTYPE=image/webp:https://crocoule.org/wp-content/uploads/2026/03/Copie-de-Love-PSxiUb.webp
END:VEVENT
BEGIN:VEVENT
DTSTART;TZID=Europe/Paris:20260307T200000
DTEND;TZID=Europe/Paris:20260307T205000
DTSTAMP:20260421T135715
CREATED:20250721T091646Z
LAST-MODIFIED:20250826T154109Z
UID:10011597-1772913600-1772916600@crocoule.org
SUMMARY:Saint-Chamond | Love - Cie Voltaïk
DESCRIPTION:Ce spectacle vous invite à vous concentrer sur l’essence même de la danse\, où le mouvement devient le véritable langage de l’amour.\nAccompagné d’une musique rythmée et traditionnelle\, cette création fusionne des éléments de danses folkloriques\, vous transportant à travers des cultures et des récits différents. Les pas dansés se réinventent sous les mouvements contemporains des danseurs\, créant un dialogue entre le passé et le présent. \n\n\n	Similaire
URL:https://crocoule.org/notre-evenement/saint-chamond-love-cie-voltaik/
LOCATION:Salle Aristide Briand\, Parc Nelson Mandela\, avenue Antoine Pinay\, saint chamond\, 42400\, France
CATEGORIES:06 ans +,Tous les événements
ATTACH;FMTTYPE=image/jpeg:https://crocoule.org/wp-content/uploads/2025/07/Visuel-15-Love-1200x650-KlKrNP.jpg
END:VEVENT
BEGIN:VEVENT
DTSTART;TZID=Europe/Paris:20260205T200000
DTEND;TZID=Europe/Paris:20260205T213000
DTSTAMP:20260421T135715
CREATED:20250721T091644Z
LAST-MODIFIED:20250826T154108Z
UID:10011596-1770321600-1770327000@crocoule.org
SUMMARY:Saint-Chamond | Gabi Hartman
DESCRIPTION:Son goût pour le voyage et ses recherches sur les musiques du monde l’amènent à vivre aux quatre coins du globe : Afrique du Sud\, Brésil\, Guinée\, Portugal… Elle s’en imprègne d’ailleurs en chantant en français\, en anglais\, en portugais et en arabe\, accompagnée par cinq musiciens rencontrés à Paris et à New York.\nCette jeune artiste semble avoir déjà vécu plusieurs vies tant son style est irrigué de nuances et de couleurs variées\, parfaitement fondues dans un timbre de voix de velours\, et tant ses chansons offrent des textes léchés et poétiques.\nSes concerts font vibrer le public. La nouvelle étoile française\, à découvrir absolument ! \n\n\n	Similaire
URL:https://crocoule.org/notre-evenement/saint-chamond-gabi-hartman/
LOCATION:Salle Aristide Briand\, Parc Nelson Mandela\, avenue Antoine Pinay\, saint chamond\, 42400\, France
CATEGORIES:07 ans +,Tous les événements
ATTACH;FMTTYPE=image/jpeg:https://crocoule.org/wp-content/uploads/2025/07/Visuel-11-Gaby-Hartmann-1200x650-HI4ahT.jpg
END:VEVENT
BEGIN:VEVENT
DTSTART;TZID=Europe/Paris:20260123T200000
DTEND;TZID=Europe/Paris:20260123T211500
DTSTAMP:20260421T135715
CREATED:20250721T091643Z
LAST-MODIFIED:20250826T154104Z
UID:10011595-1769198400-1769202900@crocoule.org
SUMMARY:Saint-Chamond | Toto ST
DESCRIPTION:Toto ST réussi une fusion exquise entre l’afro-jazz\, la funk\, la soul\, le R&B et les rythmes africains comme le Kilapanga (rythme traditionnel d’Angola et du Congo). Et c’est sur scène qu’il exprime au mieux le mariage de toutes ces influences. Sur scène\, Toto ST a une présence unique. Chaque concert est une nouvelle page. \n\n\n	Similaire
URL:https://crocoule.org/notre-evenement/saint-chamond-toto-st/
LOCATION:Salle Aristide Briand\, Parc Nelson Mandela\, avenue Antoine Pinay\, saint chamond\, 42400\, France
CATEGORIES:07 ans +,Tous les événements
ATTACH;FMTTYPE=image/jpeg:https://crocoule.org/wp-content/uploads/2025/07/Visuel-9-Toto-St-1200x650-Xdhk6p.jpg
END:VEVENT
BEGIN:VEVENT
DTSTART;TZID=Europe/Paris:20251220T170000
DTEND;TZID=Europe/Paris:20251220T182500
DTSTAMP:20260421T135715
CREATED:20250721T091641Z
LAST-MODIFIED:20250826T154103Z
UID:10011594-1766250000-1766255100@crocoule.org
SUMMARY:Saint-Chamond | La folle histoire de l'île mystérieuse
DESCRIPTION:1942. La France est occupée. Jack Beauregard\, escroc\, survit difficilement grâce au marché noir. Alors qu’une nuit il croit visiter une cave de grands crus de Bourgogne\, il tombe nez à nez avec Louise de Talleyrand\, une jeune résistante prisonnière de la Gestapo.\nParvenant à s’enfuir\, Louise révèle à Jack la raison de son arrestation : elle seule est capable de localiser l’île de « Boyuca »\, qui abriterait un trésor inestimable : le secret de l’Immortalité. Ensemble\, les deux héros devront braver mille dangers pour atteindre cette « île mystérieuse ».\nÀ travers 17 personnages et 26 tableaux différents\, cette comédie d’aventure basée sur des faits réels et librement inspirée de l’œuvre de Jules Verne\, vous émerveillera par sa mise en scène rythmée\, ses situations burlesques et ses monstres plus vrais que nature ! \n\n\n	Similaire
URL:https://crocoule.org/notre-evenement/saint-chamond-la-folle-histoire-de-lile-mysterieuse/
LOCATION:Salle Aristide Briand\, Parc Nelson Mandela\, avenue Antoine Pinay\, saint chamond\, 42400\, France
CATEGORIES:07 ans +,Tous les événements
ATTACH;FMTTYPE=image/jpeg:https://crocoule.org/wp-content/uploads/2025/07/Visuel-8-La-folle-histoire-de-lile-mysterieuse-1200x650-Eoaclt.jpg
END:VEVENT
BEGIN:VEVENT
DTSTART;TZID=Europe/Paris:20251120T200000
DTEND;TZID=Europe/Paris:20251120T214000
DTSTAMP:20260421T135715
CREATED:20250721T091627Z
LAST-MODIFIED:20250826T154059Z
UID:10011591-1763668800-1763674800@crocoule.org
SUMMARY:Saint-Chamond | Le porteur d'histoire - Alexis Michalik
DESCRIPTION:Cinq comédiens endossent les costumes d’une myriade de personnages. Ils sont là pour nous livrer un double héritage : un amas de livres frappés d’un étrange calice et un colossal trésor accumulé à travers les âges par une légendaire société secrète.\nPar une nuit pluvieuse\, au fin fond des Ardennes\, Martin Martin doit enterrer son père. Il est alors loin d’imaginer que la découverte d’un carnet manuscrit va l’entraîner dans une quête vertigineuse à travers l’Histoire et les continents. Quinze ans plus tard\, au cœur du désert algérien\, une mère et sa fille disparaissent mystérieusement. \n\n\n	Similaire
URL:https://crocoule.org/notre-evenement/saint-chamond-le-porteur-dhistoire-alexis-michalik/
LOCATION:Salle Aristide Briand\, Parc Nelson Mandela\, avenue Antoine Pinay\, saint chamond\, 42400\, France
CATEGORIES:10 ans +,Tous les événements
ATTACH;FMTTYPE=image/png:https://crocoule.org/wp-content/uploads/2025/07/Visuel-4-Le-porteur-dhistoires-1200x650-qE7dAr.png
END:VEVENT
BEGIN:VEVENT
DTSTART;TZID=Europe/Paris:20251116T170000
DTEND;TZID=Europe/Paris:20251116T182500
DTSTAMP:20260421T135715
CREATED:20250721T091625Z
LAST-MODIFIED:20250826T154054Z
UID:10011590-1763312400-1763317500@crocoule.org
SUMMARY:Saint-Chamond | Momentos - Valérie Ortiz
DESCRIPTION:Entourée de deux danseurs et de quatre musiciens\, Valérie Ortiz crée douze tableaux uniques qui révèlent la poésie\, l’élégance et l’intensité de cette création flamenca.\nMomentos n’hésite pas à bousculer les codes du Flamenco traditionnel laissant la place à d’autres sonorités\, notamment par la présence inattendue de l’accordéon ou encore par un extrait de Zarzuela avec castagnettes chorégraphié par Antonio Najarro\, l’emblématique Directeur du Ballet National d’Espagne…\nFidèle à son goût pour les costumes\, les lumières et la scénographie\, Valérie Ortiz crée un “momento” qui saura séduire novices et aficionados du Flamenco. \n\n\n	Similaire
URL:https://crocoule.org/notre-evenement/saint-chamond-momentos-valerie-ortiz/
LOCATION:Salle Aristide Briand\, Parc Nelson Mandela\, avenue Antoine Pinay\, saint chamond\, 42400\, France
CATEGORIES:05 ans +,Tous les événements
END:VEVENT
BEGIN:VEVENT
DTSTART;TZID=Europe/Paris:20250703T200000
DTEND;TZID=Europe/Paris:20250703T210000
DTSTAMP:20260421T135715
CREATED:20250603T095556Z
LAST-MODIFIED:20250721T091620Z
UID:10011560-1751572800-1751576400@crocoule.org
SUMMARY:Saint-Chamond | Curiosité - Cie Haspop
DESCRIPTION:Fusionner hip-hop et arts du cirque\, c’est possible ? C’est du moins ce que vous propose la Compagnie HASPOP avec Curiosité\, une nouvelle création audacieuse qui apporte un vent de modernité au cirque traditionnel.\nDe la suspension aérienne au duo main à main\, en passant par la danse acrobatique\, trampoline à air\, la voltige\, les contorsions et le diabolo\, ces artistes internationaux de renom explorent la diversité des disciplines circassiennes pour conter l’histoire des migrations dans l’Amérique des années 1930.\nUn spectacle plein d’énergie à découvrir en famille !\nCo-organisé avec le Festival des 7 Collines. \n\n\n	Similaire
URL:https://crocoule.org/notre-evenement/saint-chamond-curiosite-cie-haspop/
LOCATION:Salle Aristide Briand\, Parc Nelson Mandela\, avenue Antoine Pinay\, saint chamond\, 42400\, France
CATEGORIES:06 ans +,Tous les événements
END:VEVENT
END:VCALENDAR