BEGIN:VCALENDAR
VERSION:2.0
PRODID:-//Crocoule - ECPv6.15.15//NONSGML v1.0//EN
CALSCALE:GREGORIAN
METHOD:PUBLISH
X-WR-CALNAME:Crocoule
X-ORIGINAL-URL:https://crocoule.org
X-WR-CALDESC:Évènements pour Crocoule
REFRESH-INTERVAL;VALUE=DURATION:PT1H
X-Robots-Tag:noindex
X-PUBLISHED-TTL:PT1H
BEGIN:VTIMEZONE
TZID:Europe/Paris
BEGIN:DAYLIGHT
TZOFFSETFROM:+0100
TZOFFSETTO:+0200
TZNAME:CEST
DTSTART:20220327T010000
END:DAYLIGHT
BEGIN:STANDARD
TZOFFSETFROM:+0200
TZOFFSETTO:+0100
TZNAME:CET
DTSTART:20221030T010000
END:STANDARD
BEGIN:DAYLIGHT
TZOFFSETFROM:+0100
TZOFFSETTO:+0200
TZNAME:CEST
DTSTART:20230326T010000
END:DAYLIGHT
BEGIN:STANDARD
TZOFFSETFROM:+0200
TZOFFSETTO:+0100
TZNAME:CET
DTSTART:20231029T010000
END:STANDARD
BEGIN:DAYLIGHT
TZOFFSETFROM:+0100
TZOFFSETTO:+0200
TZNAME:CEST
DTSTART:20240331T010000
END:DAYLIGHT
BEGIN:STANDARD
TZOFFSETFROM:+0200
TZOFFSETTO:+0100
TZNAME:CET
DTSTART:20241027T010000
END:STANDARD
END:VTIMEZONE
BEGIN:VEVENT
DTSTART;TZID=Europe/Paris:20230803T140000
DTEND;TZID=Europe/Paris:20230803T170000
DTSTAMP:20260420T090528
CREATED:20230726T123006Z
LAST-MODIFIED:20230726T123006Z
UID:10001983-1691071200-1691082000@crocoule.org
SUMMARY:Découverte pêche au coup
DESCRIPTION:Découverte pêche au coup\nDécouverte de la pêche au coup à l’étang du Villard avec Sylvain Béal (Despeches.com) animateur professionnel et diplômé\, en partenariat avec l’AAPPMA des 2 eaux . Réservation à l’Office de Tourisme Marches du Velay Rochebaron. \nLe matériel et les appâts sont fournis ainsi que le droit de pêche durant l’animation. A partir de 8 ans. \nLa pêche \nTout d’abord\, la pêche est une activité millénaire qui fascine les Hommes depuis des générations. En effet\, que ce soit en eau douce ou en mer\, la pêche offre une opportunité unique de se connecter à la nature et de se plonger dans un environnement paisible. En effet\, armé d’une canne à pêche et d’une patience infinie\, le pêcheur recherche l’excitation d’une prise. Mais trouve également la tranquillité dans le rythme apaisant de lancer et de ramener sa ligne. \nLa pêche est bien plus qu’un simple loisir\, c’est un art qui demande de la connaissance\, de la technique et un profond respect pour l’équilibre fragile des écosystèmes aquatiques. C’est un moyen de s’évader du tumulte de la vie quotidienne\, de se reconnecter à soi-même et de savourer l’instant présent. Que l’on pratique la pêche sportive ou la pêche traditionnelle\, c’est une activité qui unit les passionnés\, transmettant des valeurs de patience\, de persévérance et de respect de la nature. \nAdresse : \nVillard\n43600 Sainte-Sigolène \n\n\n	Similaire
URL:https://crocoule.org/notre-evenement/decouverte-peche-au-coup-7/
LOCATION:Sainte-Sigolène
END:VEVENT
BEGIN:VEVENT
DTSTART;TZID=Europe/Paris:20230727T140000
DTEND;TZID=Europe/Paris:20230727T170000
DTSTAMP:20260420T090528
CREATED:20230628T141437Z
LAST-MODIFIED:20230628T141437Z
UID:10001765-1690466400-1690477200@crocoule.org
SUMMARY:Pêche au coup
DESCRIPTION:Pêche au coup\nDécouverte de la pêche au coup à l’étang du Villard avec Sylvain Béal (Despeches.com) animateur professionnel et diplômé\, en partenariat avec l’AAPPMA des 2 eaux . Réservation à l’Office de Tourisme Marches du Velay Rochebaron. \nLe matériel et les appâts sont fournis ainsi que le droit de pêche durant l’animation. A partir de 8 ans. \nLa pêche \nTout d’abord\, la pêche est une activité millénaire qui fascine les Hommes depuis des générations. En effet\, que ce soit en eau douce ou en mer\, la pêche offre une opportunité unique de se connecter à la nature et de se plonger dans un environnement paisible. En effet\, armé d’une canne à pêche et d’une patience infinie\, le pêcheur recherche l’excitation d’une prise. Mais trouve également la tranquillité dans le rythme apaisant de lancer et de ramener sa ligne. \nLa pêche est bien plus qu’un simple loisir\, c’est un art qui demande de la connaissance\, de la technique et un profond respect pour l’équilibre fragile des écosystèmes aquatiques. C’est un moyen de s’évader du tumulte de la vie quotidienne\, de se reconnecter à soi-même et de savourer l’instant présent. Que l’on pratique la pêche sportive ou la pêche traditionnelle\, c’est une activité qui unit les passionnés\, transmettant des valeurs de patience\, de persévérance et de respect de la nature. \nAdresse : \nVillard\n43600 Sainte-Sigolène \n\n\n	Similaire
URL:https://crocoule.org/notre-evenement/peche-au-coup-3/
LOCATION:Sainte-Sigolène
END:VEVENT
BEGIN:VEVENT
DTSTART;TZID=Europe/Paris:20230720T140000
DTEND;TZID=Europe/Paris:20230720T170000
DTSTAMP:20260420T090528
CREATED:20230628T141216Z
LAST-MODIFIED:20230628T141434Z
UID:10001764-1689861600-1689872400@crocoule.org
SUMMARY:Pêche au coup
DESCRIPTION:Pêche au coup\nDécouverte de la pêche au coup à l’étang du Villard avec Sylvain Béal (Despeches.com) animateur professionnel et diplômé\, en partenariat avec l’AAPPMA des 2 eaux . Réservation à l’Office de Tourisme Marches du Velay Rochebaron. \nLe matériel et les appâts sont fournis ainsi que le droit de pêche durant l’animation. A partir de 8 ans. \nLa pêche \nTout d’abord\, la pêche est une activité millénaire qui fascine les Hommes depuis des générations. En effet\, que ce soit en eau douce ou en mer\, la pêche offre une opportunité unique de se connecter à la nature et de se plonger dans un environnement paisible. En effet\, armé d’une canne à pêche et d’une patience infinie\, le pêcheur recherche l’excitation d’une prise. Mais trouve également la tranquillité dans le rythme apaisant de lancer et de ramener sa ligne. \nLa pêche est bien plus qu’un simple loisir\, c’est un art qui demande de la connaissance\, de la technique et un profond respect pour l’équilibre fragile des écosystèmes aquatiques. C’est un moyen de s’évader du tumulte de la vie quotidienne\, de se reconnecter à soi-même et de savourer l’instant présent. Que l’on pratique la pêche sportive ou la pêche traditionnelle\, c’est une activité qui unit les passionnés\, transmettant des valeurs de patience\, de persévérance et de respect de la nature. \nAdresse : \nVillard\n43600 Sainte-Sigolène \n\n\n	Similaire
URL:https://crocoule.org/notre-evenement/peche-au-coup-2/
LOCATION:Sainte-Sigolène
CATEGORIES:08 ans +
END:VEVENT
BEGIN:VEVENT
DTSTART;TZID=Europe/Paris:20230713T140000
DTEND;TZID=Europe/Paris:20230713T170000
DTSTAMP:20260420T090528
CREATED:20230628T140541Z
LAST-MODIFIED:20230628T140915Z
UID:10001763-1689256800-1689267600@crocoule.org
SUMMARY:Pêche au coup
DESCRIPTION:Pêche au coup\nDécouverte de la pêche au coup à l’étang du Villard avec Sylvain Béal (Despeches.com) animateur professionnel et diplômé\, en partenariat avec l’AAPPMA des 2 eaux . Réservation à l’Office de Tourisme Marches du Velay Rochebaron. \nLe matériel et les appâts sont fournis ainsi que le droit de pêche durant l’animation. A partir de 8 ans. \nLa pêche \nTout d’abord\, la pêche est une activité millénaire qui fascine les Hommes depuis des générations. En effet\, que ce soit en eau douce ou en mer\, la pêche offre une opportunité unique de se connecter à la nature et de se plonger dans un environnement paisible. En effet\, armé d’une canne à pêche et d’une patience infinie\, le pêcheur recherche l’excitation d’une prise. Mais trouve également la tranquillité dans le rythme apaisant de lancer et de ramener sa ligne. \nLa pêche est bien plus qu’un simple loisir\, c’est un art qui demande de la connaissance\, de la technique et un profond respect pour l’équilibre fragile des écosystèmes aquatiques. C’est un moyen de s’évader du tumulte de la vie quotidienne\, de se reconnecter à soi-même et de savourer l’instant présent. Que l’on pratique la pêche sportive ou la pêche traditionnelle\, c’est une activité qui unit les passionnés\, transmettant des valeurs de patience\, de persévérance et de respect de la nature. \nAdresse : \nVillard\n43600 Sainte-Sigolène \n\n\n	Similaire
URL:https://crocoule.org/notre-evenement/peche-au-coup/
LOCATION:Sainte-Sigolène
CATEGORIES:08 ans +
END:VEVENT
END:VCALENDAR