BEGIN:VCALENDAR
VERSION:2.0
PRODID:-//Crocoule - ECPv6.15.15//NONSGML v1.0//EN
CALSCALE:GREGORIAN
METHOD:PUBLISH
X-ORIGINAL-URL:https://crocoule.org
X-WR-CALDESC:Évènements pour Crocoule
REFRESH-INTERVAL;VALUE=DURATION:PT1H
X-Robots-Tag:noindex
X-PUBLISHED-TTL:PT1H
BEGIN:VTIMEZONE
TZID:Europe/Paris
BEGIN:DAYLIGHT
TZOFFSETFROM:+0100
TZOFFSETTO:+0200
TZNAME:CEST
DTSTART:20230326T010000
END:DAYLIGHT
BEGIN:STANDARD
TZOFFSETFROM:+0200
TZOFFSETTO:+0100
TZNAME:CET
DTSTART:20231029T010000
END:STANDARD
BEGIN:DAYLIGHT
TZOFFSETFROM:+0100
TZOFFSETTO:+0200
TZNAME:CEST
DTSTART:20240331T010000
END:DAYLIGHT
BEGIN:STANDARD
TZOFFSETFROM:+0200
TZOFFSETTO:+0100
TZNAME:CET
DTSTART:20241027T010000
END:STANDARD
BEGIN:DAYLIGHT
TZOFFSETFROM:+0100
TZOFFSETTO:+0200
TZNAME:CEST
DTSTART:20250330T010000
END:DAYLIGHT
BEGIN:STANDARD
TZOFFSETFROM:+0200
TZOFFSETTO:+0100
TZNAME:CET
DTSTART:20251026T010000
END:STANDARD
END:VTIMEZONE
BEGIN:VEVENT
DTSTART;TZID=Europe/Paris:20240828T140000
DTEND;TZID=Europe/Paris:20240828T160000
DTSTAMP:20260421T100531
CREATED:20240613T171920Z
LAST-MODIFIED:20240613T171920Z
UID:10008188-1724853600-1724860800@crocoule.org
SUMMARY:Les mercredis nature - balade en famille
DESCRIPTION:Les mercredis nature – balade en famille\n\nViens explorer la nature\, comprendre l’histoire des Hautes-Chaumes et découvrir une biodiversité exceptionnelle ! Découvrez en famille les trésors naturalistes des Monts du Forez\, à travers des ateliers et autres créations\, activités et jeux. \nRDV Mairie de Saint-Sauvain – Dès 4 ans – Gratuit. \nSi ton regard se pose sur ces mots c’est que toi aussi tu fais partie de la Haute Congrégation des Super Parents (HCSP : rien que ça !  ????) investis en quête d’idées de sorties familiales dans la Loire et la Haute-Loire pour son/ses bambin(s) ! \nTu ne me crois pas ? Si si\, promis Bienvenue et toutes mes Félicitations ! Tu es sur la bonne page … Et je vais te le prouver ! Tu es prêt ? Allez\, viens je t’emmène au fil des pages du Crocoule ! \nTout d’abord\, Le Crocoule Magazine c’est quoi ? Le Crocoule\, papier ou web\, c’est LE magazine qui porte en lui la douceur et la bienveillance dont tu as besoin en tant que parent et qui facilite tes recherches d’activités loisirs\, culturelles\, nature pour tous les budgets et tous les goûts ! Et ça c’est une promesse ? Tu veux en savoir +\, suis moi par ici ! \nEt ce n’est pas tout … Si tu as soif d’aventure Le Crocoule Express est fait pour toi !\n  \n\n\n	Similaire
URL:https://crocoule.org/notre-evenement/les-mercredis-nature-balade-en-famille/2024-08-28/
LOCATION:Saint-Sauvain\, 17 boulevard de la Préfecture.\, Saint-Sauvain\, 42990
CATEGORIES:04 ans +,Activité pendant les vacances,En famille,Exterieur,Gratuit,Jeune Public,Tous les événements
END:VEVENT
BEGIN:VEVENT
DTSTART;TZID=Europe/Paris:20240821T140000
DTEND;TZID=Europe/Paris:20240821T160000
DTSTAMP:20260421T100531
CREATED:20240613T171920Z
LAST-MODIFIED:20240613T171920Z
UID:10008187-1724248800-1724256000@crocoule.org
SUMMARY:Les mercredis nature - balade en famille
DESCRIPTION:Les mercredis nature – balade en famille\n\nViens explorer la nature\, comprendre l’histoire des Hautes-Chaumes et découvrir une biodiversité exceptionnelle ! Découvrez en famille les trésors naturalistes des Monts du Forez\, à travers des ateliers et autres créations\, activités et jeux. \nRDV Mairie de Saint-Sauvain – Dès 4 ans – Gratuit. \nSi ton regard se pose sur ces mots c’est que toi aussi tu fais partie de la Haute Congrégation des Super Parents (HCSP : rien que ça !  ????) investis en quête d’idées de sorties familiales dans la Loire et la Haute-Loire pour son/ses bambin(s) ! \nTu ne me crois pas ? Si si\, promis Bienvenue et toutes mes Félicitations ! Tu es sur la bonne page … Et je vais te le prouver ! Tu es prêt ? Allez\, viens je t’emmène au fil des pages du Crocoule ! \nTout d’abord\, Le Crocoule Magazine c’est quoi ? Le Crocoule\, papier ou web\, c’est LE magazine qui porte en lui la douceur et la bienveillance dont tu as besoin en tant que parent et qui facilite tes recherches d’activités loisirs\, culturelles\, nature pour tous les budgets et tous les goûts ! Et ça c’est une promesse ? Tu veux en savoir +\, suis moi par ici ! \nEt ce n’est pas tout … Si tu as soif d’aventure Le Crocoule Express est fait pour toi !\n  \n\n\n	Similaire
URL:https://crocoule.org/notre-evenement/les-mercredis-nature-balade-en-famille/2024-08-21/
LOCATION:Saint-Sauvain\, 17 boulevard de la Préfecture.\, Saint-Sauvain\, 42990
CATEGORIES:04 ans +,Activité pendant les vacances,En famille,Exterieur,Gratuit,Jeune Public,Tous les événements
END:VEVENT
BEGIN:VEVENT
DTSTART;TZID=Europe/Paris:20240814T140000
DTEND;TZID=Europe/Paris:20240814T160000
DTSTAMP:20260421T100531
CREATED:20240613T171920Z
LAST-MODIFIED:20240613T171920Z
UID:10008186-1723644000-1723651200@crocoule.org
SUMMARY:Les mercredis nature - balade en famille
DESCRIPTION:Les mercredis nature – balade en famille\n\nViens explorer la nature\, comprendre l’histoire des Hautes-Chaumes et découvrir une biodiversité exceptionnelle ! Découvrez en famille les trésors naturalistes des Monts du Forez\, à travers des ateliers et autres créations\, activités et jeux. \nRDV Mairie de Saint-Sauvain – Dès 4 ans – Gratuit. \nSi ton regard se pose sur ces mots c’est que toi aussi tu fais partie de la Haute Congrégation des Super Parents (HCSP : rien que ça !  ????) investis en quête d’idées de sorties familiales dans la Loire et la Haute-Loire pour son/ses bambin(s) ! \nTu ne me crois pas ? Si si\, promis Bienvenue et toutes mes Félicitations ! Tu es sur la bonne page … Et je vais te le prouver ! Tu es prêt ? Allez\, viens je t’emmène au fil des pages du Crocoule ! \nTout d’abord\, Le Crocoule Magazine c’est quoi ? Le Crocoule\, papier ou web\, c’est LE magazine qui porte en lui la douceur et la bienveillance dont tu as besoin en tant que parent et qui facilite tes recherches d’activités loisirs\, culturelles\, nature pour tous les budgets et tous les goûts ! Et ça c’est une promesse ? Tu veux en savoir +\, suis moi par ici ! \nEt ce n’est pas tout … Si tu as soif d’aventure Le Crocoule Express est fait pour toi !\n  \n\n\n	Similaire
URL:https://crocoule.org/notre-evenement/les-mercredis-nature-balade-en-famille/2024-08-14/
LOCATION:Saint-Sauvain\, 17 boulevard de la Préfecture.\, Saint-Sauvain\, 42990
CATEGORIES:04 ans +,Activité pendant les vacances,En famille,Exterieur,Gratuit,Jeune Public,Tous les événements
END:VEVENT
BEGIN:VEVENT
DTSTART;TZID=Europe/Paris:20240807T140000
DTEND;TZID=Europe/Paris:20240807T160000
DTSTAMP:20260421T100531
CREATED:20240613T171920Z
LAST-MODIFIED:20240613T171920Z
UID:10008185-1723039200-1723046400@crocoule.org
SUMMARY:Les mercredis nature - balade en famille
DESCRIPTION:Les mercredis nature – balade en famille\n\nViens explorer la nature\, comprendre l’histoire des Hautes-Chaumes et découvrir une biodiversité exceptionnelle ! Découvrez en famille les trésors naturalistes des Monts du Forez\, à travers des ateliers et autres créations\, activités et jeux. \nRDV Mairie de Saint-Sauvain – Dès 4 ans – Gratuit. \nSi ton regard se pose sur ces mots c’est que toi aussi tu fais partie de la Haute Congrégation des Super Parents (HCSP : rien que ça !  ????) investis en quête d’idées de sorties familiales dans la Loire et la Haute-Loire pour son/ses bambin(s) ! \nTu ne me crois pas ? Si si\, promis Bienvenue et toutes mes Félicitations ! Tu es sur la bonne page … Et je vais te le prouver ! Tu es prêt ? Allez\, viens je t’emmène au fil des pages du Crocoule ! \nTout d’abord\, Le Crocoule Magazine c’est quoi ? Le Crocoule\, papier ou web\, c’est LE magazine qui porte en lui la douceur et la bienveillance dont tu as besoin en tant que parent et qui facilite tes recherches d’activités loisirs\, culturelles\, nature pour tous les budgets et tous les goûts ! Et ça c’est une promesse ? Tu veux en savoir +\, suis moi par ici ! \nEt ce n’est pas tout … Si tu as soif d’aventure Le Crocoule Express est fait pour toi !\n  \n\n\n	Similaire
URL:https://crocoule.org/notre-evenement/les-mercredis-nature-balade-en-famille/2024-08-07/
LOCATION:Saint-Sauvain\, 17 boulevard de la Préfecture.\, Saint-Sauvain\, 42990
CATEGORIES:04 ans +,Activité pendant les vacances,En famille,Exterieur,Gratuit,Jeune Public,Tous les événements
END:VEVENT
BEGIN:VEVENT
DTSTART;TZID=Europe/Paris:20240731T140000
DTEND;TZID=Europe/Paris:20240731T160000
DTSTAMP:20260421T100531
CREATED:20240613T171920Z
LAST-MODIFIED:20240613T171920Z
UID:10008184-1722434400-1722441600@crocoule.org
SUMMARY:Les mercredis nature - balade en famille
DESCRIPTION:Les mercredis nature – balade en famille\n\nViens explorer la nature\, comprendre l’histoire des Hautes-Chaumes et découvrir une biodiversité exceptionnelle ! Découvrez en famille les trésors naturalistes des Monts du Forez\, à travers des ateliers et autres créations\, activités et jeux. \nRDV Mairie de Saint-Sauvain – Dès 4 ans – Gratuit. \nSi ton regard se pose sur ces mots c’est que toi aussi tu fais partie de la Haute Congrégation des Super Parents (HCSP : rien que ça !  ????) investis en quête d’idées de sorties familiales dans la Loire et la Haute-Loire pour son/ses bambin(s) ! \nTu ne me crois pas ? Si si\, promis Bienvenue et toutes mes Félicitations ! Tu es sur la bonne page … Et je vais te le prouver ! Tu es prêt ? Allez\, viens je t’emmène au fil des pages du Crocoule ! \nTout d’abord\, Le Crocoule Magazine c’est quoi ? Le Crocoule\, papier ou web\, c’est LE magazine qui porte en lui la douceur et la bienveillance dont tu as besoin en tant que parent et qui facilite tes recherches d’activités loisirs\, culturelles\, nature pour tous les budgets et tous les goûts ! Et ça c’est une promesse ? Tu veux en savoir +\, suis moi par ici ! \nEt ce n’est pas tout … Si tu as soif d’aventure Le Crocoule Express est fait pour toi !\n  \n\n\n	Similaire
URL:https://crocoule.org/notre-evenement/les-mercredis-nature-balade-en-famille/2024-07-31/
LOCATION:Saint-Sauvain\, 17 boulevard de la Préfecture.\, Saint-Sauvain\, 42990
CATEGORIES:04 ans +,Activité pendant les vacances,En famille,Exterieur,Gratuit,Jeune Public,Tous les événements
END:VEVENT
BEGIN:VEVENT
DTSTART;TZID=Europe/Paris:20240724T140000
DTEND;TZID=Europe/Paris:20240724T160000
DTSTAMP:20260421T100531
CREATED:20240613T171920Z
LAST-MODIFIED:20240613T171920Z
UID:10008183-1721829600-1721836800@crocoule.org
SUMMARY:Les mercredis nature - balade en famille
DESCRIPTION:Les mercredis nature – balade en famille\n\nViens explorer la nature\, comprendre l’histoire des Hautes-Chaumes et découvrir une biodiversité exceptionnelle ! Découvrez en famille les trésors naturalistes des Monts du Forez\, à travers des ateliers et autres créations\, activités et jeux. \nRDV Mairie de Saint-Sauvain – Dès 4 ans – Gratuit. \nSi ton regard se pose sur ces mots c’est que toi aussi tu fais partie de la Haute Congrégation des Super Parents (HCSP : rien que ça !  ????) investis en quête d’idées de sorties familiales dans la Loire et la Haute-Loire pour son/ses bambin(s) ! \nTu ne me crois pas ? Si si\, promis Bienvenue et toutes mes Félicitations ! Tu es sur la bonne page … Et je vais te le prouver ! Tu es prêt ? Allez\, viens je t’emmène au fil des pages du Crocoule ! \nTout d’abord\, Le Crocoule Magazine c’est quoi ? Le Crocoule\, papier ou web\, c’est LE magazine qui porte en lui la douceur et la bienveillance dont tu as besoin en tant que parent et qui facilite tes recherches d’activités loisirs\, culturelles\, nature pour tous les budgets et tous les goûts ! Et ça c’est une promesse ? Tu veux en savoir +\, suis moi par ici ! \nEt ce n’est pas tout … Si tu as soif d’aventure Le Crocoule Express est fait pour toi !\n  \n\n\n	Similaire
URL:https://crocoule.org/notre-evenement/les-mercredis-nature-balade-en-famille/2024-07-24/
LOCATION:Saint-Sauvain\, 17 boulevard de la Préfecture.\, Saint-Sauvain\, 42990
CATEGORIES:04 ans +,Activité pendant les vacances,En famille,Exterieur,Gratuit,Jeune Public,Tous les événements
END:VEVENT
BEGIN:VEVENT
DTSTART;TZID=Europe/Paris:20240717T140000
DTEND;TZID=Europe/Paris:20240717T160000
DTSTAMP:20260421T100531
CREATED:20240613T171920Z
LAST-MODIFIED:20240613T171920Z
UID:10008182-1721224800-1721232000@crocoule.org
SUMMARY:Les mercredis nature - balade en famille
DESCRIPTION:Les mercredis nature – balade en famille\n\nViens explorer la nature\, comprendre l’histoire des Hautes-Chaumes et découvrir une biodiversité exceptionnelle ! Découvrez en famille les trésors naturalistes des Monts du Forez\, à travers des ateliers et autres créations\, activités et jeux. \nRDV Mairie de Saint-Sauvain – Dès 4 ans – Gratuit. \nSi ton regard se pose sur ces mots c’est que toi aussi tu fais partie de la Haute Congrégation des Super Parents (HCSP : rien que ça !  ????) investis en quête d’idées de sorties familiales dans la Loire et la Haute-Loire pour son/ses bambin(s) ! \nTu ne me crois pas ? Si si\, promis Bienvenue et toutes mes Félicitations ! Tu es sur la bonne page … Et je vais te le prouver ! Tu es prêt ? Allez\, viens je t’emmène au fil des pages du Crocoule ! \nTout d’abord\, Le Crocoule Magazine c’est quoi ? Le Crocoule\, papier ou web\, c’est LE magazine qui porte en lui la douceur et la bienveillance dont tu as besoin en tant que parent et qui facilite tes recherches d’activités loisirs\, culturelles\, nature pour tous les budgets et tous les goûts ! Et ça c’est une promesse ? Tu veux en savoir +\, suis moi par ici ! \nEt ce n’est pas tout … Si tu as soif d’aventure Le Crocoule Express est fait pour toi !\n  \n\n\n	Similaire
URL:https://crocoule.org/notre-evenement/les-mercredis-nature-balade-en-famille/2024-07-17/
LOCATION:Saint-Sauvain\, 17 boulevard de la Préfecture.\, Saint-Sauvain\, 42990
CATEGORIES:04 ans +,Activité pendant les vacances,En famille,Exterieur,Gratuit,Jeune Public,Tous les événements
END:VEVENT
BEGIN:VEVENT
DTSTART;TZID=Europe/Paris:20240710T140000
DTEND;TZID=Europe/Paris:20240710T160000
DTSTAMP:20260421T100531
CREATED:20240613T171920Z
LAST-MODIFIED:20240613T171920Z
UID:10008181-1720620000-1720627200@crocoule.org
SUMMARY:Les mercredis nature - balade en famille
DESCRIPTION:Les mercredis nature – balade en famille\n\nViens explorer la nature\, comprendre l’histoire des Hautes-Chaumes et découvrir une biodiversité exceptionnelle ! Découvrez en famille les trésors naturalistes des Monts du Forez\, à travers des ateliers et autres créations\, activités et jeux. \nRDV Mairie de Saint-Sauvain – Dès 4 ans – Gratuit. \nSi ton regard se pose sur ces mots c’est que toi aussi tu fais partie de la Haute Congrégation des Super Parents (HCSP : rien que ça !  ????) investis en quête d’idées de sorties familiales dans la Loire et la Haute-Loire pour son/ses bambin(s) ! \nTu ne me crois pas ? Si si\, promis Bienvenue et toutes mes Félicitations ! Tu es sur la bonne page … Et je vais te le prouver ! Tu es prêt ? Allez\, viens je t’emmène au fil des pages du Crocoule ! \nTout d’abord\, Le Crocoule Magazine c’est quoi ? Le Crocoule\, papier ou web\, c’est LE magazine qui porte en lui la douceur et la bienveillance dont tu as besoin en tant que parent et qui facilite tes recherches d’activités loisirs\, culturelles\, nature pour tous les budgets et tous les goûts ! Et ça c’est une promesse ? Tu veux en savoir +\, suis moi par ici ! \nEt ce n’est pas tout … Si tu as soif d’aventure Le Crocoule Express est fait pour toi !\n  \n\n\n	Similaire
URL:https://crocoule.org/notre-evenement/les-mercredis-nature-balade-en-famille/2024-07-10/
LOCATION:Saint-Sauvain\, 17 boulevard de la Préfecture.\, Saint-Sauvain\, 42990
CATEGORIES:04 ans +,Activité pendant les vacances,En famille,Exterieur,Gratuit,Jeune Public,Tous les événements
END:VEVENT
BEGIN:VEVENT
DTSTART;TZID=Europe/Paris:20240703T140000
DTEND;TZID=Europe/Paris:20240703T160000
DTSTAMP:20260421T100531
CREATED:20240613T171920Z
LAST-MODIFIED:20240613T171920Z
UID:10008180-1720015200-1720022400@crocoule.org
SUMMARY:Les mercredis nature - balade en famille
DESCRIPTION:Les mercredis nature – balade en famille\n\nViens explorer la nature\, comprendre l’histoire des Hautes-Chaumes et découvrir une biodiversité exceptionnelle ! Découvrez en famille les trésors naturalistes des Monts du Forez\, à travers des ateliers et autres créations\, activités et jeux. \nRDV Mairie de Saint-Sauvain – Dès 4 ans – Gratuit. \nSi ton regard se pose sur ces mots c’est que toi aussi tu fais partie de la Haute Congrégation des Super Parents (HCSP : rien que ça !  ????) investis en quête d’idées de sorties familiales dans la Loire et la Haute-Loire pour son/ses bambin(s) ! \nTu ne me crois pas ? Si si\, promis Bienvenue et toutes mes Félicitations ! Tu es sur la bonne page … Et je vais te le prouver ! Tu es prêt ? Allez\, viens je t’emmène au fil des pages du Crocoule ! \nTout d’abord\, Le Crocoule Magazine c’est quoi ? Le Crocoule\, papier ou web\, c’est LE magazine qui porte en lui la douceur et la bienveillance dont tu as besoin en tant que parent et qui facilite tes recherches d’activités loisirs\, culturelles\, nature pour tous les budgets et tous les goûts ! Et ça c’est une promesse ? Tu veux en savoir +\, suis moi par ici ! \nEt ce n’est pas tout … Si tu as soif d’aventure Le Crocoule Express est fait pour toi !\n  \n\n\n	Similaire
URL:https://crocoule.org/notre-evenement/les-mercredis-nature-balade-en-famille/2024-07-03/
LOCATION:Saint-Sauvain\, 17 boulevard de la Préfecture.\, Saint-Sauvain\, 42990
CATEGORIES:04 ans +,Activité pendant les vacances,En famille,Exterieur,Gratuit,Jeune Public,Tous les événements
END:VEVENT
END:VCALENDAR